BEGIN:VCALENDAR
VERSION:2.0
PRODID:-//Events - ECPv6.15.20//NONSGML v1.0//EN
CALSCALE:GREGORIAN
METHOD:PUBLISH
X-ORIGINAL-URL:https://events.ucsc.edu
X-WR-CALDESC:Events for Events
REFRESH-INTERVAL;VALUE=DURATION:PT1H
X-Robots-Tag:noindex
X-PUBLISHED-TTL:PT1H
BEGIN:VTIMEZONE
TZID:America/Los_Angeles
BEGIN:DAYLIGHT
TZOFFSETFROM:-0800
TZOFFSETTO:-0700
TZNAME:PDT
DTSTART:20240310T100000
END:DAYLIGHT
BEGIN:STANDARD
TZOFFSETFROM:-0700
TZOFFSETTO:-0800
TZNAME:PST
DTSTART:20241103T090000
END:STANDARD
BEGIN:DAYLIGHT
TZOFFSETFROM:-0800
TZOFFSETTO:-0700
TZNAME:PDT
DTSTART:20250309T100000
END:DAYLIGHT
BEGIN:STANDARD
TZOFFSETFROM:-0700
TZOFFSETTO:-0800
TZNAME:PST
DTSTART:20251102T090000
END:STANDARD
BEGIN:DAYLIGHT
TZOFFSETFROM:-0800
TZOFFSETTO:-0700
TZNAME:PDT
DTSTART:20260308T100000
END:DAYLIGHT
BEGIN:STANDARD
TZOFFSETFROM:-0700
TZOFFSETTO:-0800
TZNAME:PST
DTSTART:20261101T090000
END:STANDARD
END:VTIMEZONE
BEGIN:VEVENT
DTSTART;TZID=America/Los_Angeles:20250813T100000
DTEND;TZID=America/Los_Angeles:20250813T100000
DTSTAMP:20260421T080052
CREATED:20250805T070000Z
LAST-MODIFIED:20250925T231428Z
UID:10000089-1755079200-1755079200@events.ucsc.edu
SUMMARY:Interested in a paralegal career?
DESCRIPTION:You are invited to join a free\, online informational session to learn more about the Center for Legal Studies Paralegal Certificate Course©\, a professional education program taught through the UCSC Silicon Valley Extension Paralegal Studies program. \nTopics \n\n\nCareer growth and earning potential \n\n\nAn overview of how CLS works with accredited college and university partners \n\n\nCourse pricing and payment options \n\n\nCourse materials and textbooks \n\n\nInstructor and peer/student interactions \n\n\nHow the online course works \n\n\n\nQ&A: There will be 15 minutes dedicated to Q&A\, so please bring any questions you might have.  \nRegister to receive the event recording \nIf you are unable to attend the webinar at this date and time\, please still register and the BARBRI team will send out the recorded webinar for you to view. \nThis event is co-sponsored by the UCSC Silicon Valley Professional Education Legal Studies program.
URL:https://events.ucsc.edu/event/interested-in-a-paralegal-career-8312/
CATEGORIES:Lectures & Presentations,Training
END:VEVENT
BEGIN:VEVENT
DTSTART;TZID=America/Los_Angeles:20250813T100000
DTEND;TZID=America/Los_Angeles:20250813T100000
DTSTAMP:20260421T080052
CREATED:20250806T070000Z
LAST-MODIFIED:20250925T231625Z
UID:10000092-1755079200-1755079200@events.ucsc.edu
SUMMARY:Asefi\, N. (ECE) - Generative Lagrangian Data Assimilation for Ocean Dynamics under Extreme Sparsity
DESCRIPTION:Reconstructing ocean dynamics from observational data is fundamentally limited by the sparse\, irregular\, and Lagrangian nature of spatial sampling\, particularly in subsurface and remote regions. This sparsity poses significant challenges for forecasting key phenomena such as eddy shedding and rogue waves. Traditional data assimilation methods and deep learning models often struggle to recover mesoscale turbulence under such constraints. We leverage a deep learning framework that combines neural operators with denoising diffusion probabilistic models (DDPMs) to reconstruct high-resolution ocean states from extremely sparse Lagrangian observations. By conditioning the generative model on neural operator outputs\, the framework accurately captures small-scale\, high-wavenumber dynamics even at $99%$ sparsity (for synthetic data) and $99.9%$ sparsity (for real satellite observations). We validate our method on benchmark systems\, synthetic float observations\, and real satellite data\, demonstrating robust performance under severe spatial sampling limitations as compared to other deep learning baselines. \nEvent Host: Niloofar Asefi\, PhD Student\, Electrical & Computer Engineering \nAdvisor: Ashesh Chattopadhyay
URL:https://events.ucsc.edu/event/asefi-n-ece-generative-lagrangian-data-assimilation-for-ocean-dynamics-under-extreme-sparsity/
LOCATION:Engineering 2\, Engineering 2 1156 High Street\, Santa Cruz\, CA\, 95064
GEO:37.0009723;-122.0632371
X-APPLE-STRUCTURED-LOCATION;VALUE=URI;X-ADDRESS=Engineering 2 Engineering 2 1156 High Street Santa Cruz CA 95064;X-APPLE-RADIUS=500;X-TITLE=Engineering 2 1156 High Street:geo:-122.0632371,37.0009723
END:VEVENT
BEGIN:VEVENT
DTSTART;TZID=America/Los_Angeles:20250813T120000
DTEND;TZID=America/Los_Angeles:20250813T120000
DTSTAMP:20260421T080052
CREATED:20250924T212032Z
LAST-MODIFIED:20250924T212032Z
UID:10000047-1755086400-1755086400@events.ucsc.edu
SUMMARY:Lunch & Learn: Onboarding Graduate Students for Research
DESCRIPTION:Join colleagues from the Office of Research Compliance Administration and Baskin Engineering on August 13\, 12-1 p.m.\, for a practical overview of onboarding graduate students in their role as researchers. This session will cover key institutional requirements needed before students begin research activities. Speakers will highlight common pitfalls\, share best practices\, and offer strategies to set students up for success.
URL:https://events.ucsc.edu/event/lunch-learn-onboarding-graduate-students-for-research/
CATEGORIES:Training
END:VEVENT
END:VCALENDAR