BEGIN:VCALENDAR
VERSION:2.0
PRODID:-//Events - ECPv6.15.20//NONSGML v1.0//EN
CALSCALE:GREGORIAN
METHOD:PUBLISH
X-ORIGINAL-URL:https://events.ucsc.edu
X-WR-CALDESC:Events for Events
REFRESH-INTERVAL;VALUE=DURATION:PT1H
X-Robots-Tag:noindex
X-PUBLISHED-TTL:PT1H
BEGIN:VTIMEZONE
TZID:America/Los_Angeles
BEGIN:DAYLIGHT
TZOFFSETFROM:-0800
TZOFFSETTO:-0700
TZNAME:PDT
DTSTART:20240310T100000
END:DAYLIGHT
BEGIN:STANDARD
TZOFFSETFROM:-0700
TZOFFSETTO:-0800
TZNAME:PST
DTSTART:20241103T090000
END:STANDARD
BEGIN:DAYLIGHT
TZOFFSETFROM:-0800
TZOFFSETTO:-0700
TZNAME:PDT
DTSTART:20250309T100000
END:DAYLIGHT
BEGIN:STANDARD
TZOFFSETFROM:-0700
TZOFFSETTO:-0800
TZNAME:PST
DTSTART:20251102T090000
END:STANDARD
BEGIN:DAYLIGHT
TZOFFSETFROM:-0800
TZOFFSETTO:-0700
TZNAME:PDT
DTSTART:20260308T100000
END:DAYLIGHT
BEGIN:STANDARD
TZOFFSETFROM:-0700
TZOFFSETTO:-0800
TZNAME:PST
DTSTART:20261101T090000
END:STANDARD
END:VTIMEZONE
BEGIN:VEVENT
DTSTART;TZID=America/Los_Angeles:20251007T090000
DTEND;TZID=America/Los_Angeles:20251007T170000
DTSTAMP:20260421T003747
CREATED:20250121T080000Z
LAST-MODIFIED:20260112T233109Z
UID:10008366-1759827600-1759856400@events.ucsc.edu
SUMMARY:Community Day: Free Admission at the Arboretum
DESCRIPTION:The first Tuesday of each month\, the Arboretum is open without charge to visitors. See dates and times UC Santa Cruz Arboretum & Botanic Garden is open. NOTE: Due to limited parking at the Arboretum and the popularity of Community Day\, we greatly encourage visitors to carpool\, bike\, walk or use public transportation as much as possible.
URL:https://events.ucsc.edu/event/community-day-free-admission-at-the-arboretum/2025-10-07/
LOCATION:Arboretum\, 122 Arboretum Road\, Santa Cruz\, CA\, 95064
ATTACH;FMTTYPE=image/jpeg:https://events.ucsc.edu/wp-content/uploads/2025/09/c3b9429d729523dcc42d038836e730c059ee9cde.jpg
GEO:36.9838652;-122.0609079
X-APPLE-STRUCTURED-LOCATION;VALUE=URI;X-ADDRESS=Arboretum 122 Arboretum Road Santa Cruz CA 95064;X-APPLE-RADIUS=500;X-TITLE=122 Arboretum Road:geo:-122.0609079,36.9838652
END:VEVENT
BEGIN:VEVENT
DTSTART;TZID=America/Los_Angeles:20251007T120000
DTEND;TZID=America/Los_Angeles:20251007T170000
DTSTAMP:20260421T003747
CREATED:20251003T174320Z
LAST-MODIFIED:20251003T192055Z
UID:10000722-1759838400-1759856400@events.ucsc.edu
SUMMARY:Road Trip! Light in the American West\, from Baja to the Yukon
DESCRIPTION:The photographs in this exhibition\, made between 2004 and 2025\, span across the American West from the Baja California Peninsula in Mexico to The Yukon territory in Canada. Paul Schoellhamer’s (Cowell ‘69) color photographs invite us to travel with him and reflect on our relationship to land\, the light that shapes it\, and the freedom – contested but essential – to move across it. \nThe exhibition draws on voices across time and perspective that frame the American landscape as more than a stage for beauty and awe. For Chief Satanta of the Kiowa Nation\, to roam the land freely was life itself. For N. Scott Momaday\, land must be “believed to be seen.” For Eliot Porter\, light and reflection imparted magic to Glen Canyon’s waters. For Wallace Stegner\, saving natural places meant saving fragments of our collective sanity. For Brook M. Thompson\, the Klamath River is recognized with personhood. Alongside these perspectives\, Paul’s images press us to see public land not as scenery to extract or aestheticize\, but as sustenance and history. Land is alive and contested. To see closely is not to linger on a romanticized vision of the American landscape\, but to reckon with responsibility: how we safeguard access\, how we imagine “wildness\,” and how we hold space for futures beyond our own. For Paul\, this exhibition is a call for students to encounter land and light firsthand and let those encounters be their teachers. \nOpening Reception\nOctober 4\, 2025\n1-4pm \n—– \nJoin us every Friday for Art Fridays.\nNo experience necessary. Supplies and snacks provided. \n\nSep 26 Snail Mail/Postcards\nOct 3 Souvenir Keychains\nOct 10 Stamp Magnets\nOct 17 Cyanotype Totebags/Pouches/Pencil cases\nOct 24 Candy Around The World Linocuts\nOct 31 Abstract Felt Collages\nNov 7 Phone Photos/Buttons\nNov 14 Travel Related Patches With Upcycled Materials\nNov 21 Thanksgiving Break! No Art Friday\nNov 28 Unexpected Landscape Surrealist Collage\n\nPlease note that the date and the project is subject to change.
URL:https://events.ucsc.edu/event/road-trip-light-in-the-american-west-from-baja-to-the-yukon/2025-10-07/
LOCATION:Eloise Pickard Smith Gallery\, 11 Cowell Service Rd\, Santa Cruz\, CA\, 95064
CATEGORIES:Exhibits
ATTACH;FMTTYPE=image/png:https://events.ucsc.edu/wp-content/uploads/2025/10/IMG_4150sm.png
GEO:36.996399;-122.0527221
X-APPLE-STRUCTURED-LOCATION;VALUE=URI;X-ADDRESS=Eloise Pickard Smith Gallery 11 Cowell Service Rd Santa Cruz CA 95064;X-APPLE-RADIUS=500;X-TITLE=11 Cowell Service Rd:geo:-122.0527221,36.996399
END:VEVENT
BEGIN:VEVENT
DTSTART;TZID=America/Los_Angeles:20251007T143000
DTEND;TZID=America/Los_Angeles:20251007T200000
DTSTAMP:20260421T003747
CREATED:20250909T070000Z
LAST-MODIFIED:20251002T202159Z
UID:10000155-1759847400-1759867200@events.ucsc.edu
SUMMARY:US - India: Normalization or Reset?
DESCRIPTION:The US–India relationship stands at a crossroads balancing strategic pragmatism with shared democratic values. Recent tensions over trade\, tariffs\, and technology have raised questions about whether the partnership is being recalibrated or simply cooling. \nThe 8th annual AIMA US–India Conference examines how the two countries can review their priorities and either restore normalcy or redefine the relationship for a multipolar world. \nJoin thought leaders and decision-makers from across policy\, industry\, and academia where we’ll explore one of the world’s most consequential relationships at a moment of reassessment. As the global landscape shifts and new alliances emerge\, the conference examines how the US and India can navigate economic and strategic tensions while sustaining long-term cooperation. Key sessions will address AI governance\, global conflict dynamics\, and advances in human health and biotechnology. \nAgenda \n\n2:30 pm – Registration\n3–3:55 p.m. – Inaugural Session: US India: Normalisation or Reset?\nThis opening session explores recent shifts in US–India ties and the roots of friction. With global alliances in flux\, the discussion focuses on how leaders might reframe priorities\, manage divergence\, and steer the relationship toward strategic coherence.\n4–4:45 p.m. – Panel 1: The Great AI Race: Who Sets the Rules?\nAI is rapidly transforming global power dynamics. This session delves into the emerging competition over AI standards\, access to critical technologies\, and regulatory influence. Can the world agree on common frameworks before divides become entrenched?\n4:50–5:45 p.m. – Panel 2: War Games and Peace Plans: Geopolitics of a World on Edge\nIn an increasingly polarised world\, nations are turning to pressure and deterrence over diplomacy. This discussion looks at the fragility of global order\, the risks of escalating conflict\, and the role India and the US can play in rebalancing global cooperation.\n5:50 – 6:35 p.m. – Panel 3: Biohacking Human Health\nAs scientific understanding of genetics and immunology grows\, so does the possibility of extending not just life span but health span. The panel examines how AI\, genomics\, and metabolic science are converging to personalise and revolutionise human wellbeing.\n6:35 p.m. – Networking Reception\nAn opportunity for speakers and attendees to connect informally and continue the conversation.\n\nWho should attend \nThe conference will bring together policymakers\, business leaders\, entrepreneurs\, academics\, investors\, and senior professionals to explore new strategies for US–India cooperation in a fast-changing global landscape. \nRegistration \n\nPre-registration is mandatory\nSeats are limited and available on a first-come\, first-served basis
URL:https://events.ucsc.edu/event/8th-us-india-conference-us-india-normalization-or-reset/
LOCATION:Silicon Valley Campus\, 3175 Bowers Avenue\, Santa Clara\, CA\, 95054\, United States
CATEGORIES:Lectures & Presentations,Meetings & Conferences
ATTACH;FMTTYPE=image/jpeg:https://events.ucsc.edu/wp-content/uploads/2025/09/829bffa2ca19996d944d432ca8881d416a23f0c1.jpg
GEO:37.3796975;-121.9765484
X-APPLE-STRUCTURED-LOCATION;VALUE=URI;X-ADDRESS=Silicon Valley Campus 3175 Bowers Avenue Santa Clara CA 95054 United States;X-APPLE-RADIUS=500;X-TITLE=3175 Bowers Avenue:geo:-121.9765484,37.3796975
END:VEVENT
BEGIN:VEVENT
DTSTART;TZID=America/Los_Angeles:20251007T173000
DTEND;TZID=America/Los_Angeles:20251007T191500
DTSTAMP:20260421T003747
CREATED:20251015T204111Z
LAST-MODIFIED:20251015T204111Z
UID:10004824-1759858200-1759864500@events.ucsc.edu
SUMMARY:Yoga as Healing Series
DESCRIPTION:Yoga as Healing is an offering for students at UC Santa Cruz who identify as survivors of interpersonal violence. Together\, we will practice gentle body movement\, breathwork\, meditation\, and more—all from a trauma-informed lens. \nThis 7-week program is limited to 8–10 participants in each cohort and is intended to provide a safe and predictable environment for survivors to build community. \nAt the beginning of each session\, participants will have time to share their progress and personal experiences with the class. This will be followed by asana practice (physical postures)\, and the class will close with journaling\, art\, and reflection. \nCARE will provide yoga mats\, blocks\, and a blanket for each participant. You are encouraged to wear comfortable clothing and bring a water bottle for hydration. \nParticipants are welcome to join Yoga as Healing for any of the sessions; attendance at the orientation is not required. The sessions run from October 7 through November 25\, with no session on November 11. \nThis event is open to all UC Santa Cruz students. Fill out an interest form to sign up. 
URL:https://events.ucsc.edu/event/yoga-as-healing-series/2025-10-07/
LOCATION:Health Center (Student Health Center)\, 525 McLaughlin Drive\, Santa Cruz\, CA\, 95064
GEO:36.9996742;-122.0574675
X-APPLE-STRUCTURED-LOCATION;VALUE=URI;X-ADDRESS=Health Center (Student Health Center) 525 McLaughlin Drive Santa Cruz CA 95064;X-APPLE-RADIUS=500;X-TITLE=525 McLaughlin Drive:geo:-122.0574675,36.9996742
END:VEVENT
BEGIN:VEVENT
DTSTART;TZID=America/Los_Angeles:20251007T190000
DTEND;TZID=America/Los_Angeles:20251007T210000
DTSTAMP:20260421T003747
CREATED:20251007T095948Z
LAST-MODIFIED:20251126T171647Z
UID:10004316-1759863600-1759870800@events.ucsc.edu
SUMMARY:Drop-In Figure Drawing
DESCRIPTION:Drop-In Draw provides a live model and room monitor. There is no formal lesson and only dry media is allowed (no paints).\n—\nADVISORIES\n– These events contain mature content and nudity.\n– Drop-In Draw is subject to the possibility of last-minute cancellation without notification\, and sessions are not guaranteed.\n—\nADMISSION\n– FREE and open to the public\n– UCSC Art Department Room L-101\n—\nSCHEDULE OF EVENTS\nThis series occurs weekly on Tuesday evenings during fall quarter\, including the following:\n– Tue.\, Sep. 30\, 7:00–9:00 p.m.\n– Tue.\, Oct. 7\, 7:00–9:00 p.m.\n– Tue.\, Oct. 14\, 7:00–9:00 p.m.\n– Tue.\, Oct. 21\, 7:00–9:00 p.m.\n– Tue.\, Oct. 28\, 7:00–9:00 p.m.\n– Tue.\, Nov. 4\, 7:00–9:00 p.m.\n– Tue.\, Nov. 18\, 7:00–9:00 p.m.\n– Tue.\, Nov. 25\, 7:00–9:00 p.m. \nAdditional dates to be announced for winter and spring quarter.\n—\nPARKING\n– Parking by permit or ParkMobile.\n– Arts Lot #126 is the closest parking lot to the event.\n– Visitors with DMV placards or plates may park for free in DMV spaces\, Medical spaces\, or ParkMobile spaces without additional payment\, or in timed zones for longer than the posted time.\n– More information provided by UCSC Transportation & Parking Services (TAPS).\n—\nThis program is open to all members of the public consistent with state and federal law.
URL:https://events.ucsc.edu/event/drop-in-figure-drawing/2025-10-07/
LOCATION:Elena Baskin Visual Arts Center\, Baskin Service Road\, Santa Cruz\, CA\, 95064
CATEGORIES:Exhibits
ATTACH;FMTTYPE=image/jpeg:https://events.ucsc.edu/wp-content/uploads/2025/10/Drop-in-draw-image.jpg
GEO:36.9946557;-122.0606254
X-APPLE-STRUCTURED-LOCATION;VALUE=URI;X-ADDRESS=Elena Baskin Visual Arts Center Baskin Service Road Santa Cruz CA 95064;X-APPLE-RADIUS=500;X-TITLE=Baskin Service Road:geo:-122.0606254,36.9946557
END:VEVENT
END:VCALENDAR