BEGIN:VCALENDAR
VERSION:2.0
PRODID:-//Events - ECPv6.15.20//NONSGML v1.0//EN
CALSCALE:GREGORIAN
METHOD:PUBLISH
X-ORIGINAL-URL:https://events.ucsc.edu
X-WR-CALDESC:Events for Events
REFRESH-INTERVAL;VALUE=DURATION:PT1H
X-Robots-Tag:noindex
X-PUBLISHED-TTL:PT1H
BEGIN:VTIMEZONE
TZID:America/Los_Angeles
BEGIN:DAYLIGHT
TZOFFSETFROM:-0800
TZOFFSETTO:-0700
TZNAME:PDT
DTSTART:20240310T100000
END:DAYLIGHT
BEGIN:STANDARD
TZOFFSETFROM:-0700
TZOFFSETTO:-0800
TZNAME:PST
DTSTART:20241103T090000
END:STANDARD
BEGIN:DAYLIGHT
TZOFFSETFROM:-0800
TZOFFSETTO:-0700
TZNAME:PDT
DTSTART:20250309T100000
END:DAYLIGHT
BEGIN:STANDARD
TZOFFSETFROM:-0700
TZOFFSETTO:-0800
TZNAME:PST
DTSTART:20251102T090000
END:STANDARD
BEGIN:DAYLIGHT
TZOFFSETFROM:-0800
TZOFFSETTO:-0700
TZNAME:PDT
DTSTART:20260308T100000
END:DAYLIGHT
BEGIN:STANDARD
TZOFFSETFROM:-0700
TZOFFSETTO:-0800
TZNAME:PST
DTSTART:20261101T090000
END:STANDARD
END:VTIMEZONE
BEGIN:VEVENT
DTSTART;TZID=America/Los_Angeles:20251013T113000
DTEND;TZID=America/Los_Angeles:20251013T123000
DTSTAMP:20260420T124741
CREATED:20251008T235621Z
LAST-MODIFIED:20251008T235621Z
UID:10004395-1760355000-1760358600@events.ucsc.edu
SUMMARY:Successful Slug Workshop: Campus Community & Student Success
DESCRIPTION:Campus Community and Student Success\nMonday\, October 13\, 11:40 a.m.–12:25 p.m.\nLocation: ARCenter 203 \nDiscover ways to get involved on campus and learn how building community supports your success at UCSC. \nSuccessful Slug Workshop Series\nJoin Learning Support Services (LSS) for Successful Slug Workshops on Mondays at 11:40 a.m. and Wednesdays at 2:05 p.m. \nThese 45-minute workshops are open to all UCSC students and offer tools and strategies to support your academic success. Each session highlights best practices for effective\, long-lasting learning and is led by LSS professional staff. \nTo get first priority\, sign up on TutorHub or simply drop in. You can also sign up on TutorHub to receive email reminders. \nLearn more and sign up: learningsupport.ucsc.edu/programs/workshops/ \n  \nYou Belong Here: The programs and services described here are open to all\, consistent with state and federal law\, as well as the University of California’s nondiscrimination policies. Every initiative—whether a student service\, faculty program\, or community event—is designed to be accessible\, inclusive\, and respectful of all identities. \nTo learn more\, please visit UC Nondiscrimination Statement or Nondiscrimination Policy for UC Publications.
URL:https://events.ucsc.edu/event/successful-slug-workshop-campus-community-student-success/
LOCATION:Academic Resources Center (ARC)\, 408 McHenry Road\, Santa Cruz\, CA\, 95064
CATEGORIES:Workshop
ATTACH;FMTTYPE=image/png:https://events.ucsc.edu/wp-content/uploads/2025/10/Fall-SSW.png
GEO:36.9944159;-122.0593762
X-APPLE-STRUCTURED-LOCATION;VALUE=URI;X-ADDRESS=Academic Resources Center (ARC) 408 McHenry Road Santa Cruz CA 95064;X-APPLE-RADIUS=500;X-TITLE=408 McHenry Road:geo:-122.0593762,36.9944159
END:VEVENT
BEGIN:VEVENT
DTSTART;TZID=America/Los_Angeles:20251013T120000
DTEND;TZID=America/Los_Angeles:20251013T170000
DTSTAMP:20260420T124741
CREATED:20251003T174320Z
LAST-MODIFIED:20251003T192055Z
UID:10000727-1760356800-1760374800@events.ucsc.edu
SUMMARY:Road Trip! Light in the American West\, from Baja to the Yukon
DESCRIPTION:The photographs in this exhibition\, made between 2004 and 2025\, span across the American West from the Baja California Peninsula in Mexico to The Yukon territory in Canada. Paul Schoellhamer’s (Cowell ‘69) color photographs invite us to travel with him and reflect on our relationship to land\, the light that shapes it\, and the freedom – contested but essential – to move across it. \nThe exhibition draws on voices across time and perspective that frame the American landscape as more than a stage for beauty and awe. For Chief Satanta of the Kiowa Nation\, to roam the land freely was life itself. For N. Scott Momaday\, land must be “believed to be seen.” For Eliot Porter\, light and reflection imparted magic to Glen Canyon’s waters. For Wallace Stegner\, saving natural places meant saving fragments of our collective sanity. For Brook M. Thompson\, the Klamath River is recognized with personhood. Alongside these perspectives\, Paul’s images press us to see public land not as scenery to extract or aestheticize\, but as sustenance and history. Land is alive and contested. To see closely is not to linger on a romanticized vision of the American landscape\, but to reckon with responsibility: how we safeguard access\, how we imagine “wildness\,” and how we hold space for futures beyond our own. For Paul\, this exhibition is a call for students to encounter land and light firsthand and let those encounters be their teachers. \nOpening Reception\nOctober 4\, 2025\n1-4pm \n—– \nJoin us every Friday for Art Fridays.\nNo experience necessary. Supplies and snacks provided. \n\nSep 26 Snail Mail/Postcards\nOct 3 Souvenir Keychains\nOct 10 Stamp Magnets\nOct 17 Cyanotype Totebags/Pouches/Pencil cases\nOct 24 Candy Around The World Linocuts\nOct 31 Abstract Felt Collages\nNov 7 Phone Photos/Buttons\nNov 14 Travel Related Patches With Upcycled Materials\nNov 21 Thanksgiving Break! No Art Friday\nNov 28 Unexpected Landscape Surrealist Collage\n\nPlease note that the date and the project is subject to change.
URL:https://events.ucsc.edu/event/road-trip-light-in-the-american-west-from-baja-to-the-yukon/2025-10-13/
LOCATION:Eloise Pickard Smith Gallery\, 11 Cowell Service Rd\, Santa Cruz\, CA\, 95064
CATEGORIES:Exhibits
ATTACH;FMTTYPE=image/png:https://events.ucsc.edu/wp-content/uploads/2025/10/IMG_4150sm.png
GEO:36.996399;-122.0527221
X-APPLE-STRUCTURED-LOCATION;VALUE=URI;X-ADDRESS=Eloise Pickard Smith Gallery 11 Cowell Service Rd Santa Cruz CA 95064;X-APPLE-RADIUS=500;X-TITLE=11 Cowell Service Rd:geo:-122.0527221,36.996399
END:VEVENT
BEGIN:VEVENT
DTSTART;TZID=America/Los_Angeles:20251013T150000
DTEND;TZID=America/Los_Angeles:20251013T163000
DTSTAMP:20260420T124741
CREATED:20250924T070000Z
LAST-MODIFIED:20251010T224828Z
UID:10003144-1760367600-1760373000@events.ucsc.edu
SUMMARY:Orientation to Community Archiving
DESCRIPTION:Learn about the importance of preserving and documenting the history and culture of our community through archiving. \nWe will discuss how the rise of interest in Community Archives has transformed the way collective memories are curated\, capturing forgotten and suppressed voices\, reshaping our understanding of what archives are and how they function\, and challenging long-held assumptions about the role of professionals in mediating and sharing history. \nThe presenter\, Rebecca Hernandez\, is currently the inaugural Community Archivist at the UC Santa Cruz University Library\, where she collaborates with community members to preserve the rich history and cultural heritage of Santa Cruz County. Her academic background includes a PhD in American Studies\, MA in American Indian Studies\, and an MFA in Design. \nThis is a hybrid event\, with some space available in Humanities 2-259\, and a virtual option available. Please RSVP here to be added to the Google Calendar event.
URL:https://events.ucsc.edu/event/orientation-to-community-archiving-274/
LOCATION:Humanities and Social Sciences\, 420 Hagar Drive\, Santa Cruz\, CA\, 95064
CATEGORIES:Lectures & Presentations
GEO:36.9979834;-122.0555164
X-APPLE-STRUCTURED-LOCATION;VALUE=URI;X-ADDRESS=Humanities and Social Sciences 420 Hagar Drive Santa Cruz CA 95064;X-APPLE-RADIUS=500;X-TITLE=420 Hagar Drive:geo:-122.0555164,36.9979834
END:VEVENT
BEGIN:VEVENT
DTSTART;TZID=America/Los_Angeles:20251013T160000
DTEND;TZID=America/Los_Angeles:20251013T170000
DTSTAMP:20260420T124741
CREATED:20251010T173651Z
LAST-MODIFIED:20251010T173651Z
UID:10004556-1760371200-1760374800@events.ucsc.edu
SUMMARY:AM Seminar: Faculty Lightning Talk
DESCRIPTION:Join us for a fast-paced showcase of applied mathematics faculty research in this week’s AM Seminar\, featuring lightning talks that spotlight the department’s wide-ranging interests—from [astro and geo]-fluid dynamics and numerical methods to environmental sensing\, machine learning\, genetics\, and mathematical biology. Discover the innovative projects driving our community and learn about potential hands-on student research project opportunities that bridge theory\, computation\, and real-world impact.\n\n\nSpeakers include: Marcella Gomez\, Ashesh Chattopadhyay\, Pascale Garaud\, Dongwook Lee\, Nilah Ioannidis\, Nic Brummell\, Hongyun Wang\, Julie Simons\, Javier González-Rocha
URL:https://events.ucsc.edu/event/am-seminar-faculty-lightning-talk/
LOCATION:CA
CATEGORIES:Lectures & Presentations
ATTACH;FMTTYPE=image/png:https://events.ucsc.edu/wp-content/uploads/2025/10/option-3.png
END:VEVENT
BEGIN:VEVENT
DTSTART;TZID=America/Los_Angeles:20251013T183000
DTEND;TZID=America/Los_Angeles:20251013T183000
DTSTAMP:20260420T124741
CREATED:20250924T213318Z
LAST-MODIFIED:20251001T001206Z
UID:10000193-1760380200-1760380200@events.ucsc.edu
SUMMARY:October Slugs & Steins with Professor Kimberly Lau
DESCRIPTION:Race and the European Fairy Tale: The Making of a White Genre \n\n\n\nIn this talk\, Kimberly Lau offers intertwined readings of several cognate fairy tales that revolve around true and false brides\, beginning with Black slaves and white fairies in 17th-century Naples and tracing their evolution into (implicitly raced but unmarked) kind and unkind girls in 19th-century Germany. Through her readings\, Lau illustrates some of the ways that culturally specific\, historical ideas about race\, racial thinking\, and racism have contributed to the development of the European fairy tale as a genre as well as to the creation of the fairy tale’s enduringly white world.
URL:https://events.ucsc.edu/event/october-slugs-steins-with-professor-kimberly-lau/
LOCATION:CA
END:VEVENT
END:VCALENDAR