BEGIN:VCALENDAR
VERSION:2.0
PRODID:-//Events - ECPv6.15.20//NONSGML v1.0//EN
CALSCALE:GREGORIAN
METHOD:PUBLISH
X-WR-CALNAME:Events
X-ORIGINAL-URL:https://events.ucsc.edu
X-WR-CALDESC:Events for Events
REFRESH-INTERVAL;VALUE=DURATION:PT1H
X-Robots-Tag:noindex
X-PUBLISHED-TTL:PT1H
BEGIN:VTIMEZONE
TZID:America/Los_Angeles
BEGIN:DAYLIGHT
TZOFFSETFROM:-0800
TZOFFSETTO:-0700
TZNAME:PDT
DTSTART:20240310T100000
END:DAYLIGHT
BEGIN:STANDARD
TZOFFSETFROM:-0700
TZOFFSETTO:-0800
TZNAME:PST
DTSTART:20241103T090000
END:STANDARD
BEGIN:DAYLIGHT
TZOFFSETFROM:-0800
TZOFFSETTO:-0700
TZNAME:PDT
DTSTART:20250309T100000
END:DAYLIGHT
BEGIN:STANDARD
TZOFFSETFROM:-0700
TZOFFSETTO:-0800
TZNAME:PST
DTSTART:20251102T090000
END:STANDARD
BEGIN:DAYLIGHT
TZOFFSETFROM:-0800
TZOFFSETTO:-0700
TZNAME:PDT
DTSTART:20260308T100000
END:DAYLIGHT
BEGIN:STANDARD
TZOFFSETFROM:-0700
TZOFFSETTO:-0800
TZNAME:PST
DTSTART:20261101T090000
END:STANDARD
END:VTIMEZONE
BEGIN:VEVENT
DTSTART;TZID=America/Los_Angeles:20251103T080000
DTEND;TZID=America/Los_Angeles:20251214T170000
DTSTAMP:20260420T161452
CREATED:20251030T214038Z
LAST-MODIFIED:20251104T002854Z
UID:10005015-1762156800-1765731600@events.ucsc.edu
SUMMARY:Snow Wonder
DESCRIPTION:The Faculty & Staff Health and Well-being Program presents Snow Wonder\, a UC systemwide wellness challenge!  \nRegistration opens November 3 – November 24\nChallenge runs Monday\, November 17 – Sunday\, December 14 \nJoin this 2025 UC Snow Wonder Challenge! Picture yourself having a healthier\, happier holiday season. Form teams with your colleagues and motivate each other and celebrate your healthy habit accomplishments to end the year on a healthy high note and head into 2026 feeling your best! \nVisit the UCSC Snow Wonder webpage to learn more. Register to create a new account and choose UC Santa Cruz as your location. Please note that space for this challenge is limited\, so sign up early.
URL:https://events.ucsc.edu/event/snow-wonder/
LOCATION:CA
CATEGORIES:Social Gathering
ATTACH;FMTTYPE=image/jpeg:https://events.ucsc.edu/wp-content/uploads/2025/10/Snow-Wonder.jpg
END:VEVENT
BEGIN:VEVENT
DTSTART;TZID=America/Los_Angeles:20251104T090000
DTEND;TZID=America/Los_Angeles:20251104T170000
DTSTAMP:20260420T161452
CREATED:20250121T080000Z
LAST-MODIFIED:20260112T233109Z
UID:10008367-1762246800-1762275600@events.ucsc.edu
SUMMARY:Community Day: Free Admission at the Arboretum
DESCRIPTION:The first Tuesday of each month\, the Arboretum is open without charge to visitors. See dates and times UC Santa Cruz Arboretum & Botanic Garden is open. NOTE: Due to limited parking at the Arboretum and the popularity of Community Day\, we greatly encourage visitors to carpool\, bike\, walk or use public transportation as much as possible.
URL:https://events.ucsc.edu/event/community-day-free-admission-at-the-arboretum/2025-11-04/
LOCATION:Arboretum\, 122 Arboretum Road\, Santa Cruz\, CA\, 95064
ATTACH;FMTTYPE=image/jpeg:https://events.ucsc.edu/wp-content/uploads/2025/09/c3b9429d729523dcc42d038836e730c059ee9cde.jpg
GEO:36.9838652;-122.0609079
X-APPLE-STRUCTURED-LOCATION;VALUE=URI;X-ADDRESS=Arboretum 122 Arboretum Road Santa Cruz CA 95064;X-APPLE-RADIUS=500;X-TITLE=122 Arboretum Road:geo:-122.0609079,36.9838652
END:VEVENT
BEGIN:VEVENT
DTSTART;TZID=America/Los_Angeles:20251104T110000
DTEND;TZID=America/Los_Angeles:20251104T130000
DTSTAMP:20260420T161452
CREATED:20251031T190742Z
LAST-MODIFIED:20251031T190742Z
UID:10005017-1762254000-1762261200@events.ucsc.edu
SUMMARY:Stand Out in Your Job Search: Tips from Veeva
DESCRIPTION:Are you an upcoming grad passionate about purpose-driven work? \nCome join Katie Groth\, a University Recruiter at Veeva\, as she shares valuable insights on how to make your resume\, job applications\, and interviews stand out. You’ll also have the chance to ask your own questions and get personalized advice on these topics. \nDuring the session\, Katie will also provide insight into the Engineering Development Program\, a unique program at Veeva designed to support new grads entering the software engineering space. \nIf you’re exploring full-time or internship opportunities for Summer 2026\, this is a great chance to connect with us! \nWhat we look for: \n\nBachelor’s Degree with a 3.0 GPA or higher\nStrong computer science fundamentals\, including operating systems\, compilers\, and algorithms\nProficiency in Java\n\nIf you have disability-related needs\, please contact the Career Success office at csuccess@ucsc.edu or (831) 459-4420 as soon as possible. \nYOU BELONG HERE\nPrograms and services are open to all\, consistent with state and federal law\, as well as the University of California’s nondiscrimination policies. Every initiative—whether a student service\, faculty program\, or community event—is designed to be accessible\, inclusive\, and respectful of all identities. To learn more\, please visit UC Nondiscrimination Statement or Nondiscrimination Policy for UC Publications.
URL:https://events.ucsc.edu/event/stand-out-in-your-job-search-tips-from-veeva/
LOCATION:CA
CATEGORIES:Lectures & Presentations,Meetings & Conferences,Training,Workshop
ATTACH;FMTTYPE=image/png:https://events.ucsc.edu/wp-content/uploads/2025/10/Screenshot-2025-10-31-at-12.06.26-PM.png
END:VEVENT
BEGIN:VEVENT
DTSTART;TZID=America/Los_Angeles:20251104T120000
DTEND;TZID=America/Los_Angeles:20251104T130000
DTSTAMP:20260420T161452
CREATED:20251020T153301Z
LAST-MODIFIED:20251020T153514Z
UID:10004918-1762257600-1762261200@events.ucsc.edu
SUMMARY:Western Regional Hub: Undergraduate Success Group Meeting
DESCRIPTION:Members of the hub’s working group focused on Undergraduate student success will meet to share ideas and strategize. \nIf you would like to be involved in the hub’s work\, please contact Richard Raygoza at riraygoz@ucsc.edu
URL:https://events.ucsc.edu/event/western-regional-hub-undergraduate-success-group-meeting-2/2025-11-04/
LOCATION:CA
CATEGORIES:Meetings & Conferences
ATTACH;FMTTYPE=image/jpeg:https://events.ucsc.edu/wp-content/uploads/2025/09/53bc59bdf9fc021d6d67b4480aa04ebf277eb2f5.jpg
END:VEVENT
BEGIN:VEVENT
DTSTART;TZID=America/Los_Angeles:20251104T120000
DTEND;TZID=America/Los_Angeles:20251104T170000
DTSTAMP:20260420T161452
CREATED:20251003T174320Z
LAST-MODIFIED:20251003T192055Z
UID:10000746-1762257600-1762275600@events.ucsc.edu
SUMMARY:Road Trip! Light in the American West\, from Baja to the Yukon
DESCRIPTION:The photographs in this exhibition\, made between 2004 and 2025\, span across the American West from the Baja California Peninsula in Mexico to The Yukon territory in Canada. Paul Schoellhamer’s (Cowell ‘69) color photographs invite us to travel with him and reflect on our relationship to land\, the light that shapes it\, and the freedom – contested but essential – to move across it. \nThe exhibition draws on voices across time and perspective that frame the American landscape as more than a stage for beauty and awe. For Chief Satanta of the Kiowa Nation\, to roam the land freely was life itself. For N. Scott Momaday\, land must be “believed to be seen.” For Eliot Porter\, light and reflection imparted magic to Glen Canyon’s waters. For Wallace Stegner\, saving natural places meant saving fragments of our collective sanity. For Brook M. Thompson\, the Klamath River is recognized with personhood. Alongside these perspectives\, Paul’s images press us to see public land not as scenery to extract or aestheticize\, but as sustenance and history. Land is alive and contested. To see closely is not to linger on a romanticized vision of the American landscape\, but to reckon with responsibility: how we safeguard access\, how we imagine “wildness\,” and how we hold space for futures beyond our own. For Paul\, this exhibition is a call for students to encounter land and light firsthand and let those encounters be their teachers. \nOpening Reception\nOctober 4\, 2025\n1-4pm \n—– \nJoin us every Friday for Art Fridays.\nNo experience necessary. Supplies and snacks provided. \n\nSep 26 Snail Mail/Postcards\nOct 3 Souvenir Keychains\nOct 10 Stamp Magnets\nOct 17 Cyanotype Totebags/Pouches/Pencil cases\nOct 24 Candy Around The World Linocuts\nOct 31 Abstract Felt Collages\nNov 7 Phone Photos/Buttons\nNov 14 Travel Related Patches With Upcycled Materials\nNov 21 Thanksgiving Break! No Art Friday\nNov 28 Unexpected Landscape Surrealist Collage\n\nPlease note that the date and the project is subject to change.
URL:https://events.ucsc.edu/event/road-trip-light-in-the-american-west-from-baja-to-the-yukon/2025-11-04/
LOCATION:Eloise Pickard Smith Gallery\, 11 Cowell Service Rd\, Santa Cruz\, CA\, 95064
CATEGORIES:Exhibits
ATTACH;FMTTYPE=image/png:https://events.ucsc.edu/wp-content/uploads/2025/10/IMG_4150sm.png
GEO:36.996399;-122.0527221
X-APPLE-STRUCTURED-LOCATION;VALUE=URI;X-ADDRESS=Eloise Pickard Smith Gallery 11 Cowell Service Rd Santa Cruz CA 95064;X-APPLE-RADIUS=500;X-TITLE=11 Cowell Service Rd:geo:-122.0527221,36.996399
END:VEVENT
BEGIN:VEVENT
DTSTART;TZID=America/Los_Angeles:20251104T173000
DTEND;TZID=America/Los_Angeles:20251104T191500
DTSTAMP:20260420T161452
CREATED:20251015T204345Z
LAST-MODIFIED:20251015T204652Z
UID:10004828-1762277400-1762283700@events.ucsc.edu
SUMMARY:Yoga as Healing Series
DESCRIPTION:Yoga as Healing is an offering for students at UC Santa Cruz who identify as survivors of interpersonal violence. Together\, we will practice gentle body movement\, breathwork\, meditation\, and more—all from a trauma-informed lens. \nThis 7-week program is limited to 8–10 participants in each cohort and is intended to provide a safe and predictable environment for survivors to build community. \nAt the beginning of each session\, participants will have time to share their progress and personal experiences with the class. This will be followed by asana practice (physical postures)\, and the class will close with journaling\, art\, and reflection. \nCARE will provide yoga mats\, blocks\, and a blanket for each participant. You are encouraged to wear comfortable clothing and bring a water bottle for hydration. \nParticipants are welcome to join Yoga as Healing for any of the sessions; attendance at the orientation is not required. The sessions run from October 7 through November 25\, with no session on November 11. \nThis event is open to all UC Santa Cruz students. Fill out an interest form to sign up.
URL:https://events.ucsc.edu/event/yoga-as-healing-series-2/2025-11-04/
LOCATION:Health Center (Student Health Center)\, 525 McLaughlin Drive\, Santa Cruz\, CA\, 95064
ATTACH;FMTTYPE=image/png:https://events.ucsc.edu/wp-content/uploads/2025/10/Yoga-As-Healing-2-e1760561148411.png
GEO:36.9996742;-122.0574675
X-APPLE-STRUCTURED-LOCATION;VALUE=URI;X-ADDRESS=Health Center (Student Health Center) 525 McLaughlin Drive Santa Cruz CA 95064;X-APPLE-RADIUS=500;X-TITLE=525 McLaughlin Drive:geo:-122.0574675,36.9996742
END:VEVENT
BEGIN:VEVENT
DTSTART;TZID=America/Los_Angeles:20251104T190000
DTEND;TZID=America/Los_Angeles:20251104T210000
DTSTAMP:20260420T161452
CREATED:20251007T095948Z
LAST-MODIFIED:20251126T171647Z
UID:10004320-1762282800-1762290000@events.ucsc.edu
SUMMARY:Drop-In Figure Drawing
DESCRIPTION:Drop-In Draw provides a live model and room monitor. There is no formal lesson and only dry media is allowed (no paints).\n—\nADVISORIES\n– These events contain mature content and nudity.\n– Drop-In Draw is subject to the possibility of last-minute cancellation without notification\, and sessions are not guaranteed.\n—\nADMISSION\n– FREE and open to the public\n– UCSC Art Department Room L-101\n—\nSCHEDULE OF EVENTS\nThis series occurs weekly on Tuesday evenings during fall quarter\, including the following:\n– Tue.\, Sep. 30\, 7:00–9:00 p.m.\n– Tue.\, Oct. 7\, 7:00–9:00 p.m.\n– Tue.\, Oct. 14\, 7:00–9:00 p.m.\n– Tue.\, Oct. 21\, 7:00–9:00 p.m.\n– Tue.\, Oct. 28\, 7:00–9:00 p.m.\n– Tue.\, Nov. 4\, 7:00–9:00 p.m.\n– Tue.\, Nov. 18\, 7:00–9:00 p.m.\n– Tue.\, Nov. 25\, 7:00–9:00 p.m. \nAdditional dates to be announced for winter and spring quarter.\n—\nPARKING\n– Parking by permit or ParkMobile.\n– Arts Lot #126 is the closest parking lot to the event.\n– Visitors with DMV placards or plates may park for free in DMV spaces\, Medical spaces\, or ParkMobile spaces without additional payment\, or in timed zones for longer than the posted time.\n– More information provided by UCSC Transportation & Parking Services (TAPS).\n—\nThis program is open to all members of the public consistent with state and federal law.
URL:https://events.ucsc.edu/event/drop-in-figure-drawing/2025-11-04/
LOCATION:Elena Baskin Visual Arts Center\, Baskin Service Road\, Santa Cruz\, CA\, 95064
CATEGORIES:Exhibits
ATTACH;FMTTYPE=image/jpeg:https://events.ucsc.edu/wp-content/uploads/2025/10/Drop-in-draw-image.jpg
GEO:36.9946557;-122.0606254
X-APPLE-STRUCTURED-LOCATION;VALUE=URI;X-ADDRESS=Elena Baskin Visual Arts Center Baskin Service Road Santa Cruz CA 95064;X-APPLE-RADIUS=500;X-TITLE=Baskin Service Road:geo:-122.0606254,36.9946557
END:VEVENT
BEGIN:VEVENT
DTSTART;TZID=America/Los_Angeles:20251105T000000
DTEND;TZID=America/Los_Angeles:20251105T235959
DTSTAMP:20260420T161452
CREATED:20251008T161323Z
LAST-MODIFIED:20251009T172920Z
UID:10004392-1762300800-1762387199@events.ucsc.edu
SUMMARY:Giving Day
DESCRIPTION:On November 5\, 2025\, UC Santa Cruz will celebrate the 10th anniversary of Giving Day\, our signature 24-hour fundraising event that unites Slugs around the world in support of student success\, research\, and community programs. \nOver the past decade\, thousands of donors have raised millions to provide scholarships\, fuel groundbreaking research\, strengthen basic needs programs\, and ensure every student has the resources to thrive. \nThis milestone year is our chance to reflect on what we’ve achieved together and take bold steps forward. Giving Day 2025 will feature hundreds of campus projects\, exciting matches and challenges that amplify every gift\, and a global community of Slugs rallying for one cause: expanding opportunity. Mark your calendar\, sign up to be an Advocate\, and join us as we make the 10th year of Giving Day our most impactful yet.
URL:https://events.ucsc.edu/event/giving-day/
LOCATION:CA
CATEGORIES:Fundraisers
ATTACH;FMTTYPE=image/png:https://events.ucsc.edu/wp-content/uploads/2025/10/UCSC-Giving-Day-2025.png
END:VEVENT
END:VCALENDAR