BEGIN:VCALENDAR
VERSION:2.0
PRODID:-//Events - ECPv6.15.20//NONSGML v1.0//EN
CALSCALE:GREGORIAN
METHOD:PUBLISH
X-WR-CALNAME:Events
X-ORIGINAL-URL:https://events.ucsc.edu
X-WR-CALDESC:Events for Events
REFRESH-INTERVAL;VALUE=DURATION:PT1H
X-Robots-Tag:noindex
X-PUBLISHED-TTL:PT1H
BEGIN:VTIMEZONE
TZID:America/Los_Angeles
BEGIN:DAYLIGHT
TZOFFSETFROM:-0800
TZOFFSETTO:-0700
TZNAME:PDT
DTSTART:20240310T100000
END:DAYLIGHT
BEGIN:STANDARD
TZOFFSETFROM:-0700
TZOFFSETTO:-0800
TZNAME:PST
DTSTART:20241103T090000
END:STANDARD
BEGIN:DAYLIGHT
TZOFFSETFROM:-0800
TZOFFSETTO:-0700
TZNAME:PDT
DTSTART:20250309T100000
END:DAYLIGHT
BEGIN:STANDARD
TZOFFSETFROM:-0700
TZOFFSETTO:-0800
TZNAME:PST
DTSTART:20251102T090000
END:STANDARD
BEGIN:DAYLIGHT
TZOFFSETFROM:-0800
TZOFFSETTO:-0700
TZNAME:PDT
DTSTART:20260308T100000
END:DAYLIGHT
BEGIN:STANDARD
TZOFFSETFROM:-0700
TZOFFSETTO:-0800
TZNAME:PST
DTSTART:20261101T090000
END:STANDARD
END:VTIMEZONE
BEGIN:VEVENT
DTSTART;TZID=America/Los_Angeles:20251103T080000
DTEND;TZID=America/Los_Angeles:20251214T170000
DTSTAMP:20260421T061721
CREATED:20251030T214038Z
LAST-MODIFIED:20251104T002854Z
UID:10005015-1762156800-1765731600@events.ucsc.edu
SUMMARY:Snow Wonder
DESCRIPTION:The Faculty & Staff Health and Well-being Program presents Snow Wonder\, a UC systemwide wellness challenge!  \nRegistration opens November 3 – November 24\nChallenge runs Monday\, November 17 – Sunday\, December 14 \nJoin this 2025 UC Snow Wonder Challenge! Picture yourself having a healthier\, happier holiday season. Form teams with your colleagues and motivate each other and celebrate your healthy habit accomplishments to end the year on a healthy high note and head into 2026 feeling your best! \nVisit the UCSC Snow Wonder webpage to learn more. Register to create a new account and choose UC Santa Cruz as your location. Please note that space for this challenge is limited\, so sign up early.
URL:https://events.ucsc.edu/event/snow-wonder/
CATEGORIES:Social Gathering
ATTACH;FMTTYPE=image/jpeg:https://events.ucsc.edu/wp-content/uploads/2025/10/Snow-Wonder.jpg
END:VEVENT
BEGIN:VEVENT
DTSTART;TZID=America/Los_Angeles:20251117T000000
DTEND;TZID=America/Los_Angeles:20251207T235959
DTSTAMP:20260421T061721
CREATED:20251114T201416Z
LAST-MODIFIED:20251121T192211Z
UID:10005152-1763337600-1765151999@events.ucsc.edu
SUMMARY:Second Harvest Food Bank Holiday Donation Drive
DESCRIPTION:Take part in the campus-wide holiday drive by donating Slug Points\, Banana Bucks\, or Flexi Dollars to the Second Harvest Food Bank November 17 – December 11. 100% of your gift will provide food to Santa Cruz County residents. \nWAYS TO DONATE  \nStudents can donate up to 50 Slug Points\, Banana Bucks\, or Flexi Dollars in increments of 5. \nABOUT SECOND HARVEST  \nFor every $1 raised\, Second Harvest Food Bank provides 3 healthy meals thanks to their extensive relationships with farmers\, retailers\, food bank networks\, and dedicated volunteers and donors. Second Harvest sources over 10 million pounds of food each year and distributes it to 150 food pantries\, schools (including UCSC Slug Support\, Student Union Assembly\, Family Student Housing\, and campus Basic Needs food pantries)\, soup kitchens\, group homes\, youth centers\, and Second Harvest program sites. 1 in 3 residents are food insecure in Santa Cruz County. The food bank is actively reducing food insecurity by reaching 70\,000 people each month through it’s work and from contributions from volunteers and donors. Learn more about Second Harvest at thefoodbank.org \nDONATE at donatemeals.ucsc.edu Nov. 17–Dec 11!
URL:https://events.ucsc.edu/event/second-harvest-food-bank-holiday-donation-drive/2025-11-17/1/
ATTACH;FMTTYPE=image/png:https://events.ucsc.edu/wp-content/uploads/2025/11/Second-Harvest-Donation-Drive-2025-3-Events-Calendar.png
END:VEVENT
BEGIN:VEVENT
DTSTART;TZID=America/Los_Angeles:20251121T000000
DTEND;TZID=America/Los_Angeles:20251220T235959
DTSTAMP:20260421T061721
CREATED:20251124T181601Z
LAST-MODIFIED:20260108T212400Z
UID:10005608-1763683200-1766275199@events.ucsc.edu
SUMMARY:Operation Unplug! Pledge to Leave Campus Sustainability this Winter Break
DESCRIPTION:UCSC Energy Management and the Sustainability Office are leading the first annual “Operation Unplug” campaign to conserve energy (and reduce greenhouse gas emissions) during winter break. Before leaving your residence hall\, apartment\, or office\, please unplug any fridges or minifridges\, computers and/or monitors\, power strips\, and all other energy intensive appliances or equipment! Take the pledge and/or upload a photo of what you unplugged to the campaign’s google form for raffle entries to win one of two $50 gift certificates. Recruit your friends and coworkers for an additional entry each and try to be the winning building (the building with the most participants is guaranteed one raffle winner)! Operation Unplug is open to all students\, staff\, and faculty. Be the slug that pulls the plug! \n \n  \n 
URL:https://events.ucsc.edu/event/operation-unplug-pledge-to-leave-campus-sustainability-this-winter-break/2025-11-21/
ATTACH;FMTTYPE=image/jpeg:https://events.ucsc.edu/wp-content/uploads/2025/11/unplug-slug.jpg
END:VEVENT
BEGIN:VEVENT
DTSTART;TZID=America/Los_Angeles:20251122T000000
DTEND;TZID=America/Los_Angeles:20251221T235959
DTSTAMP:20260421T061721
CREATED:20251124T181601Z
LAST-MODIFIED:20260108T212400Z
UID:10005609-1763769600-1766361599@events.ucsc.edu
SUMMARY:Operation Unplug! Pledge to Leave Campus Sustainability this Winter Break
DESCRIPTION:UCSC Energy Management and the Sustainability Office are leading the first annual “Operation Unplug” campaign to conserve energy (and reduce greenhouse gas emissions) during winter break. Before leaving your residence hall\, apartment\, or office\, please unplug any fridges or minifridges\, computers and/or monitors\, power strips\, and all other energy intensive appliances or equipment! Take the pledge and/or upload a photo of what you unplugged to the campaign’s google form for raffle entries to win one of two $50 gift certificates. Recruit your friends and coworkers for an additional entry each and try to be the winning building (the building with the most participants is guaranteed one raffle winner)! Operation Unplug is open to all students\, staff\, and faculty. Be the slug that pulls the plug! \n \n  \n 
URL:https://events.ucsc.edu/event/operation-unplug-pledge-to-leave-campus-sustainability-this-winter-break/2025-11-22/
ATTACH;FMTTYPE=image/jpeg:https://events.ucsc.edu/wp-content/uploads/2025/11/unplug-slug.jpg
END:VEVENT
BEGIN:VEVENT
DTSTART;TZID=America/Los_Angeles:20251122T100000
DTEND;TZID=America/Los_Angeles:20251122T160000
DTSTAMP:20260421T061721
CREATED:20251015T212454Z
LAST-MODIFIED:20251103T180756Z
UID:10004884-1763805600-1763827200@events.ucsc.edu
SUMMARY:Holiday Gift & Wreath Sale Fundraiser
DESCRIPTION:Holiday Gift & Wreath Sale Fundraiser\nat the UCSC Arboretum and Botanic Garden \n \nSaturday\, November 22\, 10am – 4pm\nEarly entrance for Arboretum members: 9am-10am\nStaff will be available to sign up new members at 8:45am \nThe Arboretum is located at\n120 Arboretum Rd.\, Santa Cruz\, CA  95064\nmidway between the entrances to the UCSC Campus \nFeaturing handmade holiday gifts and decorations unlike anything you’ve seen! \nArboretum artists have been busy for months creating stunning succulent and dried flower wreaths and works of art for this enchanting Arboretum fundraiser. This is the only collection you will find that draws from the Arboretum’s rare and extraordinary collection of amazing plants! \nThese items make the perfect gifts and decorations that will last throughout the holidays. In addition to beautiful wreaths and fantastic centerpieces made from Arboretum blossoms and foliage\, offerings will include succulent and tillandsia driftwood pieces and terrariums; stunning items created by local artisan woodworkers\, dish gardens of all sizes\, and more! \nThe UC Santa Cruz Arboretum is a 60-year-old treasure and beloved destination for the central coast and local community that seeks to inspire stewardship of the world’s biodiversity through research\, education\, and the conservation of rare\, endangered\, and extraordinary plants. \narboretum.ucsc.edu
URL:https://events.ucsc.edu/event/holiday-gift-wreath-sale-fundraiser/
LOCATION:Arboretum\, 122 Arboretum Road\, Santa Cruz\, CA\, 95064
GEO:36.9838652;-122.0609079
X-APPLE-STRUCTURED-LOCATION;VALUE=URI;X-ADDRESS=Arboretum 122 Arboretum Road Santa Cruz CA 95064;X-APPLE-RADIUS=500;X-TITLE=122 Arboretum Road:geo:-122.0609079,36.9838652
END:VEVENT
BEGIN:VEVENT
DTSTART;TZID=America/Los_Angeles:20251122T120000
DTEND;TZID=America/Los_Angeles:20251122T170000
DTSTAMP:20260421T061721
CREATED:20251003T174320Z
LAST-MODIFIED:20251003T192055Z
UID:10000763-1763812800-1763830800@events.ucsc.edu
SUMMARY:Road Trip! Light in the American West\, from Baja to the Yukon
DESCRIPTION:The photographs in this exhibition\, made between 2004 and 2025\, span across the American West from the Baja California Peninsula in Mexico to The Yukon territory in Canada. Paul Schoellhamer’s (Cowell ‘69) color photographs invite us to travel with him and reflect on our relationship to land\, the light that shapes it\, and the freedom – contested but essential – to move across it. \nThe exhibition draws on voices across time and perspective that frame the American landscape as more than a stage for beauty and awe. For Chief Satanta of the Kiowa Nation\, to roam the land freely was life itself. For N. Scott Momaday\, land must be “believed to be seen.” For Eliot Porter\, light and reflection imparted magic to Glen Canyon’s waters. For Wallace Stegner\, saving natural places meant saving fragments of our collective sanity. For Brook M. Thompson\, the Klamath River is recognized with personhood. Alongside these perspectives\, Paul’s images press us to see public land not as scenery to extract or aestheticize\, but as sustenance and history. Land is alive and contested. To see closely is not to linger on a romanticized vision of the American landscape\, but to reckon with responsibility: how we safeguard access\, how we imagine “wildness\,” and how we hold space for futures beyond our own. For Paul\, this exhibition is a call for students to encounter land and light firsthand and let those encounters be their teachers. \nOpening Reception\nOctober 4\, 2025\n1-4pm \n—– \nJoin us every Friday for Art Fridays.\nNo experience necessary. Supplies and snacks provided. \n\nSep 26 Snail Mail/Postcards\nOct 3 Souvenir Keychains\nOct 10 Stamp Magnets\nOct 17 Cyanotype Totebags/Pouches/Pencil cases\nOct 24 Candy Around The World Linocuts\nOct 31 Abstract Felt Collages\nNov 7 Phone Photos/Buttons\nNov 14 Travel Related Patches With Upcycled Materials\nNov 21 Thanksgiving Break! No Art Friday\nNov 28 Unexpected Landscape Surrealist Collage\n\nPlease note that the date and the project is subject to change.
URL:https://events.ucsc.edu/event/road-trip-light-in-the-american-west-from-baja-to-the-yukon/2025-11-22/
LOCATION:Eloise Pickard Smith Gallery\, 11 Cowell Service Rd\, Santa Cruz\, CA\, 95064
CATEGORIES:Exhibits
ATTACH;FMTTYPE=image/png:https://events.ucsc.edu/wp-content/uploads/2025/10/IMG_4150sm.png
GEO:36.996399;-122.0527221
X-APPLE-STRUCTURED-LOCATION;VALUE=URI;X-ADDRESS=Eloise Pickard Smith Gallery 11 Cowell Service Rd Santa Cruz CA 95064;X-APPLE-RADIUS=500;X-TITLE=11 Cowell Service Rd:geo:-122.0527221,36.996399
END:VEVENT
BEGIN:VEVENT
DTSTART;TZID=America/Los_Angeles:20251122T140000
DTEND;TZID=America/Los_Angeles:20251122T170000
DTSTAMP:20260421T061721
CREATED:20251117T233419Z
LAST-MODIFIED:20251117T233420Z
UID:10003974-1763820000-1763830800@events.ucsc.edu
SUMMARY:The SpongeBob Musical
DESCRIPTION:The SpongeBob Musical is a Broadway production based on the popular animated series\, SpongeBob SquarePants. It premiered in Chicago in 2016 and then debuted on Broadway in 2017\, receiving 12 Tony Award nominations. The musical tells the story of SpongeBob and his friends in Bikini Bottom as they face the potential destruction of their town by a volcano\, with songs written by David Bowie\, Cyndi Lauper\, The Flaming Lips\, and more. \nDirected by Rebecca Wear\, assistant professor\nMusical Direction by Luke Shepherd\, lecturer\nChoreography by Cid Pearlman\, lecturer \nRead more about this production on Lookout Santa Cruz. \n—\nAUDIENCE ADVISORIES\n– Ticket holders not seated at least 5 minutes before the advertised start time may forfeit their ticket/seat and no refund will be issued.\n—\nADMISSION\n– Free for UCSC undergrads (ticket required).\n– General admission “Pay What You Like” tickets $5–25\n– Tickets issued online through Eventbrite only.\n– Follow the Dept. of Performance\, Play & Design on Eventbrite for notifications and updates.\n– Doors are scheduled to open 30 minutes prior to event start time.\n—\nFULL SCHEDULE OF EVENTS\nThis is a two-week production with nine performances\, including :\nFri. Nov. 14: 7:30 p.m.\nSat. Nov. 15: 2:00 p.m. & 7:30 p.m.\nSun. Nov. 16: 2:00 p.m.\nThu. Nov. 20: 7:30 p.m.\nFri. Nov. 21: 7:30 p.m.\nSat. Nov. 22: 2:00 p.m. & 7:30 p.m.\nSun. Nov. 23: 2:00 p.m.\n—\nPARKING\n– Parking by permit\, ParkMobile\, or $5 cash/credit via the on-site parking attendant\n– Arts Lot #126 is the closest parking lot to the event\n– Visitors with DMV placards or plates may park for free in DMV spaces\, Medical spaces\, or ParkMobile spaces without additional payment\, or in timed zones for longer than the posted time.\n– More information provided by UCSC Transportation & Parking Services (TAPS)\n—\nDONATIONS welcome!\n—
URL:https://events.ucsc.edu/event/spongebob-musical-2/2025-11-22/1/
LOCATION:Theater Arts Mainstage\, 411 Kerr Road\, Santa Cruz\, CA\, 95064
CATEGORIES:Performances
ATTACH;FMTTYPE=image/jpeg:https://events.ucsc.edu/wp-content/uploads/2025/09/SPONGEBOB_poster-cropped-to-16-9-ratio-scaled-e1760116084380.jpg
GEO:36.9947903;-122.0623717
X-APPLE-STRUCTURED-LOCATION;VALUE=URI;X-ADDRESS=Theater Arts Mainstage 411 Kerr Road Santa Cruz CA 95064;X-APPLE-RADIUS=500;X-TITLE=411 Kerr Road:geo:-122.0623717,36.9947903
END:VEVENT
BEGIN:VEVENT
DTSTART;TZID=America/Los_Angeles:20251122T193000
DTEND;TZID=America/Los_Angeles:20251122T213000
DTSTAMP:20260421T061721
CREATED:20250917T070000Z
LAST-MODIFIED:20251121T192332Z
UID:10003961-1763839800-1763847000@events.ucsc.edu
SUMMARY:Barnstorm Presents—1972: The Future of Sex
DESCRIPTION:It is 1972: an era of possibility and polyester and pubic hair. While Ziggy Stardust is on Top of the Pops\, Penny is writing an essay on Lady Chatterley’s Lover\, Christine is watching Deep Throat and Brian is confused. Devised by The Wardrobe Ensemble\, 1972: The Future of Sex incorporates the company’s trademark theatricality\, irreverent humour and ensemble ingenuity to tell the story of three couples having sex for the first time—and a country on the brink of a sexual awakening. Commissioned by Shoreditch Town Hall\, the play was first seen there in 2014\, before a UK tour in 2015\, including performances at Bristol Old Vic and the Edinburgh Festival Fringe. It was revived at the Bristol Old Vic in 2019.\n—\nADMISSION\n– General admission “Pay What You Like” options $5–20\n– Free for UCSC undergraduate students (ticket required).\n– Tickets issued through Eventbrite; Follow the Dept. of Performance\, Play & Design on Eventbrite for notifications and updates.\n– Doors are scheduled to open 30 minutes prior to event start time.\n– Ticket holders not seated at least 10 minutes before the advertised start time may forfeit their ticket/seat and no refund will be issued.\n– A limited number of tickets/seats may be available at the door\, even after online ticket sales end or reach full capacity.\n—\nFULL SCHEDULE OF EVENTS\nThis production runs for two weekends and includes six performances:\nFri. Nov. 14: 7:30 p.m.\nSat. Nov. 15: 7:30 p.m.\nSun. Nov. 16: 3:00 p.m.\nThu. Nov. 20: 7:30 p.m.\nFri. Nov. 21: 7:30 p.m.\nSat. Nov. 22: 7:30 p.m.\nSun. Nov. 23: 3:00 p.m.\n—\nPARKING\n– Parking by permit or ParkMobile.\n– Arts Lot #126 is the closest parking lot to the event.\n– Visitors with DMV placards or plates may park for free in DMV spaces\, Medical spaces\, or ParkMobile spaces without additional payment\, or in timed zones for longer than the posted time.\n– More information provided by UCSC Transportation & Parking Services (TAPS)\n—\nThis program is open to all members of the public consistent with state and federal law.
URL:https://events.ucsc.edu/event/barnstorm-presents-the-future-of-sex/2025-11-22/
LOCATION:Theater Arts Center\, 453 Kerr Road\, Santa Cruz\, CA\, 95064
CATEGORIES:Performances
ATTACH;FMTTYPE=image/jpeg:https://events.ucsc.edu/wp-content/uploads/2025/09/BarnstormSex-e1761587233841.jpeg
GEO:36.9948296;-122.062378
X-APPLE-STRUCTURED-LOCATION;VALUE=URI;X-ADDRESS=Theater Arts Center 453 Kerr Road Santa Cruz CA 95064;X-APPLE-RADIUS=500;X-TITLE=453 Kerr Road:geo:-122.062378,36.9948296
END:VEVENT
BEGIN:VEVENT
DTSTART;TZID=America/Los_Angeles:20251122T193000
DTEND;TZID=America/Los_Angeles:20251122T213000
DTSTAMP:20260421T061721
CREATED:20251015T042021Z
LAST-MODIFIED:20251119T195422Z
UID:10004817-1763839800-1763847000@events.ucsc.edu
SUMMARY:UCSC Chamber Singers
DESCRIPTION:The UCSC Chamber Singers\, under the direction of Michael McGushin\, perform Brahms’s Liebeslieder Waltzes and Debussy’s Trois Chanson. The performance includes student soloists\, and the pianists Luke Shepherd and Vlada Moran. \nADMISSION\n– General admission $5–12\n– Free for UCSC students (ticket required).\n– Tickets available here online through Eventbrite only.\n– Follow the Music Dept on Eventbrite for notices and updates.\n– Doors are scheduled to open 30 minutes prior to event start time.\n– Ticket holders not seated at least 5 minutes before the advertised start time may forfeit their ticket/seat and no refund will be issued.\n—\nPARKING\n– Parking by permit\, ParkMobile\, or $5 cash/credit via the on-site parking attendant\n– Arts Lot #126 is the closest parking lot to the event\n– Visitors with DMV placards or plates may park for free in DMV spaces\, Medical spaces\, or ParkMobile spaces without additional payment\, or in timed zones for longer than the posted time.\n– More information provided by UCSC Transportation & Parking Services (TAPS)\n—\nThis program is open to all members of the public consistent with state and federal law.
URL:https://events.ucsc.edu/event/ucsc-chamber-singers/
LOCATION:Music Center Recital Hall\, 400 McHenry Road\, Santa Cruz\, CA\, 95064
CATEGORIES:Concerts,Performances
ATTACH;FMTTYPE=image/jpeg:https://events.ucsc.edu/wp-content/uploads/2025/10/singers-mics-GettyImages-183305123.jpg
GEO:36.9924036;-122.0619475
X-APPLE-STRUCTURED-LOCATION;VALUE=URI;X-ADDRESS=Music Center Recital Hall 400 McHenry Road Santa Cruz CA 95064;X-APPLE-RADIUS=500;X-TITLE=400 McHenry Road:geo:-122.0619475,36.9924036
END:VEVENT
BEGIN:VEVENT
DTSTART;TZID=America/Los_Angeles:20251122T193000
DTEND;TZID=America/Los_Angeles:20251122T213000
DTSTAMP:20260421T061721
CREATED:20251117T233419Z
LAST-MODIFIED:20251117T233420Z
UID:10003975-1763839800-1763847000@events.ucsc.edu
SUMMARY:The SpongeBob Musical
DESCRIPTION:The SpongeBob Musical is a Broadway production based on the popular animated series\, SpongeBob SquarePants. It premiered in Chicago in 2016 and then debuted on Broadway in 2017\, receiving 12 Tony Award nominations. The musical tells the story of SpongeBob and his friends in Bikini Bottom as they face the potential destruction of their town by a volcano\, with songs written by David Bowie\, Cyndi Lauper\, The Flaming Lips\, and more. \nDirected by Rebecca Wear\, assistant professor\nMusical Direction by Luke Shepherd\, lecturer\nChoreography by Cid Pearlman\, lecturer \nRead more about this production on Lookout Santa Cruz. \n—\nAUDIENCE ADVISORIES\n– Ticket holders not seated at least 5 minutes before the advertised start time may forfeit their ticket/seat and no refund will be issued.\n—\nADMISSION\n– Free for UCSC undergrads (ticket required).\n– General admission “Pay What You Like” tickets $5–25\n– Tickets issued online through Eventbrite only.\n– Follow the Dept. of Performance\, Play & Design on Eventbrite for notifications and updates.\n– Doors are scheduled to open 30 minutes prior to event start time.\n—\nFULL SCHEDULE OF EVENTS\nThis is a two-week production with nine performances\, including :\nFri. Nov. 14: 7:30 p.m.\nSat. Nov. 15: 2:00 p.m. & 7:30 p.m.\nSun. Nov. 16: 2:00 p.m.\nThu. Nov. 20: 7:30 p.m.\nFri. Nov. 21: 7:30 p.m.\nSat. Nov. 22: 2:00 p.m. & 7:30 p.m.\nSun. Nov. 23: 2:00 p.m.\n—\nPARKING\n– Parking by permit\, ParkMobile\, or $5 cash/credit via the on-site parking attendant\n– Arts Lot #126 is the closest parking lot to the event\n– Visitors with DMV placards or plates may park for free in DMV spaces\, Medical spaces\, or ParkMobile spaces without additional payment\, or in timed zones for longer than the posted time.\n– More information provided by UCSC Transportation & Parking Services (TAPS)\n—\nDONATIONS welcome!\n—
URL:https://events.ucsc.edu/event/spongebob-musical-2/2025-11-22/2/
LOCATION:Theater Arts Mainstage\, 411 Kerr Road\, Santa Cruz\, CA\, 95064
CATEGORIES:Performances
ATTACH;FMTTYPE=image/jpeg:https://events.ucsc.edu/wp-content/uploads/2025/09/SPONGEBOB_poster-cropped-to-16-9-ratio-scaled-e1760116084380.jpg
GEO:36.9947903;-122.0623717
X-APPLE-STRUCTURED-LOCATION;VALUE=URI;X-ADDRESS=Theater Arts Mainstage 411 Kerr Road Santa Cruz CA 95064;X-APPLE-RADIUS=500;X-TITLE=411 Kerr Road:geo:-122.0623717,36.9947903
END:VEVENT
BEGIN:VEVENT
DTSTART;TZID=America/Los_Angeles:20251123T000000
DTEND;TZID=America/Los_Angeles:20251222T235959
DTSTAMP:20260421T061721
CREATED:20251124T181601Z
LAST-MODIFIED:20260108T212400Z
UID:10005610-1763856000-1766447999@events.ucsc.edu
SUMMARY:Operation Unplug! Pledge to Leave Campus Sustainability this Winter Break
DESCRIPTION:UCSC Energy Management and the Sustainability Office are leading the first annual “Operation Unplug” campaign to conserve energy (and reduce greenhouse gas emissions) during winter break. Before leaving your residence hall\, apartment\, or office\, please unplug any fridges or minifridges\, computers and/or monitors\, power strips\, and all other energy intensive appliances or equipment! Take the pledge and/or upload a photo of what you unplugged to the campaign’s google form for raffle entries to win one of two $50 gift certificates. Recruit your friends and coworkers for an additional entry each and try to be the winning building (the building with the most participants is guaranteed one raffle winner)! Operation Unplug is open to all students\, staff\, and faculty. Be the slug that pulls the plug! \n \n  \n 
URL:https://events.ucsc.edu/event/operation-unplug-pledge-to-leave-campus-sustainability-this-winter-break/2025-11-23/
ATTACH;FMTTYPE=image/jpeg:https://events.ucsc.edu/wp-content/uploads/2025/11/unplug-slug.jpg
END:VEVENT
END:VCALENDAR