BEGIN:VCALENDAR
VERSION:2.0
PRODID:-//Events - ECPv6.15.20//NONSGML v1.0//EN
CALSCALE:GREGORIAN
METHOD:PUBLISH
X-WR-CALNAME:Events
X-ORIGINAL-URL:https://events.ucsc.edu
X-WR-CALDESC:Events for Events
REFRESH-INTERVAL;VALUE=DURATION:PT1H
X-Robots-Tag:noindex
X-PUBLISHED-TTL:PT1H
BEGIN:VTIMEZONE
TZID:America/Los_Angeles
BEGIN:DAYLIGHT
TZOFFSETFROM:-0800
TZOFFSETTO:-0700
TZNAME:PDT
DTSTART:20240310T100000
END:DAYLIGHT
BEGIN:STANDARD
TZOFFSETFROM:-0700
TZOFFSETTO:-0800
TZNAME:PST
DTSTART:20241103T090000
END:STANDARD
BEGIN:DAYLIGHT
TZOFFSETFROM:-0800
TZOFFSETTO:-0700
TZNAME:PDT
DTSTART:20250309T100000
END:DAYLIGHT
BEGIN:STANDARD
TZOFFSETFROM:-0700
TZOFFSETTO:-0800
TZNAME:PST
DTSTART:20251102T090000
END:STANDARD
BEGIN:DAYLIGHT
TZOFFSETFROM:-0800
TZOFFSETTO:-0700
TZNAME:PDT
DTSTART:20260308T100000
END:DAYLIGHT
BEGIN:STANDARD
TZOFFSETFROM:-0700
TZOFFSETTO:-0800
TZNAME:PST
DTSTART:20261101T090000
END:STANDARD
END:VTIMEZONE
BEGIN:VEVENT
DTSTART;TZID=America/Los_Angeles:20251103T080000
DTEND;TZID=America/Los_Angeles:20251214T170000
DTSTAMP:20260422T120659
CREATED:20251030T214038Z
LAST-MODIFIED:20251104T002854Z
UID:10005015-1762156800-1765731600@events.ucsc.edu
SUMMARY:Snow Wonder
DESCRIPTION:The Faculty & Staff Health and Well-being Program presents Snow Wonder\, a UC systemwide wellness challenge!  \nRegistration opens November 3 – November 24\nChallenge runs Monday\, November 17 – Sunday\, December 14 \nJoin this 2025 UC Snow Wonder Challenge! Picture yourself having a healthier\, happier holiday season. Form teams with your colleagues and motivate each other and celebrate your healthy habit accomplishments to end the year on a healthy high note and head into 2026 feeling your best! \nVisit the UCSC Snow Wonder webpage to learn more. Register to create a new account and choose UC Santa Cruz as your location. Please note that space for this challenge is limited\, so sign up early.
URL:https://events.ucsc.edu/event/snow-wonder/
CATEGORIES:Social Gathering
ATTACH;FMTTYPE=image/jpeg:https://events.ucsc.edu/wp-content/uploads/2025/10/Snow-Wonder.jpg
END:VEVENT
BEGIN:VEVENT
DTSTART;TZID=America/Los_Angeles:20251117T000000
DTEND;TZID=America/Los_Angeles:20251207T235959
DTSTAMP:20260422T120659
CREATED:20251114T201416Z
LAST-MODIFIED:20251121T192211Z
UID:10005152-1763337600-1765151999@events.ucsc.edu
SUMMARY:Second Harvest Food Bank Holiday Donation Drive
DESCRIPTION:Take part in the campus-wide holiday drive by donating Slug Points\, Banana Bucks\, or Flexi Dollars to the Second Harvest Food Bank November 17 – December 11. 100% of your gift will provide food to Santa Cruz County residents. \nWAYS TO DONATE  \nStudents can donate up to 50 Slug Points\, Banana Bucks\, or Flexi Dollars in increments of 5. \nABOUT SECOND HARVEST  \nFor every $1 raised\, Second Harvest Food Bank provides 3 healthy meals thanks to their extensive relationships with farmers\, retailers\, food bank networks\, and dedicated volunteers and donors. Second Harvest sources over 10 million pounds of food each year and distributes it to 150 food pantries\, schools (including UCSC Slug Support\, Student Union Assembly\, Family Student Housing\, and campus Basic Needs food pantries)\, soup kitchens\, group homes\, youth centers\, and Second Harvest program sites. 1 in 3 residents are food insecure in Santa Cruz County. The food bank is actively reducing food insecurity by reaching 70\,000 people each month through it’s work and from contributions from volunteers and donors. Learn more about Second Harvest at thefoodbank.org \nDONATE at donatemeals.ucsc.edu Nov. 17–Dec 11!
URL:https://events.ucsc.edu/event/second-harvest-food-bank-holiday-donation-drive/2025-11-17/1/
ATTACH;FMTTYPE=image/png:https://events.ucsc.edu/wp-content/uploads/2025/11/Second-Harvest-Donation-Drive-2025-3-Events-Calendar.png
END:VEVENT
BEGIN:VEVENT
DTSTART;TZID=America/Los_Angeles:20251121T000000
DTEND;TZID=America/Los_Angeles:20251220T235959
DTSTAMP:20260422T120659
CREATED:20251124T181601Z
LAST-MODIFIED:20260108T212400Z
UID:10005608-1763683200-1766275199@events.ucsc.edu
SUMMARY:Operation Unplug! Pledge to Leave Campus Sustainability this Winter Break
DESCRIPTION:UCSC Energy Management and the Sustainability Office are leading the first annual “Operation Unplug” campaign to conserve energy (and reduce greenhouse gas emissions) during winter break. Before leaving your residence hall\, apartment\, or office\, please unplug any fridges or minifridges\, computers and/or monitors\, power strips\, and all other energy intensive appliances or equipment! Take the pledge and/or upload a photo of what you unplugged to the campaign’s google form for raffle entries to win one of two $50 gift certificates. Recruit your friends and coworkers for an additional entry each and try to be the winning building (the building with the most participants is guaranteed one raffle winner)! Operation Unplug is open to all students\, staff\, and faculty. Be the slug that pulls the plug! \n \n  \n 
URL:https://events.ucsc.edu/event/operation-unplug-pledge-to-leave-campus-sustainability-this-winter-break/2025-11-21/
ATTACH;FMTTYPE=image/jpeg:https://events.ucsc.edu/wp-content/uploads/2025/11/unplug-slug.jpg
END:VEVENT
BEGIN:VEVENT
DTSTART;TZID=America/Los_Angeles:20251122T000000
DTEND;TZID=America/Los_Angeles:20251221T235959
DTSTAMP:20260422T120659
CREATED:20251124T181601Z
LAST-MODIFIED:20260108T212400Z
UID:10005609-1763769600-1766361599@events.ucsc.edu
SUMMARY:Operation Unplug! Pledge to Leave Campus Sustainability this Winter Break
DESCRIPTION:UCSC Energy Management and the Sustainability Office are leading the first annual “Operation Unplug” campaign to conserve energy (and reduce greenhouse gas emissions) during winter break. Before leaving your residence hall\, apartment\, or office\, please unplug any fridges or minifridges\, computers and/or monitors\, power strips\, and all other energy intensive appliances or equipment! Take the pledge and/or upload a photo of what you unplugged to the campaign’s google form for raffle entries to win one of two $50 gift certificates. Recruit your friends and coworkers for an additional entry each and try to be the winning building (the building with the most participants is guaranteed one raffle winner)! Operation Unplug is open to all students\, staff\, and faculty. Be the slug that pulls the plug! \n \n  \n 
URL:https://events.ucsc.edu/event/operation-unplug-pledge-to-leave-campus-sustainability-this-winter-break/2025-11-22/
ATTACH;FMTTYPE=image/jpeg:https://events.ucsc.edu/wp-content/uploads/2025/11/unplug-slug.jpg
END:VEVENT
BEGIN:VEVENT
DTSTART;TZID=America/Los_Angeles:20251123T000000
DTEND;TZID=America/Los_Angeles:20251222T235959
DTSTAMP:20260422T120659
CREATED:20251124T181601Z
LAST-MODIFIED:20260108T212400Z
UID:10005610-1763856000-1766447999@events.ucsc.edu
SUMMARY:Operation Unplug! Pledge to Leave Campus Sustainability this Winter Break
DESCRIPTION:UCSC Energy Management and the Sustainability Office are leading the first annual “Operation Unplug” campaign to conserve energy (and reduce greenhouse gas emissions) during winter break. Before leaving your residence hall\, apartment\, or office\, please unplug any fridges or minifridges\, computers and/or monitors\, power strips\, and all other energy intensive appliances or equipment! Take the pledge and/or upload a photo of what you unplugged to the campaign’s google form for raffle entries to win one of two $50 gift certificates. Recruit your friends and coworkers for an additional entry each and try to be the winning building (the building with the most participants is guaranteed one raffle winner)! Operation Unplug is open to all students\, staff\, and faculty. Be the slug that pulls the plug! \n \n  \n 
URL:https://events.ucsc.edu/event/operation-unplug-pledge-to-leave-campus-sustainability-this-winter-break/2025-11-23/
ATTACH;FMTTYPE=image/jpeg:https://events.ucsc.edu/wp-content/uploads/2025/11/unplug-slug.jpg
END:VEVENT
BEGIN:VEVENT
DTSTART;TZID=America/Los_Angeles:20251124T000000
DTEND;TZID=America/Los_Angeles:20251223T235959
DTSTAMP:20260422T120659
CREATED:20251124T181601Z
LAST-MODIFIED:20260108T212400Z
UID:10005611-1763942400-1766534399@events.ucsc.edu
SUMMARY:Operation Unplug! Pledge to Leave Campus Sustainability this Winter Break
DESCRIPTION:UCSC Energy Management and the Sustainability Office are leading the first annual “Operation Unplug” campaign to conserve energy (and reduce greenhouse gas emissions) during winter break. Before leaving your residence hall\, apartment\, or office\, please unplug any fridges or minifridges\, computers and/or monitors\, power strips\, and all other energy intensive appliances or equipment! Take the pledge and/or upload a photo of what you unplugged to the campaign’s google form for raffle entries to win one of two $50 gift certificates. Recruit your friends and coworkers for an additional entry each and try to be the winning building (the building with the most participants is guaranteed one raffle winner)! Operation Unplug is open to all students\, staff\, and faculty. Be the slug that pulls the plug! \n \n  \n 
URL:https://events.ucsc.edu/event/operation-unplug-pledge-to-leave-campus-sustainability-this-winter-break/2025-11-24/
ATTACH;FMTTYPE=image/jpeg:https://events.ucsc.edu/wp-content/uploads/2025/11/unplug-slug.jpg
END:VEVENT
BEGIN:VEVENT
DTSTART;TZID=America/Los_Angeles:20251125T000000
DTEND;TZID=America/Los_Angeles:20251224T235959
DTSTAMP:20260422T120659
CREATED:20251124T181601Z
LAST-MODIFIED:20260108T212400Z
UID:10005612-1764028800-1766620799@events.ucsc.edu
SUMMARY:Operation Unplug! Pledge to Leave Campus Sustainability this Winter Break
DESCRIPTION:UCSC Energy Management and the Sustainability Office are leading the first annual “Operation Unplug” campaign to conserve energy (and reduce greenhouse gas emissions) during winter break. Before leaving your residence hall\, apartment\, or office\, please unplug any fridges or minifridges\, computers and/or monitors\, power strips\, and all other energy intensive appliances or equipment! Take the pledge and/or upload a photo of what you unplugged to the campaign’s google form for raffle entries to win one of two $50 gift certificates. Recruit your friends and coworkers for an additional entry each and try to be the winning building (the building with the most participants is guaranteed one raffle winner)! Operation Unplug is open to all students\, staff\, and faculty. Be the slug that pulls the plug! \n \n  \n 
URL:https://events.ucsc.edu/event/operation-unplug-pledge-to-leave-campus-sustainability-this-winter-break/2025-11-25/
ATTACH;FMTTYPE=image/jpeg:https://events.ucsc.edu/wp-content/uploads/2025/11/unplug-slug.jpg
END:VEVENT
BEGIN:VEVENT
DTSTART;TZID=America/Los_Angeles:20251125T113000
DTEND;TZID=America/Los_Angeles:20251125T140000
DTSTAMP:20260422T120659
CREATED:20251103T213055Z
LAST-MODIFIED:20251107T224152Z
UID:10005026-1764070200-1764079200@events.ucsc.edu
SUMMARY:Faculty Community Network - Indigenous
DESCRIPTION:The Faculty Community Networks program was created to provide structures for faculty community\, development\, and support. Originally created through a grant from the UC Office of the President\, the program now continues with funding from the CP/EVC. \nEach group is open to any interested faculty (including Senate faculty\, lecturers\, and other faculty titles)\, with a goal of engaging faculty across ranks and disciplines\, to improve faculty retention and success. Groups meet roughly once per month and meetings vary between in-person\, remote\, and hybrid. Lunch is provided to groups meeting in person. \nThis program complies with federal and state non-discrimination laws\, is applicable to living our values\, and is open to all members of the faculty. \nRSVP Form
URL:https://events.ucsc.edu/event/faculty-community-network-indigenous/
LOCATION:Arboretum\, 122 Arboretum Road\, Santa Cruz\, CA\, 95064
CATEGORIES:Meetings & Conferences,Social Gathering
ATTACH;FMTTYPE=image/png:https://events.ucsc.edu/wp-content/uploads/2025/11/2022-Faculty-Community-Networking-Program.png
ORGANIZER;CN="Academic Affairs":MAILTO:publicsc@ucsc.edu
GEO:36.9838652;-122.0609079
X-APPLE-STRUCTURED-LOCATION;VALUE=URI;X-ADDRESS=Arboretum 122 Arboretum Road Santa Cruz CA 95064;X-APPLE-RADIUS=500;X-TITLE=122 Arboretum Road:geo:-122.0609079,36.9838652
END:VEVENT
BEGIN:VEVENT
DTSTART;TZID=America/Los_Angeles:20251125T120000
DTEND;TZID=America/Los_Angeles:20251125T170000
DTSTAMP:20260422T120659
CREATED:20251003T174320Z
LAST-MODIFIED:20251003T192055Z
UID:10000765-1764072000-1764090000@events.ucsc.edu
SUMMARY:Road Trip! Light in the American West\, from Baja to the Yukon
DESCRIPTION:The photographs in this exhibition\, made between 2004 and 2025\, span across the American West from the Baja California Peninsula in Mexico to The Yukon territory in Canada. Paul Schoellhamer’s (Cowell ‘69) color photographs invite us to travel with him and reflect on our relationship to land\, the light that shapes it\, and the freedom – contested but essential – to move across it. \nThe exhibition draws on voices across time and perspective that frame the American landscape as more than a stage for beauty and awe. For Chief Satanta of the Kiowa Nation\, to roam the land freely was life itself. For N. Scott Momaday\, land must be “believed to be seen.” For Eliot Porter\, light and reflection imparted magic to Glen Canyon’s waters. For Wallace Stegner\, saving natural places meant saving fragments of our collective sanity. For Brook M. Thompson\, the Klamath River is recognized with personhood. Alongside these perspectives\, Paul’s images press us to see public land not as scenery to extract or aestheticize\, but as sustenance and history. Land is alive and contested. To see closely is not to linger on a romanticized vision of the American landscape\, but to reckon with responsibility: how we safeguard access\, how we imagine “wildness\,” and how we hold space for futures beyond our own. For Paul\, this exhibition is a call for students to encounter land and light firsthand and let those encounters be their teachers. \nOpening Reception\nOctober 4\, 2025\n1-4pm \n—– \nJoin us every Friday for Art Fridays.\nNo experience necessary. Supplies and snacks provided. \n\nSep 26 Snail Mail/Postcards\nOct 3 Souvenir Keychains\nOct 10 Stamp Magnets\nOct 17 Cyanotype Totebags/Pouches/Pencil cases\nOct 24 Candy Around The World Linocuts\nOct 31 Abstract Felt Collages\nNov 7 Phone Photos/Buttons\nNov 14 Travel Related Patches With Upcycled Materials\nNov 21 Thanksgiving Break! No Art Friday\nNov 28 Unexpected Landscape Surrealist Collage\n\nPlease note that the date and the project is subject to change.
URL:https://events.ucsc.edu/event/road-trip-light-in-the-american-west-from-baja-to-the-yukon/2025-11-25/
LOCATION:Eloise Pickard Smith Gallery\, 11 Cowell Service Rd\, Santa Cruz\, CA\, 95064
CATEGORIES:Exhibits
ATTACH;FMTTYPE=image/png:https://events.ucsc.edu/wp-content/uploads/2025/10/IMG_4150sm.png
GEO:36.996399;-122.0527221
X-APPLE-STRUCTURED-LOCATION;VALUE=URI;X-ADDRESS=Eloise Pickard Smith Gallery 11 Cowell Service Rd Santa Cruz CA 95064;X-APPLE-RADIUS=500;X-TITLE=11 Cowell Service Rd:geo:-122.0527221,36.996399
END:VEVENT
BEGIN:VEVENT
DTSTART;TZID=America/Los_Angeles:20251125T134000
DTEND;TZID=America/Los_Angeles:20251125T150000
DTSTAMP:20260422T120659
CREATED:20251108T002503Z
LAST-MODIFIED:20251120T174503Z
UID:10005117-1764078000-1764082800@events.ucsc.edu
SUMMARY:Macroeconomics & International Finance Seminar Series Presents: Helen Popper
DESCRIPTION:Macroeconomics and International Finance Seminar\nDate: Tuesday\, November 25\, 2025\nTime: 1:40-3:00 p.m.\nLocation: E2-499\n\n \n\nSpeaker: Helen Popper\nTitle: Professor of Economics\nAffiliation: Santa Clara University \nHost: Galina Hale\n \nSeminar title:  Artificial Intelligence and Macroeconomic Dynamics: Growth\, Pricing\, and Distribution\n \nABSTRACT:  This paper builds a simple general equilibrium model in which an AI producer is a monopolist who both learns by doing and uses AI recursively as an input. These mechanisms link today’s scale to tomorrow’s costs\, so pricing is dynamic: the firm sets a price below the static monopoly benchmark to expand capacity and speed learning. Final goods are produced by monopolistic competitors with constant returns to scale each period. We first use Cobb–Douglas technologies to solve for a generalized balanced growth path that pins down the condition for stable\, nonexplosive growth. On this path\, AI output grows faster than final output\, the relative price of AI falls persistently\, real wages rise with overall output\, and the specialized–to–nonspecialized wage ratio is flat. We then analyze CES versions of both sectors and derive a closed form effective demand elasticity for AI that combines input substitution in production with final-goods market substitution across varieties. Finally\, simulations link adoption and distribution to elasticities\, and they allow us to explore the dynamics. When final-goods inputs are complements\, adoption is learning-first and capital-light before scaling; when they are substitutes\, adoption is scale-first and the two-phase pattern attenuates. On the distribution side\, the specialized–to–nonspecialized wage premium is lowest with complements and rises with substitutes. Greater substitutability in AI production amplifies these patterns without changing their sign.
URL:https://events.ucsc.edu/event/macroeconomics-international-finance-seminar-series-presents-helen-popper/
LOCATION:Engineering 2\, Engineering 2 1156 High Street\, Santa Cruz\, CA\, 95064
CATEGORIES:Seminars
ATTACH;FMTTYPE=image/jpeg:https://events.ucsc.edu/wp-content/uploads/2025/11/popperhelen.jpeg
GEO:37.0009723;-122.0632371
X-APPLE-STRUCTURED-LOCATION;VALUE=URI;X-ADDRESS=Engineering 2 Engineering 2 1156 High Street Santa Cruz CA 95064;X-APPLE-RADIUS=500;X-TITLE=Engineering 2 1156 High Street:geo:-122.0632371,37.0009723
END:VEVENT
BEGIN:VEVENT
DTSTART;TZID=America/Los_Angeles:20251125T173000
DTEND;TZID=America/Los_Angeles:20251125T191500
DTSTAMP:20260422T120700
CREATED:20251015T204345Z
LAST-MODIFIED:20251015T204652Z
UID:10004830-1764091800-1764098100@events.ucsc.edu
SUMMARY:Yoga as Healing Series
DESCRIPTION:Yoga as Healing is an offering for students at UC Santa Cruz who identify as survivors of interpersonal violence. Together\, we will practice gentle body movement\, breathwork\, meditation\, and more—all from a trauma-informed lens. \nThis 7-week program is limited to 8–10 participants in each cohort and is intended to provide a safe and predictable environment for survivors to build community. \nAt the beginning of each session\, participants will have time to share their progress and personal experiences with the class. This will be followed by asana practice (physical postures)\, and the class will close with journaling\, art\, and reflection. \nCARE will provide yoga mats\, blocks\, and a blanket for each participant. You are encouraged to wear comfortable clothing and bring a water bottle for hydration. \nParticipants are welcome to join Yoga as Healing for any of the sessions; attendance at the orientation is not required. The sessions run from October 7 through November 25\, with no session on November 11. \nThis event is open to all UC Santa Cruz students. Fill out an interest form to sign up.
URL:https://events.ucsc.edu/event/yoga-as-healing-series-2/2025-11-25/
LOCATION:Health Center (Student Health Center)\, 525 McLaughlin Drive\, Santa Cruz\, CA\, 95064
ATTACH;FMTTYPE=image/png:https://events.ucsc.edu/wp-content/uploads/2025/10/Yoga-As-Healing-2-e1760561148411.png
GEO:36.9996742;-122.0574675
X-APPLE-STRUCTURED-LOCATION;VALUE=URI;X-ADDRESS=Health Center (Student Health Center) 525 McLaughlin Drive Santa Cruz CA 95064;X-APPLE-RADIUS=500;X-TITLE=525 McLaughlin Drive:geo:-122.0574675,36.9996742
END:VEVENT
BEGIN:VEVENT
DTSTART;TZID=America/Los_Angeles:20251125T190000
DTEND;TZID=America/Los_Angeles:20251125T210000
DTSTAMP:20260422T120700
CREATED:20251007T095948Z
LAST-MODIFIED:20251126T171647Z
UID:10004323-1764097200-1764104400@events.ucsc.edu
SUMMARY:Drop-In Figure Drawing
DESCRIPTION:Drop-In Draw provides a live model and room monitor. There is no formal lesson and only dry media is allowed (no paints).\n—\nADVISORIES\n– These events contain mature content and nudity.\n– Drop-In Draw is subject to the possibility of last-minute cancellation without notification\, and sessions are not guaranteed.\n—\nADMISSION\n– FREE and open to the public\n– UCSC Art Department Room L-101\n—\nSCHEDULE OF EVENTS\nThis series occurs weekly on Tuesday evenings during fall quarter\, including the following:\n– Tue.\, Sep. 30\, 7:00–9:00 p.m.\n– Tue.\, Oct. 7\, 7:00–9:00 p.m.\n– Tue.\, Oct. 14\, 7:00–9:00 p.m.\n– Tue.\, Oct. 21\, 7:00–9:00 p.m.\n– Tue.\, Oct. 28\, 7:00–9:00 p.m.\n– Tue.\, Nov. 4\, 7:00–9:00 p.m.\n– Tue.\, Nov. 18\, 7:00–9:00 p.m.\n– Tue.\, Nov. 25\, 7:00–9:00 p.m. \nAdditional dates to be announced for winter and spring quarter.\n—\nPARKING\n– Parking by permit or ParkMobile.\n– Arts Lot #126 is the closest parking lot to the event.\n– Visitors with DMV placards or plates may park for free in DMV spaces\, Medical spaces\, or ParkMobile spaces without additional payment\, or in timed zones for longer than the posted time.\n– More information provided by UCSC Transportation & Parking Services (TAPS).\n—\nThis program is open to all members of the public consistent with state and federal law.
URL:https://events.ucsc.edu/event/drop-in-figure-drawing/2025-11-25/
LOCATION:Elena Baskin Visual Arts Center\, Baskin Service Road\, Santa Cruz\, CA\, 95064
CATEGORIES:Exhibits
ATTACH;FMTTYPE=image/jpeg:https://events.ucsc.edu/wp-content/uploads/2025/10/Drop-in-draw-image.jpg
GEO:36.9946557;-122.0606254
X-APPLE-STRUCTURED-LOCATION;VALUE=URI;X-ADDRESS=Elena Baskin Visual Arts Center Baskin Service Road Santa Cruz CA 95064;X-APPLE-RADIUS=500;X-TITLE=Baskin Service Road:geo:-122.0606254,36.9946557
END:VEVENT
BEGIN:VEVENT
DTSTART;TZID=America/Los_Angeles:20251125T193000
DTEND;TZID=America/Los_Angeles:20251125T213000
DTSTAMP:20260422T120700
CREATED:20251015T042303Z
LAST-MODIFIED:20251121T200132Z
UID:10004818-1764099000-1764106200@events.ucsc.edu
SUMMARY:UCSC Orchestra
DESCRIPTION:Join the UC Santa Cruz Orchestra for a fall concert. Conducted by Bruce Kiesling. Featuring pieces Overture from Orpheus in the Underworld by Jacques Offenbach (1819-1880) and Pictures at an Exhibition (orchestrated by Maurice Ravel) by Modest Mussorgsky (1839-1881).\n— \nADMISSION\n– General admission\n– Free for UCSC students (ticket required).\n– Tickets available here online through Eventbrite only.\n– Follow the Music Dept on Eventbrite for notices and updates.\n– Doors are scheduled to open 30 minutes prior to event start time.\n– Ticket holders not seated at least 5 minutes before the advertised start time may forfeit their ticket/seat and no refund will be issued. \n— \nPARKING\n– Parking by permit\, ParkMobile\, or $5 cash/credit via the on-site parking attendant\n– Arts Lot #126 is the closest parking lot to the event\n– Visitors with DMV placards or plates may park for free in DMV spaces\, Medical spaces\, or ParkMobile spaces without additional payment\, or in timed zones for longer than the posted time.\n– More information provided by UCSC Transportation & Parking Services (TAPS)\n—\nThis program is open to all members of the public consistent with state and federal law.
URL:https://events.ucsc.edu/event/ucsc-orchestra/
LOCATION:Music Center Recital Hall\, 400 McHenry Road\, Santa Cruz\, CA\, 95064
CATEGORIES:Concerts,Performances
ATTACH;FMTTYPE=image/jpeg:https://events.ucsc.edu/wp-content/uploads/2025/10/Concert-orchestra-bass-GettyImages-507876714.jpg
GEO:36.9924036;-122.0619475
X-APPLE-STRUCTURED-LOCATION;VALUE=URI;X-ADDRESS=Music Center Recital Hall 400 McHenry Road Santa Cruz CA 95064;X-APPLE-RADIUS=500;X-TITLE=400 McHenry Road:geo:-122.0619475,36.9924036
END:VEVENT
BEGIN:VEVENT
DTSTART;TZID=America/Los_Angeles:20251126T000000
DTEND;TZID=America/Los_Angeles:20251225T235959
DTSTAMP:20260422T120700
CREATED:20251124T181601Z
LAST-MODIFIED:20260108T212400Z
UID:10005613-1764115200-1766707199@events.ucsc.edu
SUMMARY:Operation Unplug! Pledge to Leave Campus Sustainability this Winter Break
DESCRIPTION:UCSC Energy Management and the Sustainability Office are leading the first annual “Operation Unplug” campaign to conserve energy (and reduce greenhouse gas emissions) during winter break. Before leaving your residence hall\, apartment\, or office\, please unplug any fridges or minifridges\, computers and/or monitors\, power strips\, and all other energy intensive appliances or equipment! Take the pledge and/or upload a photo of what you unplugged to the campaign’s google form for raffle entries to win one of two $50 gift certificates. Recruit your friends and coworkers for an additional entry each and try to be the winning building (the building with the most participants is guaranteed one raffle winner)! Operation Unplug is open to all students\, staff\, and faculty. Be the slug that pulls the plug! \n \n  \n 
URL:https://events.ucsc.edu/event/operation-unplug-pledge-to-leave-campus-sustainability-this-winter-break/2025-11-26/
ATTACH;FMTTYPE=image/jpeg:https://events.ucsc.edu/wp-content/uploads/2025/11/unplug-slug.jpg
END:VEVENT
END:VCALENDAR