BEGIN:VCALENDAR
VERSION:2.0
PRODID:-//Events - ECPv6.15.20//NONSGML v1.0//EN
CALSCALE:GREGORIAN
METHOD:PUBLISH
X-WR-CALNAME:Events
X-ORIGINAL-URL:https://events.ucsc.edu
X-WR-CALDESC:Events for Events
REFRESH-INTERVAL;VALUE=DURATION:PT1H
X-Robots-Tag:noindex
X-PUBLISHED-TTL:PT1H
BEGIN:VTIMEZONE
TZID:America/Los_Angeles
BEGIN:DAYLIGHT
TZOFFSETFROM:-0800
TZOFFSETTO:-0700
TZNAME:PDT
DTSTART:20240310T100000
END:DAYLIGHT
BEGIN:STANDARD
TZOFFSETFROM:-0700
TZOFFSETTO:-0800
TZNAME:PST
DTSTART:20241103T090000
END:STANDARD
BEGIN:DAYLIGHT
TZOFFSETFROM:-0800
TZOFFSETTO:-0700
TZNAME:PDT
DTSTART:20250309T100000
END:DAYLIGHT
BEGIN:STANDARD
TZOFFSETFROM:-0700
TZOFFSETTO:-0800
TZNAME:PST
DTSTART:20251102T090000
END:STANDARD
BEGIN:DAYLIGHT
TZOFFSETFROM:-0800
TZOFFSETTO:-0700
TZNAME:PDT
DTSTART:20260308T100000
END:DAYLIGHT
BEGIN:STANDARD
TZOFFSETFROM:-0700
TZOFFSETTO:-0800
TZNAME:PST
DTSTART:20261101T090000
END:STANDARD
BEGIN:DAYLIGHT
TZOFFSETFROM:-0800
TZOFFSETTO:-0700
TZNAME:PDT
DTSTART:20270314T100000
END:DAYLIGHT
BEGIN:STANDARD
TZOFFSETFROM:-0700
TZOFFSETTO:-0800
TZNAME:PST
DTSTART:20271107T090000
END:STANDARD
END:VTIMEZONE
BEGIN:VEVENT
DTSTART;TZID=America/Los_Angeles:20251215T080000
DTEND;TZID=America/Los_Angeles:20260123T170000
DTSTAMP:20260419T080600
CREATED:20251216T221116Z
LAST-MODIFIED:20260114T181128Z
UID:10005854-1765785600-1769187600@events.ucsc.edu
SUMMARY:Merrill College Undergraduate Research Mentorship Program
DESCRIPTION:The program offers Merrill students an invaluable professional opportunity: the chance to work closely with a faculty member and get the kind of experience and advice that can prepare students for graduate or professional school or a career. Students who participate in the program will be employed as Research Assistants. \nThis program enables Merrill College Faculty Fellows to benefit from paid research assistance from an undergraduate affiliate of Merrill College.  \nThe application is submitted by the faculty member rather than the student.  \nFor additional information and application: DEADLINE EXTENDED to January 23\, 2026 \nMerrill College Undergraduate Research Mentorship Program
URL:https://events.ucsc.edu/event/merrill-college-undergraduate-research-mentorship-program/
LOCATION:CA
ATTACH;FMTTYPE=image/png:https://events.ucsc.edu/wp-content/uploads/2025/12/Merrill-Mentorship-Flyer-1.png
END:VEVENT
BEGIN:VEVENT
DTSTART;TZID=America/Los_Angeles:20251218T000000
DTEND;TZID=America/Los_Angeles:20260116T235959
DTSTAMP:20260419T080600
CREATED:20251124T181601Z
LAST-MODIFIED:20260108T212400Z
UID:10005635-1766016000-1768607999@events.ucsc.edu
SUMMARY:Operation Unplug! Pledge to Leave Campus Sustainability this Winter Break
DESCRIPTION:UCSC Energy Management and the Sustainability Office are leading the first annual “Operation Unplug” campaign to conserve energy (and reduce greenhouse gas emissions) during winter break. Before leaving your residence hall\, apartment\, or office\, please unplug any fridges or minifridges\, computers and/or monitors\, power strips\, and all other energy intensive appliances or equipment! Take the pledge and/or upload a photo of what you unplugged to the campaign’s google form for raffle entries to win one of two $50 gift certificates. Recruit your friends and coworkers for an additional entry each and try to be the winning building (the building with the most participants is guaranteed one raffle winner)! Operation Unplug is open to all students\, staff\, and faculty. Be the slug that pulls the plug! \n \n  \n 
URL:https://events.ucsc.edu/event/operation-unplug-pledge-to-leave-campus-sustainability-this-winter-break/2025-12-18/
LOCATION:CA
ATTACH;FMTTYPE=image/jpeg:https://events.ucsc.edu/wp-content/uploads/2025/11/unplug-slug.jpg
END:VEVENT
BEGIN:VEVENT
DTSTART;TZID=America/Los_Angeles:20251219T000000
DTEND;TZID=America/Los_Angeles:20260117T235959
DTSTAMP:20260419T080600
CREATED:20251124T181601Z
LAST-MODIFIED:20260108T212400Z
UID:10005636-1766102400-1768694399@events.ucsc.edu
SUMMARY:Operation Unplug! Pledge to Leave Campus Sustainability this Winter Break
DESCRIPTION:UCSC Energy Management and the Sustainability Office are leading the first annual “Operation Unplug” campaign to conserve energy (and reduce greenhouse gas emissions) during winter break. Before leaving your residence hall\, apartment\, or office\, please unplug any fridges or minifridges\, computers and/or monitors\, power strips\, and all other energy intensive appliances or equipment! Take the pledge and/or upload a photo of what you unplugged to the campaign’s google form for raffle entries to win one of two $50 gift certificates. Recruit your friends and coworkers for an additional entry each and try to be the winning building (the building with the most participants is guaranteed one raffle winner)! Operation Unplug is open to all students\, staff\, and faculty. Be the slug that pulls the plug! \n \n  \n 
URL:https://events.ucsc.edu/event/operation-unplug-pledge-to-leave-campus-sustainability-this-winter-break/2025-12-19/
LOCATION:CA
ATTACH;FMTTYPE=image/jpeg:https://events.ucsc.edu/wp-content/uploads/2025/11/unplug-slug.jpg
END:VEVENT
BEGIN:VEVENT
DTSTART;TZID=America/Los_Angeles:20251220T000000
DTEND;TZID=America/Los_Angeles:20260118T235959
DTSTAMP:20260419T080600
CREATED:20251124T181601Z
LAST-MODIFIED:20260108T212400Z
UID:10005637-1766188800-1768780799@events.ucsc.edu
SUMMARY:Operation Unplug! Pledge to Leave Campus Sustainability this Winter Break
DESCRIPTION:UCSC Energy Management and the Sustainability Office are leading the first annual “Operation Unplug” campaign to conserve energy (and reduce greenhouse gas emissions) during winter break. Before leaving your residence hall\, apartment\, or office\, please unplug any fridges or minifridges\, computers and/or monitors\, power strips\, and all other energy intensive appliances or equipment! Take the pledge and/or upload a photo of what you unplugged to the campaign’s google form for raffle entries to win one of two $50 gift certificates. Recruit your friends and coworkers for an additional entry each and try to be the winning building (the building with the most participants is guaranteed one raffle winner)! Operation Unplug is open to all students\, staff\, and faculty. Be the slug that pulls the plug! \n \n  \n 
URL:https://events.ucsc.edu/event/operation-unplug-pledge-to-leave-campus-sustainability-this-winter-break/2025-12-20/
LOCATION:CA
ATTACH;FMTTYPE=image/jpeg:https://events.ucsc.edu/wp-content/uploads/2025/11/unplug-slug.jpg
END:VEVENT
BEGIN:VEVENT
DTSTART;TZID=America/Los_Angeles:20260116T120000
DTEND;TZID=America/Los_Angeles:20260116T130000
DTSTAMP:20260419T080600
CREATED:20260113T184150Z
LAST-MODIFIED:20260113T184250Z
UID:10008377-1768564800-1768568400@events.ucsc.edu
SUMMARY:Campus Elections Orientation (Zoom)
DESCRIPTION:2026 Campus Elections Orientation (Mandatory for Referenda Authors) \nDate & Time: \nFriday\, January 16 | 12–1 p.m. \nLocation: \nZoom \nDescription: \nInterested in proposing a referendum for the 2026 UCSC Campus Elections? At least one representative from each author group must attend a mandatory Campus Elections Orientation in order to initiate a referendum. \nThis session provides an overview of the Campus Elections process\, timeline\, and relevant policies\, and includes guidance and examples from prior election cycles on how to author a referendum\, opinion poll\, or amendment. \nAdditional orientation session will also be held on Tuesday\, January 20 (10:00–11:00 a.m.). Sessions will be recorded and posted on the Campus Elections website. \nAll potential referenda authors must submit a completed 2026 Campus Elections Application. Proposals involving a new student fee or an amendment to an existing fee measure also require a Supplemental Fee Measure Referenda Form and draft language. \nApplication deadline: Monday\, January 26\, 2026\, by 12:00 noon. \nFor questions or to request accommodations\, contact Campus Elections Commissioner and Associate Dean of Students for Leadership and Engagement Travis S. Becker at trbecker@ucsc.edu.
URL:https://events.ucsc.edu/event/campus-elections-orientation-zoom-2/
LOCATION:https://ucsc.zoom.us/j/93207076397?pwd=cBKSLmggVTTO8QQbOCJULrBuONbEsW.1
CATEGORIES:Meetings & Conferences
ATTACH;FMTTYPE=image/png:https://events.ucsc.edu/wp-content/uploads/2026/01/Campus-Elections-5-Events-Calendar.png
END:VEVENT
BEGIN:VEVENT
DTSTART;TZID=America/Los_Angeles:20260116T120000
DTEND;TZID=America/Los_Angeles:20260116T170000
DTSTAMP:20260419T080600
CREATED:20251218T194314Z
LAST-MODIFIED:20260106T174638Z
UID:10005874-1768564800-1768582800@events.ucsc.edu
SUMMARY:Ecology of Presence: Pathways to the Natural World
DESCRIPTION:Norris Center Art + Science Graduate Fellowship Exhibition \nEcology of Presence: Pathways to the Natural World brings together the work of ten graduate students supported by the Kenneth S. Norris Center for Natural History Art + Science Fellowship\, a program dedicated to creative research connecting art with the natural world. Across media – including sound\, moving image\, music\, performance\, installation\, comics\, social practice\, photography\, and storytelling – the artists in Ecology of Presence emphasize relationality and careful attention to place as essential to building relationships with environs. As accelerating environmental change and technological dependency threaten ways of belonging\, the works in this exhibition maintain a steadfast commitment to interdisciplinary approaches that propose kinship with the natural world. By coming together\, Art + Science Fellows artworks and social practices suggest ways of imagining human life in relation to the more-than-human world.
URL:https://events.ucsc.edu/event/ecology-of-presence-pathways-to-the-natural-world/2026-01-16/
LOCATION:Eloise Pickard Smith Gallery\, 11 Cowell Service Rd\, Santa Cruz\, CA\, 95064
ORGANIZER;CN="Eloise Pickard Smith Gallery":MAILTO:epsgal@ucsc.edu
GEO:36.996399;-122.0527221
X-APPLE-STRUCTURED-LOCATION;VALUE=URI;X-ADDRESS=Eloise Pickard Smith Gallery 11 Cowell Service Rd Santa Cruz CA 95064;X-APPLE-RADIUS=500;X-TITLE=11 Cowell Service Rd:geo:-122.0527221,36.996399
END:VEVENT
BEGIN:VEVENT
DTSTART;TZID=America/Los_Angeles:20260116T140000
DTEND;TZID=America/Los_Angeles:20260116T144500
DTSTAMP:20260419T080600
CREATED:20260105T173943Z
LAST-MODIFIED:20260109T182122Z
UID:10008174-1768572000-1768574700@events.ucsc.edu
SUMMARY:How to Find a Job On Campus
DESCRIPTION:Do you need a job? Learn how to find jobs on campus and how Career Success can help you through the process! All students are welcome. The presentation will last 30 minutes\, followed by a 15-minute Q&A. \nWe will provide captions for the presentation. If you have disability-related needs\, please contact the Career Success office at csuccess@ucsc.edu or (831) 459-4420 as soon as possible. \nYOU BELONG HERE\nPrograms and services are open to all\, consistent with state and federal law\, as well as the University of California’s nondiscrimination policies. Every initiative—whether a student service\, faculty program\, or community event—is designed to be accessible\, inclusive\, and respectful of all identities. To learn more\, please visit UC Nondiscrimination Statement or Nondiscrimination Policy for UC Publications.
URL:https://events.ucsc.edu/event/how-to-find-a-job-on-campus-virtual-session/
LOCATION:
CATEGORIES:Workshop
ATTACH;FMTTYPE=image/png:https://events.ucsc.edu/wp-content/uploads/2025/10/Career-Success-Banner-with-Photos.png
END:VEVENT
END:VCALENDAR