BEGIN:VCALENDAR
VERSION:2.0
PRODID:-//Events - ECPv6.15.20//NONSGML v1.0//EN
CALSCALE:GREGORIAN
METHOD:PUBLISH
X-ORIGINAL-URL:https://events.ucsc.edu
X-WR-CALDESC:Events for Events
REFRESH-INTERVAL;VALUE=DURATION:PT1H
X-Robots-Tag:noindex
X-PUBLISHED-TTL:PT1H
BEGIN:VTIMEZONE
TZID:America/Los_Angeles
BEGIN:DAYLIGHT
TZOFFSETFROM:-0800
TZOFFSETTO:-0700
TZNAME:PDT
DTSTART:20250309T100000
END:DAYLIGHT
BEGIN:STANDARD
TZOFFSETFROM:-0700
TZOFFSETTO:-0800
TZNAME:PST
DTSTART:20251102T090000
END:STANDARD
BEGIN:DAYLIGHT
TZOFFSETFROM:-0800
TZOFFSETTO:-0700
TZNAME:PDT
DTSTART:20260308T100000
END:DAYLIGHT
BEGIN:STANDARD
TZOFFSETFROM:-0700
TZOFFSETTO:-0800
TZNAME:PST
DTSTART:20261101T090000
END:STANDARD
BEGIN:DAYLIGHT
TZOFFSETFROM:-0800
TZOFFSETTO:-0700
TZNAME:PDT
DTSTART:20270314T100000
END:DAYLIGHT
BEGIN:STANDARD
TZOFFSETFROM:-0700
TZOFFSETTO:-0800
TZNAME:PST
DTSTART:20271107T090000
END:STANDARD
END:VTIMEZONE
BEGIN:VEVENT
DTSTART;TZID=America/Los_Angeles:20260207T100000
DTEND;TZID=America/Los_Angeles:20260207T123000
DTSTAMP:20260423T192723
CREATED:20260108T003701Z
LAST-MODIFIED:20260108T003701Z
UID:10008330-1770458400-1770467400@events.ucsc.edu
SUMMARY:Blueberries for the Home Garden and Small Farm
DESCRIPTION:Learn about varietal selection\, site selection\, planting\, pruning and general care of blueberries in the home garden \nJoin UC Santa Cruz Farm Garden Manager Christof Bernau as he covers the fundamental information you need to know to successfully grow and harvest blueberries in the home garden. Beginning in the Hay Barn at UCSC\, Christof will discuss a brief history and origin of these crops\, their primary cultural requirements\, site selection and soil preparation\, pruning systems\, protection from bird predation\, varietal selection and sourcing. The group will then walk up to the farm and look at each of these crops in three dimensions\, using the living plants to illustrate key terminology and plant physiology and discuss seasonal care requirements and the specifics of winter pruning. Pre-registration is required for this workshop.
URL:https://events.ucsc.edu/event/blueberries-for-the-home-garden-and-small-farm/
LOCATION:Hay Barn\, 94 Ranch View Road\, Santa Cruz\, CA\, 95064\, United States
CATEGORIES:Workshop
ATTACH;FMTTYPE=image/jpeg:https://events.ucsc.edu/wp-content/uploads/2026/01/Photos-10-of-11-scaled.jpeg
GEO:36.9817736;-122.0569624
X-APPLE-STRUCTURED-LOCATION;VALUE=URI;X-ADDRESS=Hay Barn 94 Ranch View Road Santa Cruz CA 95064 United States;X-APPLE-RADIUS=500;X-TITLE=94 Ranch View Road:geo:-122.0569624,36.9817736
END:VEVENT
BEGIN:VEVENT
DTSTART;TZID=America/Los_Angeles:20260207T110000
DTEND;TZID=America/Los_Angeles:20260207T120000
DTSTAMP:20260423T192723
CREATED:20251211T171734Z
LAST-MODIFIED:20251211T171734Z
UID:10005655-1770462000-1770465600@events.ucsc.edu
SUMMARY:First Saturday Tour at the Arboretum
DESCRIPTION:First Saturday Tours are a wonderful way to introduce yourself to the Arboretum or to deepen your knowledge of the Arboretum’s plant collections. Each tour is a little different depending on the time of year\, the interests of the tour guide\, and the people who join in. For example\, you might learn about the birds and mammals that make this land their home or about the amazing physical adaptations that plants have evolved to better deal with our extreme weather and climate conditions. Tours are free with paid admission.
URL:https://events.ucsc.edu/event/first-saturday-tour-at-the-arboretum/2026-02-07/
LOCATION:Arboretum\, 122 Arboretum Road\, Santa Cruz\, CA\, 95064
CATEGORIES:Lectures & Presentations
GEO:36.9838652;-122.0609079
X-APPLE-STRUCTURED-LOCATION;VALUE=URI;X-ADDRESS=Arboretum 122 Arboretum Road Santa Cruz CA 95064;X-APPLE-RADIUS=500;X-TITLE=122 Arboretum Road:geo:-122.0609079,36.9838652
END:VEVENT
BEGIN:VEVENT
DTSTART;TZID=America/Los_Angeles:20260207T120000
DTEND;TZID=America/Los_Angeles:20260207T170000
DTSTAMP:20260423T192723
CREATED:20251218T194314Z
LAST-MODIFIED:20260106T174638Z
UID:10005893-1770465600-1770483600@events.ucsc.edu
SUMMARY:Ecology of Presence: Pathways to the Natural World
DESCRIPTION:Norris Center Art + Science Graduate Fellowship Exhibition \nEcology of Presence: Pathways to the Natural World brings together the work of ten graduate students supported by the Kenneth S. Norris Center for Natural History Art + Science Fellowship\, a program dedicated to creative research connecting art with the natural world. Across media – including sound\, moving image\, music\, performance\, installation\, comics\, social practice\, photography\, and storytelling – the artists in Ecology of Presence emphasize relationality and careful attention to place as essential to building relationships with environs. As accelerating environmental change and technological dependency threaten ways of belonging\, the works in this exhibition maintain a steadfast commitment to interdisciplinary approaches that propose kinship with the natural world. By coming together\, Art + Science Fellows artworks and social practices suggest ways of imagining human life in relation to the more-than-human world.
URL:https://events.ucsc.edu/event/ecology-of-presence-pathways-to-the-natural-world/2026-02-07/
LOCATION:Eloise Pickard Smith Gallery\, 11 Cowell Service Rd\, Santa Cruz\, CA\, 95064
ORGANIZER;CN="Eloise Pickard Smith Gallery":MAILTO:epsgal@ucsc.edu
GEO:36.996399;-122.0527221
X-APPLE-STRUCTURED-LOCATION;VALUE=URI;X-ADDRESS=Eloise Pickard Smith Gallery 11 Cowell Service Rd Santa Cruz CA 95064;X-APPLE-RADIUS=500;X-TITLE=11 Cowell Service Rd:geo:-122.0527221,36.996399
END:VEVENT
BEGIN:VEVENT
DTSTART;TZID=America/Los_Angeles:20260207T193000
DTEND;TZID=America/Los_Angeles:20260207T210000
DTSTAMP:20260423T192723
CREATED:20260121T012921Z
LAST-MODIFIED:20260123T161643Z
UID:10009080-1770492600-1770498000@events.ucsc.edu
SUMMARY:Ben Verdery\, classical guitarist—with the UCSC Guitar Ensemble
DESCRIPTION:Audiences are invited to Some Towns and Cities\, a concert with internationally-recognized classical guitarist\, composer\, and educator Benjamin Verdery. The concert includes original compositions such as “Ellis Island\,” featuring the UCSC Classical Guitar Ensemble\, directed by Chris Mallett\, and the world premiere of a composition called “Santa Cruz\,” with William Coulter and Chris Mallett. Learn more about Benjamin Verdery on his website here.\n—\nADMISSION\n– FREE and open to the public\n– Open seating (no ticket required)\n– First-come\, first-served\n—\nPARKING\n– Parking by permit\, ParkMobile\, or $11 cash/credit via the on-site parking attendant\n– Arts Lot #126 is the closest parking lot to the event\n– Visitors with DMV placards or plates may park for free in DMV spaces\, Medical spaces\, or ParkMobile spaces without additional payment\, or in timed zones for longer than the posted time.\n– UCSC affiliates must purchase their permits before arriving at the event in order to receive their discounted UCSC rate. Attendants will only sell the non-affiliate-priced permits.\n– More information provided by UCSC Transportation & Parking Services (TAPS)\n—\nThis program is open to all members of the public consistent with state and federal law.
URL:https://events.ucsc.edu/event/verdery-2025-26/
LOCATION:Music Center Recital Hall\, 400 McHenry Road\, Santa Cruz\, CA\, 95064
CATEGORIES:Concerts,Performances
ATTACH;FMTTYPE=image/webp:https://events.ucsc.edu/wp-content/uploads/2026/01/BenjaminVerdery_2022_5.webp
GEO:36.9924036;-122.0619475
X-APPLE-STRUCTURED-LOCATION;VALUE=URI;X-ADDRESS=Music Center Recital Hall 400 McHenry Road Santa Cruz CA 95064;X-APPLE-RADIUS=500;X-TITLE=400 McHenry Road:geo:-122.0619475,36.9924036
END:VEVENT
END:VCALENDAR