BEGIN:VCALENDAR
VERSION:2.0
PRODID:-//Events - ECPv6.15.20//NONSGML v1.0//EN
CALSCALE:GREGORIAN
METHOD:PUBLISH
X-WR-CALNAME:Events
X-ORIGINAL-URL:https://events.ucsc.edu
X-WR-CALDESC:Events for Events
REFRESH-INTERVAL;VALUE=DURATION:PT1H
X-Robots-Tag:noindex
X-PUBLISHED-TTL:PT1H
BEGIN:VTIMEZONE
TZID:America/Los_Angeles
BEGIN:DAYLIGHT
TZOFFSETFROM:-0800
TZOFFSETTO:-0700
TZNAME:PDT
DTSTART:20250309T100000
END:DAYLIGHT
BEGIN:STANDARD
TZOFFSETFROM:-0700
TZOFFSETTO:-0800
TZNAME:PST
DTSTART:20251102T090000
END:STANDARD
BEGIN:DAYLIGHT
TZOFFSETFROM:-0800
TZOFFSETTO:-0700
TZNAME:PDT
DTSTART:20260308T100000
END:DAYLIGHT
BEGIN:STANDARD
TZOFFSETFROM:-0700
TZOFFSETTO:-0800
TZNAME:PST
DTSTART:20261101T090000
END:STANDARD
BEGIN:DAYLIGHT
TZOFFSETFROM:-0800
TZOFFSETTO:-0700
TZNAME:PDT
DTSTART:20270314T100000
END:DAYLIGHT
BEGIN:STANDARD
TZOFFSETFROM:-0700
TZOFFSETTO:-0800
TZNAME:PST
DTSTART:20271107T090000
END:STANDARD
END:VTIMEZONE
BEGIN:VEVENT
DTSTART;TZID=America/Los_Angeles:20260214T090000
DTEND;TZID=America/Los_Angeles:20260214T180000
DTSTAMP:20260425T042405
CREATED:20260210T003031Z
LAST-MODIFIED:20260210T003031Z
UID:10009166-1771059600-1771092000@events.ucsc.edu
SUMMARY:BAAITS Powwow
DESCRIPTION:BAAITS Powwow is an opportunity for students to engage with Native American/First Nations/indigenous cultures firsthand. Many students have never been to a powwow before. The American Indian Resource Center & the Cantù Queer Center invite you to join us for a day of fun & celebrating culture! One meal and transportation will be provided. Space is limited – RSVP now at bit.ly/4j7ocgX
URL:https://events.ucsc.edu/event/baaits-powwow/
LOCATION:Cardiff House\, 114 Carriage House Road\, Santa Cruz\, CA\, 95064
GEO:36.9792246;-122.0521797
X-APPLE-STRUCTURED-LOCATION;VALUE=URI;X-ADDRESS=Cardiff House 114 Carriage House Road Santa Cruz CA 95064;X-APPLE-RADIUS=500;X-TITLE=114 Carriage House Road:geo:-122.0521797,36.9792246
END:VEVENT
BEGIN:VEVENT
DTSTART;TZID=America/Los_Angeles:20260214T103000
DTEND;TZID=America/Los_Angeles:20260214T123000
DTSTAMP:20260425T042405
CREATED:20260204T175533Z
LAST-MODIFIED:20260204T175533Z
UID:10009158-1771065000-1771072200@events.ucsc.edu
SUMMARY:Career Mentoring Mixer for Environmental Studies and Agroecology Students
DESCRIPTION:Join us for an Environmental Studies and Agroecology Career Mentoring Mixer! \nConnect with industry professionals to get expert advice on career pathways and industry trends. After a brief introduction\, we’ll split into small groups to have interactive discussions between students and mentors. \nFood will be provided after the career mentoring! Also\, please feel free to stay for the Natural History Symposium\, which will take place immediately following the mixer. This year’s theme is “Honoring Our Relatives: The Teachings of Plants\,” featuring a panel of Indigenous artists and herbalists who will discuss the significance of plants as our relatives and share a botanical art exhibit. \n  \nYOU BELONG HERE\nPrograms and services are open to all\, consistent with state and federal law\, as well as the University of California’s nondiscrimination policies. Every initiative—whether a student service\, faculty program\, or community event—is designed to be accessible\, inclusive\, and respectful of all identities. To learn more\, please visit UC Nondiscrimination Statement or Nondiscrimination Policy for UC Publications.
URL:https://events.ucsc.edu/event/career-mentoring-mixer-for-environmental-studies-and-agroecology-students/
CATEGORIES:Meetings & Conferences,Social Gathering
ATTACH;FMTTYPE=image/png:https://events.ucsc.edu/wp-content/uploads/2026/02/Image-plant-sym-1.png
END:VEVENT
BEGIN:VEVENT
DTSTART;TZID=America/Los_Angeles:20260214T120000
DTEND;TZID=America/Los_Angeles:20260214T170000
DTSTAMP:20260425T042405
CREATED:20251218T194314Z
LAST-MODIFIED:20260106T174638Z
UID:10005899-1771070400-1771088400@events.ucsc.edu
SUMMARY:Ecology of Presence: Pathways to the Natural World
DESCRIPTION:Norris Center Art + Science Graduate Fellowship Exhibition \nEcology of Presence: Pathways to the Natural World brings together the work of ten graduate students supported by the Kenneth S. Norris Center for Natural History Art + Science Fellowship\, a program dedicated to creative research connecting art with the natural world. Across media – including sound\, moving image\, music\, performance\, installation\, comics\, social practice\, photography\, and storytelling – the artists in Ecology of Presence emphasize relationality and careful attention to place as essential to building relationships with environs. As accelerating environmental change and technological dependency threaten ways of belonging\, the works in this exhibition maintain a steadfast commitment to interdisciplinary approaches that propose kinship with the natural world. By coming together\, Art + Science Fellows artworks and social practices suggest ways of imagining human life in relation to the more-than-human world.
URL:https://events.ucsc.edu/event/ecology-of-presence-pathways-to-the-natural-world/2026-02-14/
LOCATION:Eloise Pickard Smith Gallery\, 11 Cowell Service Rd\, Santa Cruz\, CA\, 95064
ORGANIZER;CN="Eloise Pickard Smith Gallery":MAILTO:epsgal@ucsc.edu
GEO:36.996399;-122.0527221
X-APPLE-STRUCTURED-LOCATION;VALUE=URI;X-ADDRESS=Eloise Pickard Smith Gallery 11 Cowell Service Rd Santa Cruz CA 95064;X-APPLE-RADIUS=500;X-TITLE=11 Cowell Service Rd:geo:-122.0527221,36.996399
END:VEVENT
BEGIN:VEVENT
DTSTART;TZID=America/Los_Angeles:20260214T130000
DTEND;TZID=America/Los_Angeles:20260214T163000
DTSTAMP:20260425T042405
CREATED:20251216T224641Z
LAST-MODIFIED:20260122T195501Z
UID:10005855-1771074000-1771086600@events.ucsc.edu
SUMMARY:Honoring Our Relatives: The Teachings of Plants
DESCRIPTION:Join us Saturday February 14th for the Norris Center’s 12th annual natural history symposium at the UC Santa Cruz Hay Barn from 1-4:30pm. This year\, our symposium will include a keynote presentation from renowned herbalist\, healer\, and teacher Sage LaPena\, a panel discussion with local Amah Mutsun tribal stewards\, herbal tea-making\, and an opportunity to create your own plant artwork. A environmental career mentoring workshop for students (including free lunch) will be held at the Hay Barn immediately before the symposium from 10:30-12:30 at the Hay Barn. \nKeynote speaker Sage LaPena is an Herbalist trained in both Traditional Native American and Western herbalism protocol. Sage is mixed-blood Nomtipom and Nomsus Wintu\, with roots in the high country along the waters of the Trinity River and Upper Sacramento River. Certified as a Clinical Herbalist since 2006\, Sage began her training in the ways of plants as a child\, working with Traditional Healers and respected Elders from local Tribes of Northern California. Her principal mentor\, Mable McKay\, was a well-known Traditional Healer\, last Pomo dream doctor\, activist\, and world-renowned basket weaver\, of Cache Creek Pomo and Patwin descent. Sage has had many positions in Botanical\, Medical\, Cultural and Restorative Environmental fields. Sage is currently the Manager of the Healing Ways Department and a Traditional Practitioner at Sacramento Native American Health Center (SNAHC) where her focus is diabetes management\, women’s medicine\, and the building of Traditional Healing practices and protocols. Sage has been teaching about Plants and People for 40 years\, with a focus on diabetes for over 20. A lifetime of learning and hard work has led her to where she is today. Her goal is restoring plant knowledge and medicine to the community and securing a place for Traditional medicine to native clinics throughout California and across the country. \n \n 
URL:https://events.ucsc.edu/event/honoring-our-relatives-the-teachings-of-plants/
LOCATION:Hay Barn\, 94 Ranch View Road\, Santa Cruz\, CA\, 95064\, United States
GEO:36.9817736;-122.0569624
X-APPLE-STRUCTURED-LOCATION;VALUE=URI;X-ADDRESS=Hay Barn 94 Ranch View Road Santa Cruz CA 95064 United States;X-APPLE-RADIUS=500;X-TITLE=94 Ranch View Road:geo:-122.0569624,36.9817736
END:VEVENT
END:VCALENDAR