BEGIN:VCALENDAR
VERSION:2.0
PRODID:-//Events - ECPv6.15.20//NONSGML v1.0//EN
CALSCALE:GREGORIAN
METHOD:PUBLISH
X-ORIGINAL-URL:https://events.ucsc.edu
X-WR-CALDESC:Events for Events
REFRESH-INTERVAL;VALUE=DURATION:PT1H
X-Robots-Tag:noindex
X-PUBLISHED-TTL:PT1H
BEGIN:VTIMEZONE
TZID:America/Los_Angeles
BEGIN:DAYLIGHT
TZOFFSETFROM:-0800
TZOFFSETTO:-0700
TZNAME:PDT
DTSTART:20250309T100000
END:DAYLIGHT
BEGIN:STANDARD
TZOFFSETFROM:-0700
TZOFFSETTO:-0800
TZNAME:PST
DTSTART:20251102T090000
END:STANDARD
BEGIN:DAYLIGHT
TZOFFSETFROM:-0800
TZOFFSETTO:-0700
TZNAME:PDT
DTSTART:20260308T100000
END:DAYLIGHT
BEGIN:STANDARD
TZOFFSETFROM:-0700
TZOFFSETTO:-0800
TZNAME:PST
DTSTART:20261101T090000
END:STANDARD
BEGIN:DAYLIGHT
TZOFFSETFROM:-0800
TZOFFSETTO:-0700
TZNAME:PDT
DTSTART:20270314T100000
END:DAYLIGHT
BEGIN:STANDARD
TZOFFSETFROM:-0700
TZOFFSETTO:-0800
TZNAME:PST
DTSTART:20271107T090000
END:STANDARD
END:VTIMEZONE
BEGIN:VEVENT
DTSTART;TZID=America/Los_Angeles:20260219T010000
DTEND;TZID=America/Los_Angeles:20260315T005959
DTSTAMP:20260425T124208
CREATED:20260219T160650Z
LAST-MODIFIED:20260311T200511Z
UID:10009253-1771462800-1773536399@events.ucsc.edu
SUMMARY:Exhibition—The One with the Manes\, works by Yasmine Benabdallah
DESCRIPTION:A multimedia exhibition by Yasmine Benabdallah\, Film and Digital Media PhD candidate\, explores a shared history between Morocco\, Brazil\, and Portugal through video installations\, photographs\, and watercolors. More information about the artist. \nAdmission \n– FREE and open to the public.\n– Gallery hours are Mon.–Sat.\, noon–5:00 p.m.\n– More Gallery information here. \nFull schedule of events \n– Ongoing exhibition is Feb. 19–March 14\, 2026.\n– Artist Talk is March 5\, 5:00–6:00 p.m.\n– Closing celebration is March 14\, 2:00–4:00 p.m. \nParking \n– Lot 124 & 125 are the closest parking lots to the event.\n– Parking is by permit or ParkMobile.\n– Refer to TAPS for more parking information. \nThis program is open to the general public consistent with state and federal law
URL:https://events.ucsc.edu/event/exhibition-benabdallah/
LOCATION:Mary Porter Sesnon Art Gallery\, Baskin Service Road\, Santa Cruz\, CA\, 95064
CATEGORIES:Exhibits
ATTACH;FMTTYPE=image/jpeg:https://events.ucsc.edu/wp-content/uploads/2026/02/ocean2-1024x575-1.jpg
GEO:36.9946557;-122.0606254
X-APPLE-STRUCTURED-LOCATION;VALUE=URI;X-ADDRESS=Mary Porter Sesnon Art Gallery Baskin Service Road Santa Cruz CA 95064;X-APPLE-RADIUS=500;X-TITLE=Baskin Service Road:geo:-122.0606254,36.9946557
END:VEVENT
BEGIN:VEVENT
DTSTART;TZID=America/Los_Angeles:20260301T000000
DTEND;TZID=America/Los_Angeles:20260331T235959
DTSTAMP:20260425T124208
CREATED:20260223T210337Z
LAST-MODIFIED:20260223T210337Z
UID:10009248-1772323200-1775001599@events.ucsc.edu
SUMMARY:March is Hummingbird Month at the UCSC Arboretum & Botanic Garden
DESCRIPTION:March is Hummingbird Month at the UCSC Arboretum & Botanic Garden \nThis time of year\, the Arboretum hosts both Anna’s and Allen’s hummingbirds\, the two most common species in Northern California. “The density of hummingbirds—the number per area in the Arboretum—is ridiculously high\,” says Bruce Lyon\, Professor Emeriti of Ecology and Evolutionary Biology at UCSC. “You can watch them feeding on ﬂowers\, you can watch their courtship\, you can watch them chasing different species. It’s a great opportunity to see some pretty amazing hummingbird biology.” \nIn celebration of this special time of year\, we invite you to visit the garden as much as possible! We will have presentations\, workshops\, and tours throughout the month. See our webpage for a schedule of activities and more information about hummingbirds and the abundance of plants at the Arboretum that attract them. \nWe will also feature hummingbird merchandise and hummingbird-attracting plants at our gift shop and nursery. Visit Norrie’s Gift & Garden Shop\, Tuesdays thru Sundays from 10 – 4. For more information visit: https://arboretum.ucsc.edu/garden-shop/ \nAll events are free with paid admission: Adults: $10\, Seniors $8 and Youth 4-17 $5. Current UCSC students are free. Rain cancels outdoor activities. \nCurrent Arboretum members are always free and enjoy other great benefits year-round!  Join Today at https://arboretum.ucsc.edu/get-involved/join-us/    \n  \n 
URL:https://events.ucsc.edu/event/march-is-hummingbird-month-at-the-ucsc-arboretum-botanic-garden/
LOCATION:Arboretum\, 122 Arboretum Road\, Santa Cruz\, CA\, 95064
CATEGORIES:Lectures & Presentations
ATTACH;FMTTYPE=image/jpeg:https://events.ucsc.edu/wp-content/uploads/2026/02/Lohman_Kevin_Spotlight-WATERMARK.jpeg
GEO:36.9838652;-122.0609079
X-APPLE-STRUCTURED-LOCATION;VALUE=URI;X-ADDRESS=Arboretum 122 Arboretum Road Santa Cruz CA 95064;X-APPLE-RADIUS=500;X-TITLE=122 Arboretum Road:geo:-122.0609079,36.9838652
END:VEVENT
BEGIN:VEVENT
DTSTART;TZID=America/Los_Angeles:20260308T100000
DTEND;TZID=America/Los_Angeles:20260308T120000
DTSTAMP:20260425T124208
CREATED:20260305T224630Z
LAST-MODIFIED:20260305T224630Z
UID:10009367-1772964000-1772971200@events.ucsc.edu
SUMMARY:Family-friendly and Bilingual Bird Walk at the UCSC Arboretum
DESCRIPTION:Beginner Bird Walk / Paseando con los Pájaritos \nJoin the Bird School Project as they help kick-off the celebrations for Hummingbird Month in the beautiful gardens of the UCSC Arboretum & Botanic Garden. This bird walk is beginner and family-friendly. Bring binoculars if you have them\, if not\, binoculars or a monocular will be provided for you during the walk. The group will meet up at the entrance of the Australianum Garden right next to the large cypress tree in the middle of the parking lot. A Bird School Instructor will be leading the walk and will alternate speaking English and Spanish as needed. We encourage you to arrive at least 15 minutes early if you need to borrow binoculars. \nÚnase a la Escuela de Aves para celebrar el Mes del Colibrí. Este paseo de aves es para principiantes y apto para familias. Traiga binoculares si los tiene\, si no\, se le proporcionarán binoculares o un monocular durante la caminata. El grupo se reunirá en la entrada del Jardín Australia\, justo al lado del gran ciprés en el medio del estacionamiento. Un instructor de la Escuela de Aves liderará la caminata y alternará hablando en inglés y español según sea necesario. Le recomendamos que llegue al menos 15 minutos antes si necesita pedir prestados binoculares. \nEvent is free with paid admission. Adults $10\, Seniors $8\, Youth 4-17 $5 \nBeginner and family-friendly bird walk at the UCSC Arboretum by the Santa Cruz Bird School Project in English and Spanish.
URL:https://events.ucsc.edu/event/family-friendly-and-bilingual-bird-walk-at-the-ucsc-arboretum/2026-03-08/
LOCATION:Arboretum\, 122 Arboretum Road\, Santa Cruz\, CA\, 95064
ATTACH;FMTTYPE=image/jpeg:https://events.ucsc.edu/wp-content/uploads/2026/02/bird-school-tour-cropped-IMG_7782-scaled.jpg
GEO:36.9838652;-122.0609079
X-APPLE-STRUCTURED-LOCATION;VALUE=URI;X-ADDRESS=Arboretum 122 Arboretum Road Santa Cruz CA 95064;X-APPLE-RADIUS=500;X-TITLE=122 Arboretum Road:geo:-122.0609079,36.9838652
END:VEVENT
BEGIN:VEVENT
DTSTART;TZID=America/Los_Angeles:20260308T120000
DTEND;TZID=America/Los_Angeles:20260308T170000
DTSTAMP:20260425T124208
CREATED:20251218T194314Z
LAST-MODIFIED:20260106T174638Z
UID:10008310-1772971200-1772989200@events.ucsc.edu
SUMMARY:Ecology of Presence: Pathways to the Natural World
DESCRIPTION:Norris Center Art + Science Graduate Fellowship Exhibition \nEcology of Presence: Pathways to the Natural World brings together the work of ten graduate students supported by the Kenneth S. Norris Center for Natural History Art + Science Fellowship\, a program dedicated to creative research connecting art with the natural world. Across media – including sound\, moving image\, music\, performance\, installation\, comics\, social practice\, photography\, and storytelling – the artists in Ecology of Presence emphasize relationality and careful attention to place as essential to building relationships with environs. As accelerating environmental change and technological dependency threaten ways of belonging\, the works in this exhibition maintain a steadfast commitment to interdisciplinary approaches that propose kinship with the natural world. By coming together\, Art + Science Fellows artworks and social practices suggest ways of imagining human life in relation to the more-than-human world.
URL:https://events.ucsc.edu/event/ecology-of-presence-pathways-to-the-natural-world/2026-03-08/
LOCATION:Eloise Pickard Smith Gallery\, 11 Cowell Service Rd\, Santa Cruz\, CA\, 95064
ORGANIZER;CN="Eloise Pickard Smith Gallery":MAILTO:epsgal@ucsc.edu
GEO:36.996399;-122.0527221
X-APPLE-STRUCTURED-LOCATION;VALUE=URI;X-ADDRESS=Eloise Pickard Smith Gallery 11 Cowell Service Rd Santa Cruz CA 95064;X-APPLE-RADIUS=500;X-TITLE=11 Cowell Service Rd:geo:-122.0527221,36.996399
END:VEVENT
BEGIN:VEVENT
DTSTART;TZID=America/Los_Angeles:20260308T130000
DTEND;TZID=America/Los_Angeles:20260308T143000
DTSTAMP:20260425T124208
CREATED:20260305T224639Z
LAST-MODIFIED:20260305T224639Z
UID:10009369-1772974800-1772980200@events.ucsc.edu
SUMMARY:Jewels in the garden: A Darwinian natural history of humming birds with UCSC Professor Emeritus Bruce Lyon
DESCRIPTION:This presentation promises to be a super fun exploration of hummingbird natural history\, evolution\, and social behavior\, full of fascinating scientific information and colorful images of local and exotic hummingbirds from here and abroad. Though now officially a Professor Emeritus of Ecology and Evolutionary Biology at UC Santa Cruz\, we are lucky that Dr. Bruce Lyon has little inclination to stop studying bird ecology and evolution in ‘retirement’! During his rich career teaching and conducting research\, Bruce’s work continues to include the Lyon Lab’s 18+ year-long project studying golden-crowned sparrows at the Arboretum. \nBruce will give his entertaining presentation and slideshow in the Arboretum’s Hort 2 Meeting Hall and then take interested folks outside to one of the Arboretum’s “hummingbird hotspots” for an informal (humming)-birdwatching session and Q&A. 
URL:https://events.ucsc.edu/event/jewels-in-the-garden-a-darwinian-natural-history-of-humming-birds-with-ucsc-professor-emeritus-bruce-lyon/
LOCATION:Arboretum\, 122 Arboretum Road\, Santa Cruz\, CA\, 95064
ATTACH;FMTTYPE=image/jpeg:https://events.ucsc.edu/wp-content/uploads/2026/02/bruce-lyon-small.jpg
GEO:36.9838652;-122.0609079
X-APPLE-STRUCTURED-LOCATION;VALUE=URI;X-ADDRESS=Arboretum 122 Arboretum Road Santa Cruz CA 95064;X-APPLE-RADIUS=500;X-TITLE=122 Arboretum Road:geo:-122.0609079,36.9838652
END:VEVENT
BEGIN:VEVENT
DTSTART;TZID=America/Los_Angeles:20260308T140000
DTEND;TZID=America/Los_Angeles:20260308T160000
DTSTAMP:20260425T124208
CREATED:20251204T215129Z
LAST-MODIFIED:20260213T172318Z
UID:10009219-1772978400-1772985600@events.ucsc.edu
SUMMARY:Random With A Purpose (RWAP) XXXlV—The Experiment
DESCRIPTION:Random With A Purpose is a popular annual student-directed and -choreographed dance showcase. \nPer directors Lydia Wallman and Brennah Lyons\, this year’s production\, The Experiment\, “serves as a platform for collaborators to develop work that does not yet exist in the physical world and to investigate elements of community and features a cast that reflects UC Santa Cruz’s diverse student population through a wide range of dance styles and perspectives.”  \nAdmission\n\nGeneral admission $5–$20 “Pay What You Like”\nFREE for UCSC undergrads (ticket required).\nTickets available on Eventbrite.\nDoors open 30 minutes prior to the event start time.\nTicket holders not seated at least 5 minutes before the advertised start time may forfeit their ticket/seat and no refund will be issued.\n\nAdvisories\nThis performance is approximately 90 minutes with a 15-minute intermission and includes: flashing lights and mature language. \nEvent dates\n\nFri. Feb. 27: 7:30 p.m.\nSat. Feb. 28: 7:30 p.m.\nSun. Mar. 1: 2:00 p.m.\nThu. Mar. 5: 7:30 p.m.\nFri. Mar. 6: 7:30 p.m.\nSat. Mar. 7: 7:30 p.m.\nSun. Mar. 8: 2:00 p.m.\n\nParking\n\nParking by permit\, ParkMobile\, or $11.00 cash/credit card via the on-site parking attendant\nArts parking lot #126 is the closest parking lot to the event\nVisitors with DMV placards or plates may park for free in DMV spaces\, Medical spaces\, or ParkMobile spaces without additional payment\, or in timed zones for longer than the posted time.\nRefer to Transportation & Parking Services for more information.\n\nThis program is open to all members of the public consistent with state and federal law.
URL:https://events.ucsc.edu/event/random-with-a-purpose-xxxlv/2026-03-08/
LOCATION:Second Stage\, Second Stage\, Santa Cruz\, CA\, 95064
CATEGORIES:Performances
ATTACH;FMTTYPE=image/png:https://events.ucsc.edu/wp-content/uploads/2025/12/Eventbrite-arts_div_logo-2160x1080-1-e1771003390744.png
GEO:36.9946366;-122.0618609
X-APPLE-STRUCTURED-LOCATION;VALUE=URI;X-ADDRESS=Second Stage Second Stage Santa Cruz CA 95064;X-APPLE-RADIUS=500;X-TITLE=Second Stage:geo:-122.0618609,36.9946366
END:VEVENT
BEGIN:VEVENT
DTSTART;TZID=America/Los_Angeles:20260308T160000
DTEND;TZID=America/Los_Angeles:20260308T180000
DTSTAMP:20260425T124208
CREATED:20260126T222002Z
LAST-MODIFIED:20260209T213636Z
UID:10009112-1772985600-1772992800@events.ucsc.edu
SUMMARY:The Trial of Spock—An Opera Workshop
DESCRIPTION:The creators of The Trial of Spock—An Opera In Three Acts present concert performances of five scenes from an opera-in-progress at the UC Santa Cruz Music Center Recital Hall.  \nCaptain Christopher Pike is gravely injured. Lieutenant Spock is behaving strangely. Charged with protecting Pike in his state of extreme need\,Vulcan Commodore T’or suspects that Lieutenant Spock—once Captain Pike’s science officer—is up to no good. Spock’s Captain\, James T. Kirk\, doesn’t see the trouble until far too late\, and soon Spock holds all of them prisoner aboard a ship destined for the “forbidden planet” Talos IV. He refuses to say a word about their fate—not until his superiors agree to give him his trial. Under oath\, and with strange evidence\, Spock tells the story of Captain Pike’s first visit to Talos IV\, where illusion and artificial experiences plunge Pike and fellow captive Vina into uncharted dimensions of their memories\, and their concepts of self. \nJoin sopranos Nicole Koh\, Sheila Willey\, and Emily Sinclair; tenors Alex Boyer and Nicolas Vasquez-Gerst\, baritones Joseph Calzada and Michael Kuo\, and the Del Sol Quartet\, as they distort the myth of Orpheus\, in order to re-think our presumed relationships to freedom and reality\, and its augmentations. \nMusic by Ben Leeds Carson; libretto by Perre DiCarlo & Ben Leeds Carson and Lincoln & Lee Taiz; with contributions from John de Lancie\, based on teleplays by Gene Roddenberry. \n—\nADMISSION\n– FREE and open to the public\n– Tickets required and available online through Eventbrite\n– Follow the Music Dept on Eventbrite for notices and updates.\n– Doors are scheduled to open 30 minutes prior to event start time.\n– Ticket holders not seated at least 5 minutes before the advertised start time may forfeit their ticket/seat and no refund will be issued.\n—\nPARKING\n– Parking by permit\, ParkMobile\, or $11 cash/credit via the on-site parking attendant\n– Arts Lot #126 is the closest parking lot to the event\n– Visitors with DMV placards or plates may park for free in DMV spaces\, Medical spaces\, or ParkMobile spaces without additional payment\, or in timed zones for longer than the posted time.\n– UCSC affiliates must purchase their permits before arriving at the event in order to receive their discounted UCSC rate. Attendants will only sell the non-affiliate-priced permits.\n– More information provided by UCSC Transportation & Parking Services (TAPS)\n—\nFULL SCHEDULE OF EVENTS\nFri\, March 8\, 4:00 p.m.\, UC Santa Cruz Music Center Recital Hall\nThe Trial of Spock—An Opera Workshop\n—\nFri\, March 13\, 7:00 p.m.\, Kuumbwa Jazz Center\nHow to Live Long and Prosper—Lessons from a Star Trek Opera\n—\nThis program is open to all members of the public consistent with state and federal law. \n  \n 
URL:https://events.ucsc.edu/event/trial-of-spock/
LOCATION:Music Center Recital Hall\, 400 McHenry Road\, Santa Cruz\, CA\, 95064
CATEGORIES:Fundraisers,Performances
ATTACH;FMTTYPE=image/png:https://events.ucsc.edu/wp-content/uploads/2026/01/trial-of-spock-2026-wordpress-hero-1920x1280-1.png
GEO:36.9924036;-122.0619475
X-APPLE-STRUCTURED-LOCATION;VALUE=URI;X-ADDRESS=Music Center Recital Hall 400 McHenry Road Santa Cruz CA 95064;X-APPLE-RADIUS=500;X-TITLE=400 McHenry Road:geo:-122.0619475,36.9924036
END:VEVENT
BEGIN:VEVENT
DTSTART;TZID=America/Los_Angeles:20260308T170000
DTEND;TZID=America/Los_Angeles:20260308T180000
DTSTAMP:20260425T124208
CREATED:20260326T130120Z
LAST-MODIFIED:20260326T131700Z
UID:10011778-1772989200-1772992800@events.ucsc.edu
SUMMARY:Barnstorm Presents--"Gloria\," by Branden Jacobs-Jenkins
DESCRIPTION:Branden Jacobs-Jenkins’ Gloria is a razor-sharp comic drama about ambition\, office warfare and hierarchies\, where the only thing that matters is selling out to the highest bidder. This funny\, trenchant and powerful play follows an ambitious group of editorial assistants at a notorious Manhattan magazine\, each of whom hopes for a starry life of letters and a book deal before they turn thirty. But when an ordinary workday becomes anything but\, the stakes for who will get to tell their own story become higher than ever.\n—\nABOUT BARNSTORM\nUC Santa Cruz students experiment with and create their own innovative theater and gain a sense of operating and creating art in the Barnstorm Theater Company\, a student-run theater arts production company established in 2004.\n—\nADVISORIES\n– Ticket holders not seated at least 10 minutes before the advertised start time may forfeit their ticket/seat and no refund will be issued.\n—\nFULL SCHEDULE OF EVENTS\nFri. March 6: 7:30 p.m.\nSat. March 7: 2:00 p.m. matinee\nSat. March 7: 7:30 p.m.\nSun. March 8: 2:00 p.m. matinee\n—\nADMISSION\n– Tickets issued here through Eventbrite; Follow the Dept. of Performance\, Play & Design and Barnstorm on Eventbrite for notifications and updates.\n– Free for UCSC undergraduate students (ticket required).\n– General admission “Pay What You Like” options $5–20.\n– A limited number of tickets/seats may be available at the door\, even after online ticket sales end or reach full capacity.\n– Doors are scheduled to open 30 minutes prior to event start time.\n—\nPARKING\n– Parking by permit\, ParkMobile\, or $11 cash/credit via the on-site parking attendant when present (no attendant will be present for the Sat. March 7 matinee).\n– Additional parking by permit or ParkMobile.\n– Arts Lot #126 is the closest parking lot to the event.\n– Visitors with DMV placards or plates may park for free in DMV spaces\, Medical spaces\, or ParkMobile spaces without additional payment\, or in timed zones for longer than the posted time.\n– UCSC affiliates must purchase their permits before arriving at the event in order to receive their discounted UCSC rate. Attendants will only sell the non-affiliate-priced permits.\n– More information provided by UCSC Transportation & Parking Services (TAPS).\n—\nThis program is open to all members of the public consistent with state and federal law.
URL:https://events.ucsc.edu/event/barnstorm-presents-gloria-by-branden-jacobs-jenkins/2026-03-08/
LOCATION:Theater Arts B100 Studio Theater\, 453 Kerr Rd\, Santa Cruz\, CA\, 95064\, United States
CATEGORIES:Performances
ATTACH;FMTTYPE=image/png:https://events.ucsc.edu/wp-content/uploads/2025/12/Logo_Barnstorm_screenshot-e1767724416761.png
GEO:36.9948296;-122.062378
X-APPLE-STRUCTURED-LOCATION;VALUE=URI;X-ADDRESS=Theater Arts B100 Studio Theater 453 Kerr Rd Santa Cruz CA 95064 United States;X-APPLE-RADIUS=500;X-TITLE=453 Kerr Rd:geo:-122.062378,36.9948296
END:VEVENT
BEGIN:VEVENT
DTSTART;TZID=America/Los_Angeles:20260308T170000
DTEND;TZID=America/Los_Angeles:20260308T210000
DTSTAMP:20260425T124208
CREATED:20260217T183017Z
LAST-MODIFIED:20260225T000056Z
UID:10009239-1772989200-1773003600@events.ucsc.edu
SUMMARY:"The Cigarette Surfboard" screening with filmmaker Ben Judkins (Kresge '17)
DESCRIPTION:Join Banana Slug alumni filmmaker Ben Judkins (Kresge ’17\, film and digital media) and “ciggy board” creator Taylor Lane for a screening of their award-winning documentary\, The Cigarette Surfboard (presented by the California Coastal Commission‘s Whale Tail Grant). \n5:00-6:00 PM | alumni meet & greet with light refreshments\n6:00-7:35 PM | film screening\n7:35-8:30 PM | filmmaker discussion\n8:30-9:00 PM | mingle \nREGISTER\nABOUT THE FILM\nAfter a young designer realizes that a surfboard – which he crafted from thousands of littered cigarette butts picked up off California beaches – could captivate the eyes of millions across the globe\, he decides to use it as the impetus to do something more. The Cigarette Surfboards become a platform to spark ocean stewardship and the symbol of a campaign to hold Big Tobacco accountable for their toxic\, plastic waste. Surfing is the medium\, but the message is universal. \nSmall decisions and actions\, like littering a cigarette butt\, cumulatively can have a large impact\, for better or for worse. This immersive documentary provides viewers an up close experience of the ocean through surfers’ eyes\, to amplify a message of urgency and possibility regarding the ocean’s wellbeing. As our ocean faces mounting threats\, and surfing continues to grow\, we as surfers have a responsibility to protect it. \nABOUT THE FILMMAKER\nRaised in Northern California\, at age eight\, Ben Judkins found an old camcorder and discovered the medium to explore and create. After years of videotaping friends skateboarding and surfing\, Ben landed at the University of California\, Santa Cruz\, majoring in Film & Digital Media. His senior film “Marshall” earned the Dean’s Award\, and also won “Best Locally-Produced Work” at the 2017 Santa Cruz Film Festival. Ben is an avid surfer who believes in the power of visual storytelling to move people to action. The Cigarette Surfboard documentary is an opportunity to inspire a generation of surfers to be stewards of the sea.
URL:https://events.ucsc.edu/event/the-cigarette-surfboard-screening-with-filmmaker-ben-judkins-kresge-17/
CATEGORIES:Screening
ATTACH;FMTTYPE=image/png:https://events.ucsc.edu/wp-content/uploads/2026/02/unnamed.png
END:VEVENT
END:VCALENDAR