BEGIN:VCALENDAR
VERSION:2.0
PRODID:-//Events - ECPv6.15.20//NONSGML v1.0//EN
CALSCALE:GREGORIAN
METHOD:PUBLISH
X-ORIGINAL-URL:https://events.ucsc.edu
X-WR-CALDESC:Events for Events
REFRESH-INTERVAL;VALUE=DURATION:PT1H
X-Robots-Tag:noindex
X-PUBLISHED-TTL:PT1H
BEGIN:VTIMEZONE
TZID:America/Los_Angeles
BEGIN:DAYLIGHT
TZOFFSETFROM:-0800
TZOFFSETTO:-0700
TZNAME:PDT
DTSTART:20250309T100000
END:DAYLIGHT
BEGIN:STANDARD
TZOFFSETFROM:-0700
TZOFFSETTO:-0800
TZNAME:PST
DTSTART:20251102T090000
END:STANDARD
BEGIN:DAYLIGHT
TZOFFSETFROM:-0800
TZOFFSETTO:-0700
TZNAME:PDT
DTSTART:20260308T100000
END:DAYLIGHT
BEGIN:STANDARD
TZOFFSETFROM:-0700
TZOFFSETTO:-0800
TZNAME:PST
DTSTART:20261101T090000
END:STANDARD
BEGIN:DAYLIGHT
TZOFFSETFROM:-0800
TZOFFSETTO:-0700
TZNAME:PDT
DTSTART:20270314T100000
END:DAYLIGHT
BEGIN:STANDARD
TZOFFSETFROM:-0700
TZOFFSETTO:-0800
TZNAME:PST
DTSTART:20271107T090000
END:STANDARD
END:VTIMEZONE
BEGIN:VEVENT
DTSTART;TZID=America/Los_Angeles:20260301T000000
DTEND;TZID=America/Los_Angeles:20260331T235959
DTSTAMP:20260421T011915
CREATED:20260223T210337Z
LAST-MODIFIED:20260223T210337Z
UID:10009248-1772323200-1775001599@events.ucsc.edu
SUMMARY:March is Hummingbird Month at the UCSC Arboretum & Botanic Garden
DESCRIPTION:March is Hummingbird Month at the UCSC Arboretum & Botanic Garden \nThis time of year\, the Arboretum hosts both Anna’s and Allen’s hummingbirds\, the two most common species in Northern California. “The density of hummingbirds—the number per area in the Arboretum—is ridiculously high\,” says Bruce Lyon\, Professor Emeriti of Ecology and Evolutionary Biology at UCSC. “You can watch them feeding on ﬂowers\, you can watch their courtship\, you can watch them chasing different species. It’s a great opportunity to see some pretty amazing hummingbird biology.” \nIn celebration of this special time of year\, we invite you to visit the garden as much as possible! We will have presentations\, workshops\, and tours throughout the month. See our webpage for a schedule of activities and more information about hummingbirds and the abundance of plants at the Arboretum that attract them. \nWe will also feature hummingbird merchandise and hummingbird-attracting plants at our gift shop and nursery. Visit Norrie’s Gift & Garden Shop\, Tuesdays thru Sundays from 10 – 4. For more information visit: https://arboretum.ucsc.edu/garden-shop/ \nAll events are free with paid admission: Adults: $10\, Seniors $8 and Youth 4-17 $5. Current UCSC students are free. Rain cancels outdoor activities. \nCurrent Arboretum members are always free and enjoy other great benefits year-round!  Join Today at https://arboretum.ucsc.edu/get-involved/join-us/    \n  \n 
URL:https://events.ucsc.edu/event/march-is-hummingbird-month-at-the-ucsc-arboretum-botanic-garden/
LOCATION:Arboretum\, 122 Arboretum Road\, Santa Cruz\, CA\, 95064
CATEGORIES:Lectures & Presentations
ATTACH;FMTTYPE=image/jpeg:https://events.ucsc.edu/wp-content/uploads/2026/02/Lohman_Kevin_Spotlight-WATERMARK.jpeg
GEO:36.9838652;-122.0609079
X-APPLE-STRUCTURED-LOCATION;VALUE=URI;X-ADDRESS=Arboretum 122 Arboretum Road Santa Cruz CA 95064;X-APPLE-RADIUS=500;X-TITLE=122 Arboretum Road:geo:-122.0609079,36.9838652
END:VEVENT
BEGIN:VEVENT
DTSTART;TZID=America/Los_Angeles:20260318T120000
DTEND;TZID=America/Los_Angeles:20260318T130000
DTSTAMP:20260421T011915
CREATED:20250923T070000Z
LAST-MODIFIED:20251001T224502Z
UID:10000279-1773835200-1773838800@events.ucsc.edu
SUMMARY:Engineering Teaching Community (Faculty)
DESCRIPTION:During the chaos of a quarter\, is it hard to find time to reflect and improve as an instructor? Would you like to be a part of an inclusive\, supportive group of engineering instructors who do this in community? ETC is for sharing teaching experiences\, classroom ideas\, research on learning\, and methods that support instructors and students. All are welcome\, and lunch is provided. Please reach out to Jenny Quynn with questions.
URL:https://events.ucsc.edu/event/engineering-teaching-community-faculty/2026-03-18/
LOCATION:Jack Baskin Engineering\, Baskin Engineering 1156 High Street\, Santa Cruz\, CA\, 95064
CATEGORIES:Meetings & Conferences,Training
ATTACH;FMTTYPE=image/jpeg:https://events.ucsc.edu/wp-content/uploads/2025/09/b19cd317e2122064e85e5d3d896b4e3426736249.jpg
GEO:37.000369;-122.0632371
X-APPLE-STRUCTURED-LOCATION;VALUE=URI;X-ADDRESS=Jack Baskin Engineering Baskin Engineering 1156 High Street Santa Cruz CA 95064;X-APPLE-RADIUS=500;X-TITLE=Baskin Engineering 1156 High Street:geo:-122.0632371,37.000369
END:VEVENT
BEGIN:VEVENT
DTSTART;TZID=America/Los_Angeles:20260318T123000
DTEND;TZID=America/Los_Angeles:20260318T133000
DTSTAMP:20260421T011915
CREATED:20260312T194402Z
LAST-MODIFIED:20260312T194402Z
UID:10011315-1773837000-1773840600@events.ucsc.edu
SUMMARY:The Art of Spontaneous Creativity
DESCRIPTION:Come and enjoy a winter concert by the spontaneous composition and improvisation\, MUSC 150J ensemble. You’ll be able to experience the art of spontaneous creativity in action.\n—\nADMISSION\n– FREE and open to UCSC affliates\n– Located in Porter Dining Hall\n—\nPARKING\n– Lot 124 & 125 are the closest parking lots to the event.\n– Parking is by permit or ParkMobile.\n– Refer to TAPS for more parking information.\n—\nThis program is open to all UC Santa Cruz affiliates consistent with state and federal law. \n 
URL:https://events.ucsc.edu/event/the-art-of-spontaneous-creativity/
LOCATION:Porter/Kresge Dining Hall\, 411 Porter-Kresge Rd\, Santa Cruz\, CA\, 95064
CATEGORIES:Concerts,Performances
ATTACH;FMTTYPE=application/pdf:https://events.ucsc.edu/wp-content/uploads/2026/03/ConcertFlyer.pdf
GEO:36.9942863;-122.0658527
X-APPLE-STRUCTURED-LOCATION;VALUE=URI;X-ADDRESS=Porter/Kresge Dining Hall 411 Porter-Kresge Rd Santa Cruz CA 95064;X-APPLE-RADIUS=500;X-TITLE=411 Porter-Kresge Rd:geo:-122.0658527,36.9942863
END:VEVENT
BEGIN:VEVENT
DTSTART;TZID=America/Los_Angeles:20260318T123000
DTEND;TZID=America/Los_Angeles:20260318T133000
DTSTAMP:20260421T011915
CREATED:20260318T205401Z
LAST-MODIFIED:20260318T205401Z
UID:10011336-1773837000-1773840600@events.ucsc.edu
SUMMARY:Jazz at Lunch!  The Art of Spontaneous Creativity
DESCRIPTION:Take a break from studying for finals and grab lunch in the Porter/Kresge Dining Hall and enjoy the Jazz. \nGrab a snack from the Porter Market and take in the concert from the Mezzanine.  Or purchase lunch at the dining hall and enjoy the performance from the Dinning room floor. \nPorter/Kresge Dining Hall \nWednesday\, March 18 \n12:30–1:30 p.m. \nQuestions/Accommodations: Porter_Activities@ucsc.edu \nYou Belong Here: The programs and services described here are open to all\, consistent with state and federal law\, as well as the University of California’s nondiscrimination policies. Every initiative—whether a student service\, faculty program\, or community event—is designed to be accessible\, inclusive\, and respectful of all identities. \nTo learn more\, please visit UC Nondiscrimination Statement or Nondiscrimination Policy for UC Publications. 
URL:https://events.ucsc.edu/event/jazz-at-lunch-the-art-of-spontaneous-creativity/
LOCATION:Porter/Kresge Dining Hall\, 411 Porter-Kresge Rd\, Santa Cruz\, CA\, 95064
CATEGORIES:Concerts
ATTACH;FMTTYPE=image/jpeg:https://events.ucsc.edu/wp-content/uploads/2026/03/3-18-26-Jazz-at-Lunch-Flier.jpg
GEO:36.9942863;-122.0658527
X-APPLE-STRUCTURED-LOCATION;VALUE=URI;X-ADDRESS=Porter/Kresge Dining Hall 411 Porter-Kresge Rd Santa Cruz CA 95064;X-APPLE-RADIUS=500;X-TITLE=411 Porter-Kresge Rd:geo:-122.0658527,36.9942863
END:VEVENT
BEGIN:VEVENT
DTSTART;TZID=America/Los_Angeles:20260318T163000
DTEND;TZID=America/Los_Angeles:20260318T183000
DTSTAMP:20260421T011915
CREATED:20260211T231411Z
LAST-MODIFIED:20260211T231411Z
UID:10009191-1773851400-1773858600@events.ucsc.edu
SUMMARY:Amplifying the History Curriculum for Multilingual Learners
DESCRIPTION:Join us to discuss how teachers can “amplify” rather than “simplify” history instruction for multilingual learners (and all students) by engaging with historical texts and interactive learning opportunities. We are celebrating the publication of the 2nd edition of Amplifying the Curriculum: Designing Quality Learning Opportunities for Multilingual Learners\, which includes a chapter co-authored by Professor George Bunch and HCP Director Dr. Daisy Martin. \nWe will focus on the History/Social Studies chapter titled\, “Selecting\, Preparing\, and Using Multiple texts in the History Classroom\, ” and consider teaching the Deportations of the 1930s. The event will include presentations and discussions about creating inclusive learning environments and advancing equity using student-centered curriculum frameworks! We will host these events at both a Santa Cruz County and Monterey County location. \nDATE: FEBRUARY 19 & MARCH 18\, 2026 \nTIME: 4:30-6:30 \nTWO LOCATIONS: COMMUNITY FOUNDATION SANTA CRUZ COUNTY IN APTOS & CALIFORNIA STATE UNIVERSITY MONTEREY BAY \nRegister for Community Foundation Santa Cruz County in Aptos Location Here (Feb. 19) \nRegister for California State University Monterey Bay Location Here (Mar. 18) \nFree books for the first 15 registrants who attend! \nThis event is supported in part by a grant from the Institute for Social Transformation at the University of California\, Santa Cruz \n\n\nAmplifying the History Curriculum for Multilingual Learners Flyer  DOWNLOAD
URL:https://events.ucsc.edu/event/amplifying-the-history-curriculum-for-multilingual-learners/2026-03-18/
END:VEVENT
BEGIN:VEVENT
DTSTART;TZID=America/Los_Angeles:20260318T190000
DTEND;TZID=America/Los_Angeles:20260318T235900
DTSTAMP:20260421T011915
CREATED:20251211T183741Z
LAST-MODIFIED:20260107T210103Z
UID:10005768-1773860400-1773878340@events.ucsc.edu
SUMMARY:Undiscovered Shakespeare: The Two Noble Kinsmen - Episode III
DESCRIPTION:Shakespeare returns to the characters and themes of A Midsummer Night’s Dream in what may have been the last play he had a hand in writing: The Two Noble Kinsmen. This time\, however\, the story of Theseus and Hippolyta\, the disorienting experience of adolescent sexual desire\, and the conflict of duties to sovereigns\, parents\, friends\, and spouses are no laughing matter. It’s over-shadowed by the play’s source text — Chaucer’s Knight’s Tale\, in which chance foils Theseus’s best efforts to create order out of chaos and meaning out of loss — and by Shakespeare’s own experience writing tragedy and tragicomedy. \n \nThomas Luxon is Professor of English\, Emeritus at Dartmouth College\, where he was also the inaugural Cheheyl Professor and Director of the Dartmouth Center for the Advancement of Learning. His teaching and scholarship focus on literature of the English Renaissance and Reformation\, with a particular interest in John Milton\, John Bunyan\, John Dryden\, and 17th-century English religion and politics. In his revelatory book\, Single Imperfection: Milton\, Marriage\, and Friendship (Duquesne UP\, 2005)\, Professor Luxon explores the impact of ancient theories of friendship on Milton’s conception of Reformation marriage\, and during the pandemic\, he contributed a lecture about the rivalry of friendship and marriage in Two Noble Kinsmen to Ian Doescher’s Shakespeare 2020 Project. \nUndiscovered Shakespeare is a public arts and humanities series co-produced by Santa Cruz Shakespeare\, UCSC Shakespeare Workshop\, and The Humanities Institute. It brings professional actors and scholars together with the public for a staged reading and discussion of works by Shakespeare that are rarely produced.
URL:https://events.ucsc.edu/event/undiscovered-shakespeare-the-two-noble-kinsmen-episode-iii/
ATTACH;FMTTYPE=image/png:https://events.ucsc.edu/wp-content/uploads/2025/12/banner-2.png
END:VEVENT
END:VCALENDAR