BEGIN:VCALENDAR
VERSION:2.0
PRODID:-//Events - ECPv6.15.20//NONSGML v1.0//EN
CALSCALE:GREGORIAN
METHOD:PUBLISH
X-ORIGINAL-URL:https://events.ucsc.edu
X-WR-CALDESC:Events for Events
REFRESH-INTERVAL;VALUE=DURATION:PT1H
X-Robots-Tag:noindex
X-PUBLISHED-TTL:PT1H
BEGIN:VTIMEZONE
TZID:America/Los_Angeles
BEGIN:DAYLIGHT
TZOFFSETFROM:-0800
TZOFFSETTO:-0700
TZNAME:PDT
DTSTART:20250309T100000
END:DAYLIGHT
BEGIN:STANDARD
TZOFFSETFROM:-0700
TZOFFSETTO:-0800
TZNAME:PST
DTSTART:20251102T090000
END:STANDARD
BEGIN:DAYLIGHT
TZOFFSETFROM:-0800
TZOFFSETTO:-0700
TZNAME:PDT
DTSTART:20260308T100000
END:DAYLIGHT
BEGIN:STANDARD
TZOFFSETFROM:-0700
TZOFFSETTO:-0800
TZNAME:PST
DTSTART:20261101T090000
END:STANDARD
BEGIN:DAYLIGHT
TZOFFSETFROM:-0800
TZOFFSETTO:-0700
TZNAME:PDT
DTSTART:20270314T100000
END:DAYLIGHT
BEGIN:STANDARD
TZOFFSETFROM:-0700
TZOFFSETTO:-0800
TZNAME:PST
DTSTART:20271107T090000
END:STANDARD
END:VTIMEZONE
BEGIN:VEVENT
DTSTART;TZID=America/Los_Angeles:20260402T120000
DTEND;TZID=America/Los_Angeles:20260502T170000
DTSTAMP:20260423T155718
CREATED:20260309T212430Z
LAST-MODIFIED:20260324T154133Z
UID:10011284-1775131200-1777741200@events.ucsc.edu
SUMMARY:M.F.A. Exhibition for Environmental Art & Social Practice (EASP)—"Picking up Shells Amid a Tsunami"
DESCRIPTION:The culminating exhibition of the Environmental Art and Social Practice (EASP) M.F.A. program at UC Santa Cruz presents new projects—Picking up Shells Amid a Tsunami 쓰나미가 밀려오는데\, 조개나 줍고 있네—developed through concentrated inquiry over a two-year period and offers a window into the artists’ unique long-term research projects that expand beyond the gallery space.\n—\nFULL SCHEDULE OF EVENTS\n– Ongoing Exhibition: Thurs..\, April 2–Sat.\, May 2\, 2026\n– Opening Celebration: Thurs.\, April 2\, 5:00–7:00 p.m.\n– Artist Roundtable: Thurs.\, April 23\, 5:00–6:00 p.m.\n—\nADMISSION\n– FREE and open to the public\n– Gallery hours are Tues.–Sun.noon–5:00 p.m (closed Mondays)\n—\nPARKING\n– Lot 124 & 125 are the closest parking lots to the event.\n– Parking is by permit or ParkMobile.\n– Refer to TAPS for more parking information.\n—\nABOUT THE EXHIBITION \nNotes from the EASP cohort: \n“The phrase evokes a scene in which\, amid an approaching catastrophe\, someone appears to be idly picking up seashells. In South Korea\, it gained political currency during the 2017 presidential impeachment protests\, when feminist\, disability rights\, and animal rights groups were criticized for bringing their demands into the demonstrations. Their interventions were dismissed as distractions—acts of “picking up shells” at a moment when the sole priority was said to be the president’s removal. \n“We choose to pick up shells nonetheless. Not because the crisis is small\, but because the shells matter. They are the body of the future\, what accumulates slowly\, what endures. One day\, shells become mountains\, and mountains become home. To pick up shells is not to turn away from urgency\, but to insist on a future beyond it. \n“This exhibition comes together through an insistence on the opposite premise: that picking up shells while disaster is at our doorstep is not a distraction\, but a necessity. What gets dismissed as marginal\, secondary\, a mere luxury\, or mistimed\, is precisely where social and political life becomes livable and where dreams\, desire and the imagination open lines of flight towards other worlds. \n“Waves can level buildings once on the shore\, dragging and revealing the damage as they recede. Rather than turning away from the storm\, we acknowledge the multilayered and epistemic devastation caused by centuries of colonial\, patriarchal\, racist violence upon people\, earth and more than human life. We witness the ongoing bifurcation of human and nature that is sedimented into our lives\, languages and social\, material\, infrastructures. \n“The act of bending down to gather shells\, ردم\,  fragments\, sounds\, 뼈\, blue bottles\, grotta\, relationships\, bodies\, cries—composes a score that moves towards forms of care through minor gestures\, embodiment\, ritual\, ofrendas\, listening and beholding.  Mundane and everyday poetics do not negate the scale of devastation and loss\, nor do they refuse engagement. Rather\, they bear witness. They reveal pathways towards endurance\, negotiation\, memory and imagination beyond colonial catastrophe. In this sense\, the exhibition reframes the tsunami not as a singular event or metaphor\, but an invitation us to behold\, actively look\, to sit within the textures of tectonic plates and energy flows\, at the conjuncture where plates meet\, in the flow of energy through tempo\, liquid\, movement\, land\, sound\, ecotone. \n“The wave does not demand one unified response. It forms part of a condition\, a form of everyday accretion\, a movement in and out of different temporalities. Picking up shells while the tsunami unfolds\, amid the tsunami\, alongside the water’s ebbs and flows\, calls us to pay attention to overlooked lives\, stories\, bodies\, memories\, flows and relations\, to transform materials so that they become reconstituted and are able to hold new and ongoing narratives that refuse to remain silent.”
URL:https://events.ucsc.edu/event/easp-2026/
LOCATION:Mary Porter Sesnon Art Gallery\, Baskin Service Road\, Santa Cruz\, CA\, 95064
CATEGORIES:Exhibits
ATTACH;FMTTYPE=image/jpeg:https://events.ucsc.edu/wp-content/uploads/2026/03/MFA-exhbition-webpage-placeholder.jpg
GEO:36.9946557;-122.0606254
X-APPLE-STRUCTURED-LOCATION;VALUE=URI;X-ADDRESS=Mary Porter Sesnon Art Gallery Baskin Service Road Santa Cruz CA 95064;X-APPLE-RADIUS=500;X-TITLE=Baskin Service Road:geo:-122.0606254,36.9946557
END:VEVENT
BEGIN:VEVENT
DTSTART;TZID=America/Los_Angeles:20260413T080000
DTEND;TZID=America/Los_Angeles:20260515T170000
DTSTAMP:20260423T155718
CREATED:20260214T011406Z
LAST-MODIFIED:20260415T142739Z
UID:10009233-1776067200-1778864400@events.ucsc.edu
SUMMARY:2026 Right Livelihood International Conference
DESCRIPTION:The Right Livelihood International Conference is a five-week global conference exploring how education can strengthen democracy\, collective intelligence\, and just futures. Bringing together Right Livelihood Laureates\, students\, faculty\, and community partners across continents\, the conference combines asynchronous learning with participatory dialogue and collaborative action. Rather than advocating specific outcomes\, the conference positions education as a democratic practice and the Right Livelihood College as a steward of dialogue\, student voice\, and long-term institutional learning. \nRegistration is free and open to the public. Sign up to receive conference updates\, session links\, and participation opportunities.
URL:https://events.ucsc.edu/event/2026-right-livelihood-international-conference/
CATEGORIES:Film Screening,Lectures & Presentations,Meetings & Conferences,Ph.D. Presentations,Seminars,Social Gathering,Training,Undergraduate,Workshop
ATTACH;FMTTYPE=image/png:https://events.ucsc.edu/wp-content/uploads/2026/02/World-with-dots.png
LOCATION:
END:VEVENT
BEGIN:VEVENT
DTSTART;TZID=America/Los_Angeles:20260424T010000
DTEND;TZID=America/Los_Angeles:20260427T005959
DTSTAMP:20260423T155718
CREATED:20251119T184335Z
LAST-MODIFIED:20260305T171412Z
UID:10005206-1776992400-1777251599@events.ucsc.edu
SUMMARY:Alumni Reunion Weekend 2026
DESCRIPTION:Join your classmates back at UC Santa Cruz for Alumni Reunion Weekend\, April 24–26\, 2026. This annual celebration honors the pioneering classes of 1965–1976 and the mark you have left on our campus and the world. \nReconnect with classmates\, celebrate your achievements\, and enjoy time among the redwoods. Whether you never left or you haven’t returned to Santa Cruz since graduation\, we hope to see you there for this spectacular reunion weekend. \nMark your calendar and plan to return to campus\, April 24-26\, 2026.
URL:https://events.ucsc.edu/event/alumni-reunion-weekend-2026/
ATTACH;FMTTYPE=image/png:https://events.ucsc.edu/wp-content/uploads/2025/11/Copy-of-Copy-of-WTTC-2025-email-banner-1005-x-634-px.png
END:VEVENT
BEGIN:VEVENT
DTSTART;TZID=America/Los_Angeles:20260424T010000
DTEND;TZID=America/Los_Angeles:20260430T005959
DTSTAMP:20260423T155718
CREATED:20260407T161938Z
LAST-MODIFIED:20260407T162824Z
UID:10012051-1776992400-1777510799@events.ucsc.edu
SUMMARY:Slug48—Student Film Competition\, Screening\, and Awards Ceremony
DESCRIPTION:The third annual Slug48 returns with a 48-hour film competition—open to all UC Santa Cruz students. A 48-hour film is one that is written\, shot\, edited\, and all music composed within a 48-hour time period. Teams and strategies for filming may be formed ahead of time\, but nothing can be written\, and no footage can be shot\, until the clock is ticking. Slug48 was founded in 2024 thanks to the support and enthusiasm of UC Santa Cruz alumnus Kevin Nolting\, former editor at Pixar Animation Studios\, where he edited the Academy Award-winning films Up!; Inside Out; and Soul. \nABOUT THE EVENT \nCompetition Opens\nFri.\, April 24\, 5:00 p.m. | UCSC Communications 139\n– parameters assigned (a theme\, a prop\, a line of dialogue that must be in the film to ensure nothing was shot ahead of time)\n– filming begins\n– open to all UCSC students\n– advanced registration recommended here; however students can sign up at the Competition Opens event \nCompetition Closes\nSun. April 26\, 5:00 p.m.\n– filming concludes\n– submit the finished film \nFilm Screening & Awards Ceremony\nWed.\, April 29\, event time to be announced | Kresge 3105\n– films judged by a panel of celebrity judges\, chaired by Kevin Nolting\n– open admission for friends/family of the filmmakers and UCSC affiliates \nDownload and share the event flyer here.
URL:https://events.ucsc.edu/event/slug48/
CATEGORIES:Award(s) Ceremony,Competition,Film Screening,Reception
ATTACH;FMTTYPE=image/png:https://events.ucsc.edu/wp-content/uploads/2026/04/Slug-48-Rectangle-Logo-scaled.png
END:VEVENT
BEGIN:VEVENT
DTSTART;TZID=America/Los_Angeles:20260424T110000
DTEND;TZID=America/Los_Angeles:20260424T130000
DTSTAMP:20260423T155718
CREATED:20260210T203327Z
LAST-MODIFIED:20260402T212342Z
UID:10009194-1777028400-1777035600@events.ucsc.edu
SUMMARY:DNA Day
DESCRIPTION:Please join the UC Santa Cruz Genomics Institute for our annual celebration of DNA! \nWe will be in the Baskin Engineering courtyard from 11am-1pm with swag\, music\, and activities. This is a fun\, family-friendly event and open to the public. Activities will include: \n\nStrawberry DNA Extraction demonstration (WiSE)\nDouble helix origami\nPoster session and resource fair\nFace painting\nStickers\, bookmarks\, pins\, and other swag\nDouble human helix conga line (everyone who participates gets a free shirt!)\n\nStop by and learn about the amazing molecule that codes all of life. 🧬❤️ \nWant to be a part of DNA Day? Sign up to: \n1. Give a poster presentation\n2. Volunteer during DNA day\n3. Have your student group or org participate in our resource fair
URL:https://events.ucsc.edu/event/dna-day/
LOCATION:Jack Baskin Engineering\, Baskin Engineering 1156 High Street\, Santa Cruz\, CA\, 95064
CATEGORIES:Undergraduate
ATTACH;FMTTYPE=image/jpeg:https://events.ucsc.edu/wp-content/uploads/2026/02/4-21-23-DNA-Day-CL-025-1-scaled.jpg
GEO:37.000369;-122.0632371
X-APPLE-STRUCTURED-LOCATION;VALUE=URI;X-ADDRESS=Jack Baskin Engineering Baskin Engineering 1156 High Street Santa Cruz CA 95064;X-APPLE-RADIUS=500;X-TITLE=Baskin Engineering 1156 High Street:geo:-122.0632371,37.000369
END:VEVENT
BEGIN:VEVENT
DTSTART;TZID=America/Los_Angeles:20260424T120000
DTEND;TZID=America/Los_Angeles:20260424T170000
DTSTAMP:20260423T155718
CREATED:20260402T184659Z
LAST-MODIFIED:20260403T222026Z
UID:10011947-1777032000-1777050000@events.ucsc.edu
SUMMARY:Spring Exhibitions at the Institute of the Arts and Sciences
DESCRIPTION:Visit the IAS\, UCSC’s premier art galleries\, for our spring exhibitions. On view April 10–August 16\, 2026 are three diverse and interdisciplinary shows: Libia Posada: Everything is Going Right\, the first US solo exhibition by the Colombia-based artist and medical doctor; Gina Athena Ulysse: A Redwoods Rasanblaj\, a site-specific and immersive exploration of the Haitian kreyol conception of rasanblaj; and Ronaldo V. Wilson: There Are No Words\, But Melodies\, a mixed-media exhibition emerging at the intersections of Black poetics\, performance\, and visual art. \nThe IAS Galleries are open Wednesday-Sunday\, 12 pm – 5 pm. Admission is free to the public. \nLibia Posada: Everything is Going Right\nLibia Posada’s first solo exhibition in the United States features installations\, sculptures\, and drawings meticulously constructed from surgical instruments\, gauze bandages\, crutches\, used books\, and domestic picture frames. The new and existing works in the exhibition powerfully stitch together the personal\, social\, and political disorders and afflictions that currently trouble the world\, from the wars that resonate across the globe to the violences of aging in US prisons.  \nGina Athena Ulysse: A Redwoods Rasanblaj: Origins & Disentanglements\nThe internationally-lauded work of humanities professor Gina Athena Ulysse is on view as a premier Faculty Spotlight Exhibition. The site-specific installation\, produced in community from things collected\, found\, purchased and donated\, centers on the Haitian concept of rasanblaj\, a form of assembly and collage that transcends the formal use of materials to draw together people\, spirits\, and ideas.  \nRonaldo V. Wilson: There Are No Words\, But Melodies\nCollage is both a material practice and a structural interrogation in the Faculty Spotlight Exhibition artworks by literature professor Ronaldo V. Wilson. In video\, painting\, and installation\, layers and folds conceal and reveal\, delving into the experience\, both bodily and emotive\, of living in times of violence.  \n 
URL:https://events.ucsc.edu/event/spring-exhibitions-at-the-institute-of-the-arts-and-sciences/2026-04-24/
LOCATION:Institute of the Arts and Sciences\, 100 Panetta Ave\, Santa Cruz\, United States
CATEGORIES:Exhibits
ATTACH;FMTTYPE=image/jpeg:https://events.ucsc.edu/wp-content/uploads/2026/04/IAS-3-1024x683-1.jpg
GEO:36.9557939;-122.0505546
X-APPLE-STRUCTURED-LOCATION;VALUE=URI;X-ADDRESS=Institute of the Arts and Sciences 100 Panetta Ave Santa Cruz United States;X-APPLE-RADIUS=500;X-TITLE=100 Panetta Ave:geo:-122.0505546,36.9557939
END:VEVENT
BEGIN:VEVENT
DTSTART;TZID=America/Los_Angeles:20260424T130000
DTEND;TZID=America/Los_Angeles:20260424T134500
DTSTAMP:20260423T155718
CREATED:20260325T185637Z
LAST-MODIFIED:20260326T215551Z
UID:10011370-1777035600-1777038300@events.ucsc.edu
SUMMARY:Time Management
DESCRIPTION:In this workshop\, you will: Learn the ways you can manage your time and avoid procrastination/burnout. \nThe Successful Slug Workshop series\, hosted by Learning Support Services Peer Coaches\, are open to all UCSC undergraduate students and focus on academic skills and tools to support your success as a student. At each workshop\, you will be introduced to a topic\, engage in active learning\, be given resources to begin implementing the same day\, and have an opportunity to learn more if you are interested. \nYou Belong Here: The programs and services described here are open to all\, consistent with state and federal law\, as well as the University of California’s nondiscrimination policies. Every initiative—whether a student service\, faculty program\, or community event—is designed to be accessible\, inclusive\, and respectful of all identities. \nTo learn more\, please visit UC Nondiscrimination Statement or Nondiscrimination Policy for UC Publications.
URL:https://events.ucsc.edu/event/time-management/
LOCATION:Academic Resources Center (ARC)\, 408 McHenry Road\, Santa Cruz\, CA\, 95064
CATEGORIES:Undergraduate,Workshop
ATTACH;FMTTYPE=image/png:https://events.ucsc.edu/wp-content/uploads/2026/03/Successful-Slug-Workshop-Logo-1.png
GEO:36.9944159;-122.0593762
X-APPLE-STRUCTURED-LOCATION;VALUE=URI;X-ADDRESS=Academic Resources Center (ARC) 408 McHenry Road Santa Cruz CA 95064;X-APPLE-RADIUS=500;X-TITLE=408 McHenry Road:geo:-122.0593762,36.9944159
END:VEVENT
BEGIN:VEVENT
DTSTART;TZID=America/Los_Angeles:20260424T130000
DTEND;TZID=America/Los_Angeles:20260424T150000
DTSTAMP:20260423T155718
CREATED:20260408T175733Z
LAST-MODIFIED:20260408T175733Z
UID:10012079-1777035600-1777042800@events.ucsc.edu
SUMMARY:Zheng\, Z. (STATS) - Semi-Supervised Statistical Learning for Oceanographic Data
DESCRIPTION:Oceanographic data\, generated by modern technologies that measure biological systems across time\, space\, and cell populations\, are often rich\, high-dimensional\, and highly heterogeneous. Such data provide valuable opportunities to study subcellular organization\, cellular heterogeneity\, and dynamic biological processes in marine environments. However\, because marine plankton systems remain relatively understudied and less well characterized than many model biological systems\, both data generation and labeling are particularly challenging. Limited domain knowledge and less mature laboratory protocols often produce noisy observations\, while reliable annotation requires substantial expert effort and is therefore difficult to obtain at scale.\nThis proposal develops statistical methodology for oceanographic data settings in which a small amount of expert-labeled data must be combined with a much larger collection of unlabeled or imperfectly processed data. A central goal is to incorporate limited scientific knowledge into statistical learning procedures to improve interpretability\, component identifiability\, and inferential reliability. In particular\, I develop semi-supervised statistical methods that explicitly quantify the information contributed by expert annotation.\nTo address this goal\, I study three related problems: semi-supervised functional clustering for subcellular spatial proteomics\, anchored semi-supervised mixture-of-experts models for flow cytometry\, and temporally structured latent-variable models that separate smooth trend and seasonal variation from scientific signals of interest. Together\, these projects aim to develop principled and interpretable methodology for partially labeled\, structured\, and high-dimensional oceanographic data\, with an emphasis on valid uncertainty quantification. \nEvent Host: Ziyue Zheng\, Ph.D. Student\, Statistical Science \nAdvisor: Sangwon Hyun \nZoom: https://ucsc.zoom.us/j/93229540289?pwd=8bsBOSBFmISlexmS4OWTmTZKp420u2.1
URL:https://events.ucsc.edu/event/zheng-z-stats-semi-supervised-statistical-learning-for-oceanographic-data/
LOCATION:Engineering 2\, Engineering 2 1156 High Street\, Santa Cruz\, CA\, 95064
CATEGORIES:Ph.D. Presentations
ATTACH;FMTTYPE=image/png:https://events.ucsc.edu/wp-content/uploads/2026/04/ph.d.-presentation-graphic-option-3.png
GEO:37.0009723;-122.0632371
X-APPLE-STRUCTURED-LOCATION;VALUE=URI;X-ADDRESS=Engineering 2 Engineering 2 1156 High Street Santa Cruz CA 95064;X-APPLE-RADIUS=500;X-TITLE=Engineering 2 1156 High Street:geo:-122.0632371,37.0009723
END:VEVENT
BEGIN:VEVENT
DTSTART;TZID=America/Los_Angeles:20260424T132000
DTEND;TZID=America/Los_Angeles:20260424T142500
DTSTAMP:20260423T155718
CREATED:20260422T224826Z
LAST-MODIFIED:20260422T224826Z
UID:10013977-1777036800-1777040700@events.ucsc.edu
SUMMARY:BME80G Seminar: Ed Green\, "DNA Forensics in The Genomics Age"
DESCRIPTION:Presenter: Richard “Ed” Green\, Professor of Bimolecular Engineering @ UCSC \nBio: Richard E. Green (Ed) was born in Atlanta\, Georgia\, USA in 1972. He graduated from the University of Georgia (B.Sc. Genetics) in 1997. Before graduate school\, Ed was in Peace Corps (Barentu\, Eritrea) and was a lab tech at Emory University. Ed studied with Steven Brenner at the University of California\, Berkeley where he got his PhD in 2005 on computational algorithms for sequence analysis and alternative splicing. As an NSF Postdoctoral Fellow in the lab of Svante Paabo at the Max Planck Institute for Evolutionary Anthropology\, Ed pioneered the use of high throughput sequencing in ancient DNA. He was first author of the paper in Science describing the Neanderthal genome which won the Newcombe-Cleveland prize. As Professor at the University of California\, Santa Cruz\, Ed co-directs the UCSC Paleogenomics lab. His research focuses on comparative genomics\, population genetics\, DNA technology development\, and DNA-based forensics. Ed is co-founder of Dovetail Genomics\, Claret Biosciences\, and Astrea Forensics. He is a Kavli Scholar\, a Searle Scholar and a Sloan Scholar\, author of over 100 research manuscripts and 21 US Patents. He is a senior member of the National Academy of Inventors\, was a 2024 Santa Cruz Titan of Tech\, and was awarded the 2025 International Homicide Investigators Association technology award. \n\nHosted by: Professor Karen Miga\, BME Department
URL:https://events.ucsc.edu/event/bme80g-seminar-ed-green-dna-forensics-in-the-genomics-age/
LOCATION:Jack Baskin Auditorium\, 191 Baskin Cir\, Santa Cruz\, CA\, 95064
CATEGORIES:Seminars
ATTACH;FMTTYPE=image/png:https://events.ucsc.edu/wp-content/uploads/2026/04/Screenshot-2026-04-22-at-3.47.04-PM.png
GEO:37.0001832;-122.0623528
X-APPLE-STRUCTURED-LOCATION;VALUE=URI;X-ADDRESS=Jack Baskin Auditorium 191 Baskin Cir Santa Cruz CA 95064;X-APPLE-RADIUS=500;X-TITLE=191 Baskin Cir:geo:-122.0623528,37.0001832
END:VEVENT
BEGIN:VEVENT
DTSTART;TZID=America/Los_Angeles:20260424T180000
DTEND;TZID=America/Los_Angeles:20260424T200000
DTSTAMP:20260423T155718
CREATED:20260401T201111Z
LAST-MODIFIED:20260403T162752Z
UID:10011837-1777053600-1777060800@events.ucsc.edu
SUMMARY:Palaver Strings—April in Santa Cruz
DESCRIPTION:Kuumbwa Jazz\, Cabrillo Festival of Contemporary Music\, and the Arts Division at UC Santa Cruz partner to present: A Change is Gonna Come\, featuring Palaver Strings and tenor Nicholas Phan. \nGrammy award-winning tenor Nicholas Phan joins Portland\, Maine-based ensemble Palaver Strings\, in a program that explores our country’s rich legacy of protest songs. Repertoire includes traditional songs of protest and music inspired by social movements and historical events\, including Akenya Seymour’s “Fear the Lamb\,” and Errollyn Wallen’s Protest Songs\, both commissioned by the ensemble\, and premiers written for this program by UC Santa Cruz composers Lukáš Janata and Siamak Barghi. Spanning genres\, eras\, and movements\, A Change Is Gonna Come confronts our past and present and celebrates protest as one of our most precious rights. \nThis event is a co-production of the Cabrillo Festival of Contemporary Music and April in Santa Cruz Festival of Creative Music.\n—\nADMISSION\n– Tickets and information here on the Kuumbwa website\n– Attend in-person at the Kuumbwa Jazz Center in downtown Santa Cruz\n—\nFULL SCHEDULE OF EVENTS\n– This year’s festival includes seven events between April 15 and May 21\, 2026\n– Additional April in Santa Cruz events and information at aprilsc.ucsc.edu\n—\nA CHANGE IS GONNA COME\nPALAVER STRINGS WITH NICHOLAS PHAN \n\nimage: photo of Palaver Strings\n—
URL:https://events.ucsc.edu/event/aisc-palaver-strings-04-24-26/
LOCATION:Kuumbwa Jazz Center\, 320-2 Cedar St\, Santa Cruz\, 95060\, United States
CATEGORIES:Concerts,Performances
ATTACH;FMTTYPE=image/jpeg:https://events.ucsc.edu/wp-content/uploads/2026/04/April-In-SC-2026_hero_image-scaled.jpg
GEO:36.96978;-122.0262874
X-APPLE-STRUCTURED-LOCATION;VALUE=URI;X-ADDRESS=Kuumbwa Jazz Center 320-2 Cedar St Santa Cruz 95060 United States;X-APPLE-RADIUS=500;X-TITLE=320-2 Cedar St:geo:-122.0262874,36.96978
END:VEVENT
BEGIN:VEVENT
DTSTART;TZID=America/Los_Angeles:20260424T190000
DTEND;TZID=America/Los_Angeles:20260424T210000
DTSTAMP:20260423T155718
CREATED:20260413T230839Z
LAST-MODIFIED:20260413T230839Z
UID:10012074-1777057200-1777064400@events.ucsc.edu
SUMMARY:Harriet: Performing Anarchive
DESCRIPTION:Through motion capture\, immersive sound\, and real-time digital systems\, CHARI (Dr. Chari Smith) performs alongside Harriet\, a life-scale avatar carrying a living archive of Black sonic and vernacular memory. Drawing from Black archival traditions rooted in call-and-response\, improvisation\, and communal stewardship\, the performance understands memory as relational and alive. Together\, our movements shape the environment as the performance unfolds\, images shift\, sound expands\, and memory surfaces in fragments. \nPerforming Anarchive turns the stage into a threshold between body and code\, memory and possibility. It imagines a future where technology is not distant or extractive\, but intimate\, attentive\, and alive. \n\nRsvp and reserve a seat via Eventbrite \n\n\n\nParking: \nPerformance Arts Lot\nPermits Accepted: A\, N\, MC\, ADA\, Medical\, Reserved\,\nParkmobile: Zone 15158\n\n\nThis performance was made possible in part through grant funding from Investing in Artists: Artistic Innovation at The Center for Cultural Innovation\, the Arts Division\, and the Arts Research Institute.
URL:https://events.ucsc.edu/event/harriet-performing-anarchive/
LOCATION:Digital Arts Research Center\, 407 McHenry Rd\, Santa Cruz\, CA\, 95064
CATEGORIES:Exhibits,Performances
ATTACH;FMTTYPE=image/jpeg:https://events.ucsc.edu/wp-content/uploads/2026/04/PerformingAnArchive-scaled.jpg
GEO:36.9939758;-122.0603902
X-APPLE-STRUCTURED-LOCATION;VALUE=URI;X-ADDRESS=Digital Arts Research Center 407 McHenry Rd Santa Cruz CA 95064;X-APPLE-RADIUS=500;X-TITLE=407 McHenry Rd:geo:-122.0603902,36.9939758
END:VEVENT
BEGIN:VEVENT
DTSTART;TZID=America/Los_Angeles:20260424T190000
DTEND;TZID=America/Los_Angeles:20260424T211500
DTSTAMP:20260423T155718
CREATED:20260415T171637Z
LAST-MODIFIED:20260421T145638Z
UID:10012131-1777057200-1777065300@events.ucsc.edu
SUMMARY:Harriet: Performing an Archive
DESCRIPTION:Through motion capture\, immersive sound\, and real-time digital systems\, CHARI performs alongside Harriet\, a life-scale avatar carrying a living archive of Black sonic and vernacular memory. Drawing from Black archival traditions rooted in call-and-response\, improvisation\, and communal stewardship\, the performance understands memory as relational and alive. Together\, our movements shape the environment as the performance unfolds\, images shift\, sound expands\, and memory surfaces in fragments. Performing An Archive turns the stage into a threshold between body and code\, memory and possibility. It imagines a future where technology is not distant or extractive\, but intimate\, attentive\, and alive. This performance was made possible in part through grant funding from Investing in Artists: Artistic Innovation at the Center for Cultural Innovation\, the Arts Division\, and the Arts Research Institute.\n—\nADVISORIES\n– This presentation uses haze/fog effects and may contain loud noises\n—\nADMISSION\n– Attend in person at the “Dark Lab” (DARC 108) in the Digital Arts Research Center on the first floor\, just inside the front entrance.\n– FREE and open to UCSC affiliates\n– Advance registration recommended via Eventbrite\n– Doors open 30 minutes prior to event start time\n—\nPARKING\n– Parking by permit or ParkMobile\n– Arts Lot #126 is the closest parking lot to the event\n– Visitors with DMV placards or plates may park for free in DMV spaces\, Medical spaces\, or ParkMobile spaces without additional payment\, or in timed zones for longer than the posted time.\n– More information provided by UCSC Transportation & Parking Services (TAPS)\n—\nThis program is open to all UC Santa Cruz affiliates consistent with state and federal law. \n  \n  \n 
URL:https://events.ucsc.edu/event/harriet-performing-an-archive/
LOCATION:Digital Arts Research Center\, 407 McHenry Rd\, Santa Cruz\, CA\, 95064
CATEGORIES:Performances
ATTACH;FMTTYPE=image/webp:https://events.ucsc.edu/wp-content/uploads/2026/04/CHARI-scaled-e1776273358175.webp
GEO:36.9939758;-122.0603902
X-APPLE-STRUCTURED-LOCATION;VALUE=URI;X-ADDRESS=Digital Arts Research Center 407 McHenry Rd Santa Cruz CA 95064;X-APPLE-RADIUS=500;X-TITLE=407 McHenry Rd:geo:-122.0603902,36.9939758
END:VEVENT
END:VCALENDAR