BEGIN:VCALENDAR
VERSION:2.0
PRODID:-//Events - ECPv6.15.20//NONSGML v1.0//EN
CALSCALE:GREGORIAN
METHOD:PUBLISH
X-ORIGINAL-URL:https://events.ucsc.edu
X-WR-CALDESC:Events for Events
REFRESH-INTERVAL;VALUE=DURATION:PT1H
X-Robots-Tag:noindex
X-PUBLISHED-TTL:PT1H
BEGIN:VTIMEZONE
TZID:America/Los_Angeles
BEGIN:DAYLIGHT
TZOFFSETFROM:-0800
TZOFFSETTO:-0700
TZNAME:PDT
DTSTART:20250309T100000
END:DAYLIGHT
BEGIN:STANDARD
TZOFFSETFROM:-0700
TZOFFSETTO:-0800
TZNAME:PST
DTSTART:20251102T090000
END:STANDARD
BEGIN:DAYLIGHT
TZOFFSETFROM:-0800
TZOFFSETTO:-0700
TZNAME:PDT
DTSTART:20260308T100000
END:DAYLIGHT
BEGIN:STANDARD
TZOFFSETFROM:-0700
TZOFFSETTO:-0800
TZNAME:PST
DTSTART:20261101T090000
END:STANDARD
BEGIN:DAYLIGHT
TZOFFSETFROM:-0800
TZOFFSETTO:-0700
TZNAME:PDT
DTSTART:20270314T100000
END:DAYLIGHT
BEGIN:STANDARD
TZOFFSETFROM:-0700
TZOFFSETTO:-0800
TZNAME:PST
DTSTART:20271107T090000
END:STANDARD
END:VTIMEZONE
BEGIN:VEVENT
DTSTART;TZID=America/Los_Angeles:20260402T120000
DTEND;TZID=America/Los_Angeles:20260502T170000
DTSTAMP:20260420T203505
CREATED:20260309T212430Z
LAST-MODIFIED:20260324T154133Z
UID:10011284-1775131200-1777741200@events.ucsc.edu
SUMMARY:M.F.A. Exhibition for Environmental Art & Social Practice (EASP)—"Picking up Shells Amid a Tsunami"
DESCRIPTION:The culminating exhibition of the Environmental Art and Social Practice (EASP) M.F.A. program at UC Santa Cruz presents new projects—Picking up Shells Amid a Tsunami 쓰나미가 밀려오는데\, 조개나 줍고 있네—developed through concentrated inquiry over a two-year period and offers a window into the artists’ unique long-term research projects that expand beyond the gallery space.\n—\nFULL SCHEDULE OF EVENTS\n– Ongoing Exhibition: Thurs..\, April 2–Sat.\, May 2\, 2026\n– Opening Celebration: Thurs.\, April 2\, 5:00–7:00 p.m.\n– Artist Roundtable: Thurs.\, April 23\, 5:00–6:00 p.m.\n—\nADMISSION\n– FREE and open to the public\n– Gallery hours are Tues.–Sun.noon–5:00 p.m (closed Mondays)\n—\nPARKING\n– Lot 124 & 125 are the closest parking lots to the event.\n– Parking is by permit or ParkMobile.\n– Refer to TAPS for more parking information.\n—\nABOUT THE EXHIBITION \nNotes from the EASP cohort: \n“The phrase evokes a scene in which\, amid an approaching catastrophe\, someone appears to be idly picking up seashells. In South Korea\, it gained political currency during the 2017 presidential impeachment protests\, when feminist\, disability rights\, and animal rights groups were criticized for bringing their demands into the demonstrations. Their interventions were dismissed as distractions—acts of “picking up shells” at a moment when the sole priority was said to be the president’s removal. \n“We choose to pick up shells nonetheless. Not because the crisis is small\, but because the shells matter. They are the body of the future\, what accumulates slowly\, what endures. One day\, shells become mountains\, and mountains become home. To pick up shells is not to turn away from urgency\, but to insist on a future beyond it. \n“This exhibition comes together through an insistence on the opposite premise: that picking up shells while disaster is at our doorstep is not a distraction\, but a necessity. What gets dismissed as marginal\, secondary\, a mere luxury\, or mistimed\, is precisely where social and political life becomes livable and where dreams\, desire and the imagination open lines of flight towards other worlds. \n“Waves can level buildings once on the shore\, dragging and revealing the damage as they recede. Rather than turning away from the storm\, we acknowledge the multilayered and epistemic devastation caused by centuries of colonial\, patriarchal\, racist violence upon people\, earth and more than human life. We witness the ongoing bifurcation of human and nature that is sedimented into our lives\, languages and social\, material\, infrastructures. \n“The act of bending down to gather shells\, ردم\,  fragments\, sounds\, 뼈\, blue bottles\, grotta\, relationships\, bodies\, cries—composes a score that moves towards forms of care through minor gestures\, embodiment\, ritual\, ofrendas\, listening and beholding.  Mundane and everyday poetics do not negate the scale of devastation and loss\, nor do they refuse engagement. Rather\, they bear witness. They reveal pathways towards endurance\, negotiation\, memory and imagination beyond colonial catastrophe. In this sense\, the exhibition reframes the tsunami not as a singular event or metaphor\, but an invitation us to behold\, actively look\, to sit within the textures of tectonic plates and energy flows\, at the conjuncture where plates meet\, in the flow of energy through tempo\, liquid\, movement\, land\, sound\, ecotone. \n“The wave does not demand one unified response. It forms part of a condition\, a form of everyday accretion\, a movement in and out of different temporalities. Picking up shells while the tsunami unfolds\, amid the tsunami\, alongside the water’s ebbs and flows\, calls us to pay attention to overlooked lives\, stories\, bodies\, memories\, flows and relations\, to transform materials so that they become reconstituted and are able to hold new and ongoing narratives that refuse to remain silent.”
URL:https://events.ucsc.edu/event/easp-2026/
LOCATION:Mary Porter Sesnon Art Gallery\, Baskin Service Road\, Santa Cruz\, CA\, 95064
CATEGORIES:Exhibits
ATTACH;FMTTYPE=image/jpeg:https://events.ucsc.edu/wp-content/uploads/2026/03/MFA-exhbition-webpage-placeholder.jpg
GEO:36.9946557;-122.0606254
X-APPLE-STRUCTURED-LOCATION;VALUE=URI;X-ADDRESS=Mary Porter Sesnon Art Gallery Baskin Service Road Santa Cruz CA 95064;X-APPLE-RADIUS=500;X-TITLE=Baskin Service Road:geo:-122.0606254,36.9946557
END:VEVENT
BEGIN:VEVENT
DTSTART;TZID=America/Los_Angeles:20260413T080000
DTEND;TZID=America/Los_Angeles:20260515T170000
DTSTAMP:20260420T203505
CREATED:20260214T011406Z
LAST-MODIFIED:20260415T142739Z
UID:10009233-1776067200-1778864400@events.ucsc.edu
SUMMARY:2026 Right Livelihood International Conference
DESCRIPTION:The Right Livelihood International Conference is a five-week global conference exploring how education can strengthen democracy\, collective intelligence\, and just futures. Bringing together Right Livelihood Laureates\, students\, faculty\, and community partners across continents\, the conference combines asynchronous learning with participatory dialogue and collaborative action. Rather than advocating specific outcomes\, the conference positions education as a democratic practice and the Right Livelihood College as a steward of dialogue\, student voice\, and long-term institutional learning. \nRegistration is free and open to the public. Sign up to receive conference updates\, session links\, and participation opportunities.
URL:https://events.ucsc.edu/event/2026-right-livelihood-international-conference/
CATEGORIES:Film Screening,Lectures & Presentations,Meetings & Conferences,Ph.D. Presentations,Seminars,Social Gathering,Training,Undergraduate,Workshop
ATTACH;FMTTYPE=image/png:https://events.ucsc.edu/wp-content/uploads/2026/02/World-with-dots.png
LOCATION:
END:VEVENT
BEGIN:VEVENT
DTSTART;TZID=America/Los_Angeles:20260424T010000
DTEND;TZID=America/Los_Angeles:20260427T005959
DTSTAMP:20260420T203505
CREATED:20251119T184335Z
LAST-MODIFIED:20260305T171412Z
UID:10005206-1776992400-1777251599@events.ucsc.edu
SUMMARY:Alumni Reunion Weekend 2026
DESCRIPTION:Join your classmates back at UC Santa Cruz for Alumni Reunion Weekend\, April 24–26\, 2026. This annual celebration honors the pioneering classes of 1965–1976 and the mark you have left on our campus and the world. \nReconnect with classmates\, celebrate your achievements\, and enjoy time among the redwoods. Whether you never left or you haven’t returned to Santa Cruz since graduation\, we hope to see you there for this spectacular reunion weekend. \nMark your calendar and plan to return to campus\, April 24-26\, 2026.
URL:https://events.ucsc.edu/event/alumni-reunion-weekend-2026/
ATTACH;FMTTYPE=image/png:https://events.ucsc.edu/wp-content/uploads/2025/11/Copy-of-Copy-of-WTTC-2025-email-banner-1005-x-634-px.png
END:VEVENT
BEGIN:VEVENT
DTSTART;TZID=America/Los_Angeles:20260424T010000
DTEND;TZID=America/Los_Angeles:20260430T005959
DTSTAMP:20260420T203505
CREATED:20260407T161938Z
LAST-MODIFIED:20260407T162824Z
UID:10012051-1776992400-1777510799@events.ucsc.edu
SUMMARY:Slug48—Student Film Competition\, Screening\, and Awards Ceremony
DESCRIPTION:The third annual Slug48 returns with a 48-hour film competition—open to all UC Santa Cruz students. A 48-hour film is one that is written\, shot\, edited\, and all music composed within a 48-hour time period. Teams and strategies for filming may be formed ahead of time\, but nothing can be written\, and no footage can be shot\, until the clock is ticking. Slug48 was founded in 2024 thanks to the support and enthusiasm of UC Santa Cruz alumnus Kevin Nolting\, former editor at Pixar Animation Studios\, where he edited the Academy Award-winning films Up!; Inside Out; and Soul. \nABOUT THE EVENT \nCompetition Opens\nFri.\, April 24\, 5:00 p.m. | UCSC Communications 139\n– parameters assigned (a theme\, a prop\, a line of dialogue that must be in the film to ensure nothing was shot ahead of time)\n– filming begins\n– open to all UCSC students\n– advanced registration recommended here; however students can sign up at the Competition Opens event \nCompetition Closes\nSun. April 26\, 5:00 p.m.\n– filming concludes\n– submit the finished film \nFilm Screening & Awards Ceremony\nWed.\, April 29\, event time to be announced | Kresge 3105\n– films judged by a panel of celebrity judges\, chaired by Kevin Nolting\n– open admission for friends/family of the filmmakers and UCSC affiliates \nDownload and share the event flyer here.
URL:https://events.ucsc.edu/event/slug48/
CATEGORIES:Award(s) Ceremony,Competition,Film Screening,Reception
ATTACH;FMTTYPE=image/png:https://events.ucsc.edu/wp-content/uploads/2026/04/Slug-48-Rectangle-Logo-scaled.png
END:VEVENT
BEGIN:VEVENT
DTSTART;TZID=America/Los_Angeles:20260425T100000
DTEND;TZID=America/Los_Angeles:20260425T150000
DTSTAMP:20260420T203505
CREATED:20260202T223235Z
LAST-MODIFIED:20260413T231550Z
UID:10009147-1777111200-1777129200@events.ucsc.edu
SUMMARY:Spring Plant Sale
DESCRIPTION:Stock your garden with premium organic seedlings while supporting student education! Browse a huge variety of flowers\, vegetables\, herbs\, and strawberries—all grown by UCSC Farm staff\, students\, and volunteers in our greenhouses. Proceeds support the Center for Agroecology’s hands-on learning programs. \nView the full list of varieties here. \nSpecial Perks: \n\nFriends of the Farm & Garden members: 10% off all plants + early bird shopping at 9 AM (There will be a Friends membership table at the sale for those who would like to sign up or renew their membership that morning)\nUCSC students with valid ID: 25% off\n\nParking and logistics: \nPlease plan to park across the street from the Hay Barn in parking lot 116.  We encourage you to bring a basket\, wagon\, or other means to carry your plants. We will have a limited number of cardboard boxes available but encourage you to bring your own. \nPayment: \nWe accept cash\, checks made out to “UC Regents\,” or credit card (we do not have a traditional credit card reader; you will need a smart phone to scan a QR code and then manually enter your credit card number.) \nInterested in volunteering in the greenhouses in preparation for our plant sale? Fill out this form! \nThis event is open to all members of the public consistent with state and federal law.
URL:https://events.ucsc.edu/event/cfa-spring-plant-sale/
LOCATION:Hay Barn\, 94 Ranch View Road\, Santa Cruz\, CA\, 95064\, United States
ATTACH;FMTTYPE=image/jpeg:https://events.ucsc.edu/wp-content/uploads/2026/02/54492344561_93490ecbd5_k.jpg
GEO:36.9817736;-122.0569624
X-APPLE-STRUCTURED-LOCATION;VALUE=URI;X-ADDRESS=Hay Barn 94 Ranch View Road Santa Cruz CA 95064 United States;X-APPLE-RADIUS=500;X-TITLE=94 Ranch View Road:geo:-122.0569624,36.9817736
END:VEVENT
BEGIN:VEVENT
DTSTART;TZID=America/Los_Angeles:20260425T103000
DTEND;TZID=America/Los_Angeles:20260425T120000
DTSTAMP:20260420T203505
CREATED:20260313T185556Z
LAST-MODIFIED:20260416T170419Z
UID:10011325-1777113000-1777118400@events.ucsc.edu
SUMMARY:Younger Lagoon Reserve Tours
DESCRIPTION:Younger Lagoon Reserve tours are free and open to the public. Space is limited to 18 participants. Call 831-459-3800 or sign-up online. Virtual tours are available online. \n 
URL:https://events.ucsc.edu/event/younger-lagoon-reserve-tours/2026-04-25/
LOCATION:Seymour Marine Discovery Center\, 100 McAllister Way\, Santa Cruz\, CA\, 95060
ATTACH;FMTTYPE=image/jpeg:https://events.ucsc.edu/wp-content/uploads/2026/03/woodcock_400square.jpg
GEO:36.9495746;-122.0645023
X-APPLE-STRUCTURED-LOCATION;VALUE=URI;X-ADDRESS=Seymour Marine Discovery Center 100 McAllister Way Santa Cruz CA 95060;X-APPLE-RADIUS=500;X-TITLE=100 McAllister Way:geo:-122.0645023,36.9495746
END:VEVENT
BEGIN:VEVENT
DTSTART;TZID=America/Los_Angeles:20260425T120000
DTEND;TZID=America/Los_Angeles:20260425T170000
DTSTAMP:20260420T203505
CREATED:20260402T184659Z
LAST-MODIFIED:20260403T222026Z
UID:10011948-1777118400-1777136400@events.ucsc.edu
SUMMARY:Spring Exhibitions at the Institute of the Arts and Sciences
DESCRIPTION:Visit the IAS\, UCSC’s premier art galleries\, for our spring exhibitions. On view April 10–August 16\, 2026 are three diverse and interdisciplinary shows: Libia Posada: Everything is Going Right\, the first US solo exhibition by the Colombia-based artist and medical doctor; Gina Athena Ulysse: A Redwoods Rasanblaj\, a site-specific and immersive exploration of the Haitian kreyol conception of rasanblaj; and Ronaldo V. Wilson: There Are No Words\, But Melodies\, a mixed-media exhibition emerging at the intersections of Black poetics\, performance\, and visual art. \nThe IAS Galleries are open Wednesday-Sunday\, 12 pm – 5 pm. Admission is free to the public. \nLibia Posada: Everything is Going Right\nLibia Posada’s first solo exhibition in the United States features installations\, sculptures\, and drawings meticulously constructed from surgical instruments\, gauze bandages\, crutches\, used books\, and domestic picture frames. The new and existing works in the exhibition powerfully stitch together the personal\, social\, and political disorders and afflictions that currently trouble the world\, from the wars that resonate across the globe to the violences of aging in US prisons.  \nGina Athena Ulysse: A Redwoods Rasanblaj: Origins & Disentanglements\nThe internationally-lauded work of humanities professor Gina Athena Ulysse is on view as a premier Faculty Spotlight Exhibition. The site-specific installation\, produced in community from things collected\, found\, purchased and donated\, centers on the Haitian concept of rasanblaj\, a form of assembly and collage that transcends the formal use of materials to draw together people\, spirits\, and ideas.  \nRonaldo V. Wilson: There Are No Words\, But Melodies\nCollage is both a material practice and a structural interrogation in the Faculty Spotlight Exhibition artworks by literature professor Ronaldo V. Wilson. In video\, painting\, and installation\, layers and folds conceal and reveal\, delving into the experience\, both bodily and emotive\, of living in times of violence.  \n 
URL:https://events.ucsc.edu/event/spring-exhibitions-at-the-institute-of-the-arts-and-sciences/2026-04-25/
LOCATION:Institute of the Arts and Sciences\, 100 Panetta Ave\, Santa Cruz\, United States
CATEGORIES:Exhibits
ATTACH;FMTTYPE=image/jpeg:https://events.ucsc.edu/wp-content/uploads/2026/04/IAS-3-1024x683-1.jpg
GEO:36.9557939;-122.0505546
X-APPLE-STRUCTURED-LOCATION;VALUE=URI;X-ADDRESS=Institute of the Arts and Sciences 100 Panetta Ave Santa Cruz United States;X-APPLE-RADIUS=500;X-TITLE=100 Panetta Ave:geo:-122.0505546,36.9557939
END:VEVENT
BEGIN:VEVENT
DTSTART;TZID=America/Los_Angeles:20260425T120000
DTEND;TZID=America/Los_Angeles:20260425T170000
DTSTAMP:20260420T203505
CREATED:20260402T190659Z
LAST-MODIFIED:20260403T222113Z
UID:10011860-1777118400-1777136400@events.ucsc.edu
SUMMARY:Visualizing Abolition Screening Series: Beyond Access
DESCRIPTION:On view in the IAS Screening Room is a selection of short films curated by Visualizing Abolition Visiting Faculty Fellow Dr. Pooja Rangan. \nPrisons deny and censor the access of those trapped inside them—to information\, to intimacy\, to community\, to meaningful work\, to nourishment of all kinds\, and perhaps most cruelly\, to care. This program assembles a series of films\, including works by filmmakers incarcerated in California as well as others without that lived experience. Together\, these works confront the debilitating impacts of these restrictions and reveal how the disabling logic of the prison is extended to other institutional spaces (the hospital\, the university)\, turning access into a scarce commodity by enclosing what should be held in common. Questioning the carceral and state-sponsored productions of disability and accessibility\, the short films together reveal the courage of people working despite limitations to produce collective access for one another\, described simply and beautifully by disability justice activist Leah-Lakshmi Piepzna Samarasinha as “revolutionary love without charity.” \nThanh Tran\nDying in Prison\, 2022\nHD Video (color\, sound)\, 3 minutes\nCourtesy of the artist \nCarolyn Lazard\nPre-Existing Condition\, 2019\nHD video (color\, sound)\, 6 minutes\nCourtesy of the artist and Trautwein Herleth3 \nAnthony Alejandrez\nAnother Rainy Day\, 2023\nPhone video (color\, sound)\, 3 minutes\nCourtesy of the artist \nJordan Lord\nAfter…After… (Access)\, 2018\nHD Video (color\, sound)\, 16 minutes\nCourtesy of the artist \nRahsaan “New York” Thomas\nFriendly Signs\, 2023\nVideo (color\, sound) 21 minutes\nCourtesy of Tommy Wickerd\, Empowerment Ave & System Impact Media
URL:https://events.ucsc.edu/event/visualizing-abolition-screening-series-beyond-access/2026-04-25/
LOCATION:Institute of the Arts and Sciences\, 100 Panetta Ave\, Santa Cruz\, United States
CATEGORIES:Exhibits
ATTACH;FMTTYPE=image/webp:https://events.ucsc.edu/wp-content/uploads/2026/04/017–CLS_Pre-ExistingCondition_2019_02-e1774380409661-1024x606.jpg.webp
GEO:36.9557939;-122.0505546
X-APPLE-STRUCTURED-LOCATION;VALUE=URI;X-ADDRESS=Institute of the Arts and Sciences 100 Panetta Ave Santa Cruz United States;X-APPLE-RADIUS=500;X-TITLE=100 Panetta Ave:geo:-122.0505546,36.9557939
END:VEVENT
BEGIN:VEVENT
DTSTART;TZID=America/Los_Angeles:20260425T123000
DTEND;TZID=America/Los_Angeles:20260425T180000
DTSTAMP:20260420T203505
CREATED:20260223T210328Z
LAST-MODIFIED:20260223T210328Z
UID:10009247-1777120200-1777140000@events.ucsc.edu
SUMMARY:Chemistry and Biochemistry symposium
DESCRIPTION:On April 25\, the department will hold its Annual Chemistry Symposium. This year\, we will host the Bunnett Organic Chemistry Seminar\, the Fink Biomedical Chemistry Seminar\, and the Crews Diversity in Science Lecture\, all on the same day. In addition\, we will include a lecture focused on Physical Chemistry and Materials Research.\nWe hope to see you in April\, more information here.
URL:https://events.ucsc.edu/event/chemistry-and-biochemistry-symposium/
LOCATION:Jack Baskin Auditorium\, 191 Baskin Cir\, Santa Cruz\, CA\, 95064
ATTACH;FMTTYPE=image/png:https://events.ucsc.edu/wp-content/uploads/2026/02/Chem-symposium-2026-2.png
GEO:37.0001832;-122.0623528
X-APPLE-STRUCTURED-LOCATION;VALUE=URI;X-ADDRESS=Jack Baskin Auditorium 191 Baskin Cir Santa Cruz CA 95064;X-APPLE-RADIUS=500;X-TITLE=191 Baskin Cir:geo:-122.0623528,37.0001832
END:VEVENT
BEGIN:VEVENT
DTSTART;TZID=America/Los_Angeles:20260425T123000
DTEND;TZID=America/Los_Angeles:20260425T180000
DTSTAMP:20260420T203505
CREATED:20260331T222834Z
LAST-MODIFIED:20260331T222834Z
UID:10011812-1777120200-1777140000@events.ucsc.edu
SUMMARY:Chemistry and Biochemistry symposium
DESCRIPTION:On April 25\, the department will hold its Annual Chemistry Symposium. This year\, we will host the Bunnett Organic Chemistry Seminar\, the Fink Biomedical Chemistry Seminar\, and the UCSC Phillip Crews Symposium: Powered by Chemistry\, Strengthened by Discovery Science Lecture\, all on the same day. In addition\, we will include a lecture focused on Physical Chemistry and Materials Research.\nWe hope to see you in April\, more information and to register  here.
URL:https://events.ucsc.edu/event/chemistry-and-biochemistry-symposium-2/
LOCATION:Jack Baskin Auditorium\, 191 Baskin Cir\, Santa Cruz\, CA\, 95064
ATTACH;FMTTYPE=image/png:https://events.ucsc.edu/wp-content/uploads/2026/03/Chem-symposium-2026-2.png
GEO:37.0001832;-122.0623528
X-APPLE-STRUCTURED-LOCATION;VALUE=URI;X-ADDRESS=Jack Baskin Auditorium 191 Baskin Cir Santa Cruz CA 95064;X-APPLE-RADIUS=500;X-TITLE=191 Baskin Cir:geo:-122.0623528,37.0001832
END:VEVENT
BEGIN:VEVENT
DTSTART;TZID=America/Los_Angeles:20260425T123000
DTEND;TZID=America/Los_Angeles:20260425T180000
DTSTAMP:20260420T203505
CREATED:20260409T004805Z
LAST-MODIFIED:20260409T004805Z
UID:10012078-1777120200-1777140000@events.ucsc.edu
SUMMARY:Chemistry and Biochemistry symposium
DESCRIPTION:On April 25\, the department will hold its Annual Chemistry Symposium. This year\, we will host the Bunnett Organic Chemistry Seminar\, the Fink Biomedical Chemistry Seminar\, and the UCSC Phillip Crews Symposium: Powered by Chemistry\, Strengthened by Discovery Science Lecture\, all on the same day. In addition\, we will include a lecture focused on Physical Chemistry and Materials Research.\n\nEvent Date:\nSaturday\, April 25th\, 2026\n\nEvent time:\n12:30 PM - 8:00 PM \n\nEvent Location:\nUCSC Jack Baskin Engineering Auditorium \nPhysical Science Building Atrium\n\nParking:\nCore west Parking Structure \nDirections \n\nParking is Free\n\n\nItinerary\n12:30 PM - 1:30 PM: Davide Donadio - Physical Chemistry seminar (45 min talk\, 5 min Q&A\, 10 min Awards) Jack Baskin Aud. Rm 101\n\n1:30 PM - 2:30 PM: Hosea Nelson - Crews Seminar(45 min talk\, 5 min Q&A\, 10 min Awards) Jack Baskin Aud. Rm 101\n\n2:30 PM - 3:30 PM: Coffee/Posters Physical science Building Atrium\n\n3:30 PM - 4:30 PM: Neil L. Kelleher - Fink Biochemistry Seminar (45 min talk\, 5 min Q&A\, 10 min Awards) Jack Baskin Aud. Rm 101 \n\n4:30 PM - 5:40 PM: Gina Wang - Bunnett Talk (45 min talk\, 5 min Q&A\, 20 min Awards) Jack Baskin Aud. Rm 101 \n\n5:40 PM - 8:00 PM: Dinner Physical Science Building Atrium\n\n\nWe hope to see you in April\, more information and to register  here.
URL:https://events.ucsc.edu/event/chemistry-and-biochemistry-symposium-3/
LOCATION:Jack Baskin Auditorium\, 191 Baskin Cir\, Santa Cruz\, CA\, 95064
ATTACH;FMTTYPE=image/png:https://events.ucsc.edu/wp-content/uploads/2026/03/Chem-symposium-2026-2.png
GEO:37.0001832;-122.0623528
X-APPLE-STRUCTURED-LOCATION;VALUE=URI;X-ADDRESS=Jack Baskin Auditorium 191 Baskin Cir Santa Cruz CA 95064;X-APPLE-RADIUS=500;X-TITLE=191 Baskin Cir:geo:-122.0623528,37.0001832
END:VEVENT
BEGIN:VEVENT
DTSTART;TZID=America/Los_Angeles:20260425T140000
DTEND;TZID=America/Los_Angeles:20260425T150000
DTSTAMP:20260420T203505
CREATED:20260402T200519Z
LAST-MODIFIED:20260403T222629Z
UID:10011930-1777125600-1777129200@events.ucsc.edu
SUMMARY:Artist Tour with Libia Posada
DESCRIPTION:We are thrilled to invite you to join Libia Posada\, a multidisciplinary artist as well as a physician\, for this artist-led tour of Everything is Going Right\, the premiere solo exhibition of her work in the United States. With artworks influenced by her medical training\, Posada will discuss how she engages the body as a site for the staging of human experience\, both individual and collective\, and a territory closely connected to the geopolitical. \nLibia Posada’s work has been shown broadly internationally\, including at the Museum of Modern Art of Medellín; Musée Les Abattoirs\, Toulouse\, France; National Museum of Colombia; and the Havana Biennial.
URL:https://events.ucsc.edu/event/artist-tour-with-libia-posada/
LOCATION:Institute of the Arts and Sciences\, 100 Panetta Ave\, Santa Cruz\, United States
CATEGORIES:Exhibits,Lectures & Presentations
ATTACH;FMTTYPE=image/png:https://events.ucsc.edu/wp-content/uploads/2026/04/Screenshot-2026-04-02-at-11.40.55-AM.png
GEO:36.9557939;-122.0505546
X-APPLE-STRUCTURED-LOCATION;VALUE=URI;X-ADDRESS=Institute of the Arts and Sciences 100 Panetta Ave Santa Cruz United States;X-APPLE-RADIUS=500;X-TITLE=100 Panetta Ave:geo:-122.0505546,36.9557939
END:VEVENT
END:VCALENDAR