BEGIN:VCALENDAR
VERSION:2.0
PRODID:-//Events - ECPv6.15.20//NONSGML v1.0//EN
CALSCALE:GREGORIAN
METHOD:PUBLISH
X-ORIGINAL-URL:https://events.ucsc.edu
X-WR-CALDESC:Events for Events
REFRESH-INTERVAL;VALUE=DURATION:PT1H
X-Robots-Tag:noindex
X-PUBLISHED-TTL:PT1H
BEGIN:VTIMEZONE
TZID:America/Los_Angeles
BEGIN:DAYLIGHT
TZOFFSETFROM:-0800
TZOFFSETTO:-0700
TZNAME:PDT
DTSTART:20250309T100000
END:DAYLIGHT
BEGIN:STANDARD
TZOFFSETFROM:-0700
TZOFFSETTO:-0800
TZNAME:PST
DTSTART:20251102T090000
END:STANDARD
BEGIN:DAYLIGHT
TZOFFSETFROM:-0800
TZOFFSETTO:-0700
TZNAME:PDT
DTSTART:20260308T100000
END:DAYLIGHT
BEGIN:STANDARD
TZOFFSETFROM:-0700
TZOFFSETTO:-0800
TZNAME:PST
DTSTART:20261101T090000
END:STANDARD
BEGIN:DAYLIGHT
TZOFFSETFROM:-0800
TZOFFSETTO:-0700
TZNAME:PDT
DTSTART:20270314T100000
END:DAYLIGHT
BEGIN:STANDARD
TZOFFSETFROM:-0700
TZOFFSETTO:-0800
TZNAME:PST
DTSTART:20271107T090000
END:STANDARD
END:VTIMEZONE
BEGIN:VEVENT
DTSTART;TZID=America/Los_Angeles:20260521T120000
DTEND;TZID=America/Los_Angeles:20260531T180000
DTSTAMP:20260423T183450
CREATED:20260421T211222Z
LAST-MODIFIED:20260422T004245Z
UID:10013960-1779364800-1780250400@events.ucsc.edu
SUMMARY:Beautiful Universe - An astrophotography exhibit
DESCRIPTION:Beautiful Universe is a pop-up exhibit in collaboration with the UC Santa Cruz Department of Astronomy & Astrophysics that will be on display at the Santa Cruz Museum of Art and History from May 21 to 31.\nIn over more than 20 photos\, you will see galaxies\, novae\, supernovae\, reflection and emission nebulae\, and interstellar dust clouds that give birth to new stars and planets. They are artistic images filled with scientific information. The astrophotography exhibit bridges the gap that often exists in our minds between art and science. \nAsk an astronomer! Astronomers will be on site at the Museum of Art and History in downtown Santa Cruz from 2 p.m. to 6 p.m. on weekends (May 23\, 24\, 30\, and 31) to answer your questions. \nImages are by Steve Mandel and Bob Fera\, Deep Space Remote Observatories\, and once the pop-up exhibit concludes\, the photos on display will be permanently installed on the UC Santa Cruz campus\, courtesy of Steve Mandel\, research associate for the UC Santa Cruz Department of Astronomy & Astrophysics and sponsor of the Mandel Lecture Series. \nLearn more.
URL:https://events.ucsc.edu/event/beautiful-universe-astrophotography-exhibit/
LOCATION:Museum of Art & History\, 705 Front St\, Santa Cruz\, CA\, 95060\, United States
CATEGORIES:Exhibits
ATTACH;FMTTYPE=image/jpeg:https://events.ucsc.edu/wp-content/uploads/2026/04/Cygnus-Wallsml-1.jpg
GEO:36.9745675;-122.0253376
X-APPLE-STRUCTURED-LOCATION;VALUE=URI;X-ADDRESS=Museum of Art & History 705 Front St Santa Cruz CA 95060 United States;X-APPLE-RADIUS=500;X-TITLE=705 Front St:geo:-122.0253376,36.9745675
END:VEVENT
BEGIN:VEVENT
DTSTART;TZID=America/Los_Angeles:20260522T110000
DTEND;TZID=America/Los_Angeles:20260522T120000
DTSTAMP:20260423T183450
CREATED:20260421T020057Z
LAST-MODIFIED:20260421T020349Z
UID:10012222-1779447600-1779451200@events.ucsc.edu
SUMMARY:Let's Talk
DESCRIPTION:Need to talk? We’re here to listen! Drop in for a confidential chat with a professional counselor who can provide support\, advice and information. \nZoom Meeting Link\nMeeting ID: 635 182 8273\nPasscode: 231831 \nFacilitator: Mitchell Rees\, PhD (831) 459-2628 \n  \nYou Belong Here: The programs and services described here are open to all\, consistent with state and federal law\, as well as the University of California’s nondiscrimination policies. Every initiative—whether a student service\, faculty program\, or community event—is designed to be accessible\, inclusive\, and respectful of all identities. \nTo learn more\, please visit UC Nondiscrimination Statement or Nondiscrimination Policy for UC Publications.
URL:https://events.ucsc.edu/event/lets-talk-5/2026-05-22/
LOCATION: https://ucsc.zoom.us/j/8704358865?pwd=aGRaZDEydGJkMWdqOWhOSkpid1kyZz09
CATEGORIES:Drop-In Support
ATTACH;FMTTYPE=image/png:https://events.ucsc.edu/wp-content/uploads/2026/04/Lets-Talk-2-e1776360785980.png
END:VEVENT
BEGIN:VEVENT
DTSTART;TZID=America/Los_Angeles:20260522T120000
DTEND;TZID=America/Los_Angeles:20260522T140000
DTSTAMP:20260423T183450
CREATED:20260402T211754Z
LAST-MODIFIED:20260403T222321Z
UID:10011936-1779451200-1779458400@events.ucsc.edu
SUMMARY:Something held by poetry
DESCRIPTION:In this intimate workshop\, UC Santa Cruz students\, faculty\, and staff are invited into conversation with poets Ronaldo V. Wilson and Terri Witek. Something held by poetry is programmed for Wilson’s multimedia exhibition\, there are no words\, but melodies\, currently on view at the IAS. \nRSVP is required. \n\n\nRonaldo V. Wilson is a poet\, interdisciplinary artist\, academic\, and the author of Narrative of the Life of the Brown Boy and the White Man\, winner of the Cave Canem Prize; Poems of the Black Object\, winner of the Thom Gunn Award for Gay Poetry and the Asian American Literary Award in Poetry; Farther Traveler: Poetry\, Prose\, Other\, and Lucy 72. His latest books are Carmelina: Figures and Virgil Kills: Stories. He is the editor of three special issues of hybrid and experimental work in Interim: A Journal of Poetry and Poetics; and Obsidian: Literature & Arts in the African Diaspora. Wilson is Professor of Creative Writing and Literature at U.C. Santa Cruz\, where he directs the Creative Writing Program\, and serves on the core faculty of the Creative Critical PhD Program; principal faculty member of CRES (Critical Race and Ethnic Studies); and affiliate faculty member of DANM (Digital Arts and New Media). \n\n\n\n\nTerri Witek’s most recent books include her 2026 eco-poetics collection with Amaranth Borsuk\, W/\ SH\, which loops two rain prophets\, both women\, into a crisis between future worlds\, and 2023’s Something’s Missing in This Museum (Anhinga Press). A translation by Dona Mayoora of 2018’s The Rape Kit into Malayalam is forthcoming. Her work has been included in many anthologies\, including 2 from 2021: JUDITH: Women Making Visual Poetry (Timglaset Editions ) and the WAAVe Global Gallery (Hysterical Books). Witek’s solo and collaborative work has been featured in a wide variety of text venues\, including Fence\, The Colorado Review\, Hampden-Sydney Poetry Review\, American Poetry Review\, Poetry\, Slate\, Hudson Review\, Lana Turner\, The New Republic\, and UTSANGA .
URL:https://events.ucsc.edu/event/something-held-by-poetry/
LOCATION:Institute of the Arts and Sciences\, 100 Panetta Ave\, Santa Cruz\, United States
CATEGORIES:Exhibits,Lectures & Presentations,Performances
ATTACH;FMTTYPE=image/png:https://events.ucsc.edu/wp-content/uploads/2026/04/Ronaldo-and-Terri.png
GEO:36.9557939;-122.0505546
X-APPLE-STRUCTURED-LOCATION;VALUE=URI;X-ADDRESS=Institute of the Arts and Sciences 100 Panetta Ave Santa Cruz United States;X-APPLE-RADIUS=500;X-TITLE=100 Panetta Ave:geo:-122.0505546,36.9557939
END:VEVENT
BEGIN:VEVENT
DTSTART;TZID=America/Los_Angeles:20260522T120000
DTEND;TZID=America/Los_Angeles:20260522T170000
DTSTAMP:20260423T183450
CREATED:20260402T184659Z
LAST-MODIFIED:20260403T222026Z
UID:10011967-1779451200-1779469200@events.ucsc.edu
SUMMARY:Spring Exhibitions at the Institute of the Arts and Sciences
DESCRIPTION:Visit the IAS\, UCSC’s premier art galleries\, for our spring exhibitions. On view April 10–August 16\, 2026 are three diverse and interdisciplinary shows: Libia Posada: Everything is Going Right\, the first US solo exhibition by the Colombia-based artist and medical doctor; Gina Athena Ulysse: A Redwoods Rasanblaj\, a site-specific and immersive exploration of the Haitian kreyol conception of rasanblaj; and Ronaldo V. Wilson: There Are No Words\, But Melodies\, a mixed-media exhibition emerging at the intersections of Black poetics\, performance\, and visual art. \nThe IAS Galleries are open Wednesday-Sunday\, 12 pm – 5 pm. Admission is free to the public. \nLibia Posada: Everything is Going Right\nLibia Posada’s first solo exhibition in the United States features installations\, sculptures\, and drawings meticulously constructed from surgical instruments\, gauze bandages\, crutches\, used books\, and domestic picture frames. The new and existing works in the exhibition powerfully stitch together the personal\, social\, and political disorders and afflictions that currently trouble the world\, from the wars that resonate across the globe to the violences of aging in US prisons.  \nGina Athena Ulysse: A Redwoods Rasanblaj: Origins & Disentanglements\nThe internationally-lauded work of humanities professor Gina Athena Ulysse is on view as a premier Faculty Spotlight Exhibition. The site-specific installation\, produced in community from things collected\, found\, purchased and donated\, centers on the Haitian concept of rasanblaj\, a form of assembly and collage that transcends the formal use of materials to draw together people\, spirits\, and ideas.  \nRonaldo V. Wilson: There Are No Words\, But Melodies\nCollage is both a material practice and a structural interrogation in the Faculty Spotlight Exhibition artworks by literature professor Ronaldo V. Wilson. In video\, painting\, and installation\, layers and folds conceal and reveal\, delving into the experience\, both bodily and emotive\, of living in times of violence.  \n 
URL:https://events.ucsc.edu/event/spring-exhibitions-at-the-institute-of-the-arts-and-sciences/2026-05-22/
LOCATION:Institute of the Arts and Sciences\, 100 Panetta Ave\, Santa Cruz\, United States
CATEGORIES:Exhibits
ATTACH;FMTTYPE=image/jpeg:https://events.ucsc.edu/wp-content/uploads/2026/04/IAS-3-1024x683-1.jpg
GEO:36.9557939;-122.0505546
X-APPLE-STRUCTURED-LOCATION;VALUE=URI;X-ADDRESS=Institute of the Arts and Sciences 100 Panetta Ave Santa Cruz United States;X-APPLE-RADIUS=500;X-TITLE=100 Panetta Ave:geo:-122.0505546,36.9557939
END:VEVENT
BEGIN:VEVENT
DTSTART;TZID=America/Los_Angeles:20260522T130000
DTEND;TZID=America/Los_Angeles:20260522T134500
DTSTAMP:20260423T183450
CREATED:20260413T154125Z
LAST-MODIFIED:20260413T154125Z
UID:10012103-1779454800-1779457500@events.ucsc.edu
SUMMARY:Building Retention and Recovery: Strategies to Avoid Burnout
DESCRIPTION:In this workshop\, you will: Maximize cognitive durability through structured pre- and post-study habits designed for the fast-paced quarter system. \nThe Successful Slug Workshop series\, hosted by Learning Support Services Peer Coaches\, are open to all UCSC undergraduate students and focus on academic skills and tools to support your success as a student. At each workshop\, you will be introduced to a topic\, engage in active learning\, be given resources to begin implementing the same day\, and have an opportunity to learn more if you are interested. \nYou Belong Here: The programs and services described here are open to all\, consistent with state and federal law\, as well as the University of California’s nondiscrimination policies. Every initiative—whether a student service\, faculty program\, or community event—is designed to be accessible\, inclusive\, and respectful of all identities. \nTo learn more\, please visit UC Nondiscrimination Statement or Nondiscrimination Policy for UC Publications.
URL:https://events.ucsc.edu/event/building-retention-and-recovery-strategies-to-avoid-burnout/
LOCATION:Academic Resources Center (ARC)\, 408 McHenry Road\, Santa Cruz\, CA\, 95064
CATEGORIES:Undergraduate,Workshop
ATTACH;FMTTYPE=image/png:https://events.ucsc.edu/wp-content/uploads/2026/03/Successful-Slug-Workshop-Logo-1.png
GEO:36.9944159;-122.0593762
X-APPLE-STRUCTURED-LOCATION;VALUE=URI;X-ADDRESS=Academic Resources Center (ARC) 408 McHenry Road Santa Cruz CA 95064;X-APPLE-RADIUS=500;X-TITLE=408 McHenry Road:geo:-122.0593762,36.9944159
END:VEVENT
BEGIN:VEVENT
DTSTART;TZID=America/Los_Angeles:20260522T150000
DTEND;TZID=America/Los_Angeles:20260522T160000
DTSTAMP:20260423T183450
CREATED:20260413T205653Z
LAST-MODIFIED:20260413T205653Z
UID:10012110-1779462000-1779465600@events.ucsc.edu
SUMMARY:Opening Reception: Envisioning Health for All Photo Exhibit!
DESCRIPTION:Please join us for an Opening Reception of two student photo exhibits\, focusing on health justice.  Students across all divisions\, undergrad or grad\, visually explore global and community health. Photography is a powerful way to represent our care and concern for health justice beyond the university. \nExhibit will be held in conjunction with “Between Two Worlds\,”a Photovoice exhibition funded by the UCSC Center for Economic Justice and Action (CEJA). We hope you can join us! \n  \n 
URL:https://events.ucsc.edu/event/opening-reception-envisioning-health-for-all-photo-exhibit/
LOCATION:McHenry Library\, 1156 High St\, Santa Cruz\, CA\, 95064
CATEGORIES:Exhibits,Reception
GEO:36.9834948;-122.0564004
X-APPLE-STRUCTURED-LOCATION;VALUE=URI;X-ADDRESS=McHenry Library 1156 High St Santa Cruz CA 95064;X-APPLE-RADIUS=500;X-TITLE=1156 High St:geo:-122.0564004,36.9834948
END:VEVENT
BEGIN:VEVENT
DTSTART;TZID=America/Los_Angeles:20260522T193000
DTEND;TZID=America/Los_Angeles:20260522T193000
DTSTAMP:20260423T183450
CREATED:20260407T171736Z
LAST-MODIFIED:20260421T181905Z
UID:10012058-1779478200-1779478200@events.ucsc.edu
SUMMARY:Who Can I Run To?\, by Alyssa Windom—2026 Dharma Grace Creative Writing Award and Theatrical Production
DESCRIPTION:Through their belief in Ifá and the divine\, three generations of women grow their relationships with each other and navigate living within their African diasporic identities in undergraduate student Alyssa Windom‘s award-winning script\, Who Can I Run To? Windom is a 3rd year History of Art and Visual Culture (HAVC) major with the Arts Division at UC Santa Cruz and is the recipient of the 2026 Dharma Grace Creative Writing Award. The award includes a full theatrical production of their script. \nIn a modern\, undisclosed time and a familiar yet unvisited space within the Americas\, the audience meets four women\, Lucia\, Esme\, Naia\, and Aviva\, three generations of the Sandorson family. The play follows each woman as they navigate how to live within the African diaspora\, as well as grow their relationships with each other. Families are complex\, but audiences learn this family does not have to figure out this life alone. Their belief in Ifá\, and the divine\, connects each woman with a guiding orisha that aids them in discovering themselves and their life paths. \nWho Can I Run To? is directed by Theater Arts graduate student Darren Jackson-Wilkins.\n—\nADVISORIES\n– May contain mature themes.\n– This presentation is approximately 90 minutes with no intermission.\n– To request accessibility accommodations\, or for more information\, contact theaterartstickets@ucsc.edu.\n—\nADMISSION\n– Attend in person at UCSC’s Theater Arts Second Stage.\n– Free for UCSC undergrads (ticket required).\n– General admission “Pay What You Like” options $5–20.\n– Tickets issued through Eventbrite only.\n– Follow the Dept. of Performance\, Play & Design on Eventbrite for notifications and updates.\n– A limited number of tickets/seats may be available at the door\, even after online ticket sales end or reach full capacity.\n– Doors are scheduled to open 30 minutes prior to event start time.\n—\nFULL SCHEDULE OF EVENTS\nThis production has seven performances over two weekends between May 15 and May 24\, 2026\, with 7:30 p.m. evening performances Thurs.–Sat.\, and Sun. matinees at 2:00 p.m.\, including:\n– Fri. May 15\, 7:30 p.m.\n– Sat. May 16\, 7:30 p.m.\n– Sun. May 17\, 2:00 p.m. matinee\n– Thu. May 21\, 7:30 p.m.\n– Fri. May 22\, 7:30 p.m.\n– Sat. May 23\, 7:30 p.m.\n– Sun. May 24\, 2:00 p.m. matinee\n—\nPARKING\n– Parking by permit\, ParkMobile\, or $11 cash/credit via the on-site parking attendant\n– Arts Lot #126 is the closest parking lot to the event\n– Visitors with DMV placards or plates may park for free in DMV spaces\, Medical spaces\, or ParkMobile spaces without additional payment\, or in timed zones for longer than the posted time.\n– UCSC affiliates must purchase their permits before arriving at the event in order to receive their discounted UCSC rate. Attendants will only sell the non-affiliate-priced permits.\n– More information provided by UCSC Transportation & Parking Services (TAPS)\n—\nABOUT THE PLAYWRIGHT\nThe 2026 Dharma Grace Creative Writing Award recipient\, Alyssa Windom\, is currently the chair of the Student Union Governance Board and co-Chair of the Black Student Union at UC Santa Cruz. Outside of organizing\, she is a resident advisor for African\, Black and Caribbean housing\, a volunteer with Engaging Education\, a frequenter in Cultural Arts and Diversity Resource Center (CADrc) spaces—such as Rainbow Theater and the African American Theater Arts Troupe—and is a member of Kasama\, a Filipino Ballroom Dance Troupe. Windom is a 3rd year History of Art and Visual Culture major at UC Santa Cruz.\n—\nABOUT THE AWARD\nEstablished in 2005\, the Dharma-Grace Foundation Creative Writing Award Fund\, an endowed fund\, provides an award for an outstanding script\, written by a junior or senior undergraduate student (from any discipline) who is in good academic standing. The award is designated to provide funding for a full production of the script. Eligible candidates for the award are selected by a faculty committee of the Department of Performance\, Play & Design and recommended to the Dean of the Division of Arts for final approval. UCSC students interested in submitting a dramatic work to the 2028 award cycle are invited to learn more at the PPD website here.\n—\nThis program is open to all members of the public consistent with state and federal law. \n 
URL:https://events.ucsc.edu/event/dharma-grace-2026/2026-05-22/
LOCATION:Second Stage\, Second Stage\, Santa Cruz\, CA\, 95064
CATEGORIES:Performances
ATTACH;FMTTYPE=image/png:https://events.ucsc.edu/wp-content/uploads/2026/04/WCIRT-Poster-Image-1_16x9-crop-for-event-listing.png
GEO:36.9946366;-122.0618609
X-APPLE-STRUCTURED-LOCATION;VALUE=URI;X-ADDRESS=Second Stage Second Stage Santa Cruz CA 95064;X-APPLE-RADIUS=500;X-TITLE=Second Stage:geo:-122.0618609,36.9946366
END:VEVENT
BEGIN:VEVENT
DTSTART;TZID=America/Los_Angeles:20260522T193000
DTEND;TZID=America/Los_Angeles:20260522T210000
DTSTAMP:20260423T183450
CREATED:20260420T205512Z
LAST-MODIFIED:20260421T233526Z
UID:10012133-1779478200-1779483600@events.ucsc.edu
SUMMARY:Mojada: A Medea in Los Angeles\, directed by Kinan Valdez
DESCRIPTION:Blending Euripides’ classic Medea with Mexican folklore\, Luis Alfaro examines the tragedy behind America’s immigration system and the destiny of one family caught in its grip.\nDirected by Kinan Valdez.\n—\nADVISORIES\n– This presentation is an estimated 90 minutes with no intermission.\n– Seating is limited at this venue and is expected to reach full capacity.\n– Ticket holders not seated at least five minutes before the advertised start time may forfeit their ticket/seat\, and no refund will be issued.\n– Parking impacts may be significant on Fri-Sun during Week 2 of this production in Lot 126 due to other overlapping events expected to reach full capacity.\n—\nADMISSION\n– Attend in person at Theater Arts eXperimental Theater.\n– Free for UCSC undergrads (ticket required).\n– General admission “Pay What You Like” options for $10\, $15\, or $20.\n– Tickets issued online through Eventbrite only.\n– Follow the Dept. of Performance\, Play & Design on Eventbrite for notifications and updates.\n– Doors are scheduled to open 30 minutes prior to event start time.\n—\nPARKING\n– Parking by permit\, ParkMobile\, or $11 cash/credit via the on-site parking attendant\n– Arts Lot #126 is the closest parking lot to the event\n– Visitors with DMV placards or plates may park for free in DMV spaces\, Medical spaces\, or ParkMobile spaces without additional payment\, or in timed zones for longer than the posted time.\n– UCSC affiliates must purchase their permits before arriving at the event in order to receive their discounted UCSC rate. Attendants will only sell the non-affiliate-priced permits.\n– More information provided by UCSC Transportation & Parking Services (TAPS)\n—\nFULL SCHEDULE OF EVENTS\nThis production includes seven performances over the course of two weeks\, including the following dates/times:\n– Fri\, May 22\, 7:30 p.m.\n– Sat\, May 23\, 7:30 p.m.\n– Sun\, May 24\, 2:00 p.m. matinee\n– Thu\, May 28\, 7:30 p.m.\n– Fri\, May 29\, 7:30 p.m.\n– Sat\, May 30\, 7:30 p.m.\n– Sun\, May 31\, 2:00 p.m. matinee\n—\nThis program is open to all members of the public consistent with state and federal law. \n  \n 
URL:https://events.ucsc.edu/event/mojada/2026-05-22/
LOCATION:Experimental Theater\, Theater Arts Center\, Santa Cruz\, CA\, 95064
CATEGORIES:Performances
ATTACH;FMTTYPE=image/jpeg:https://events.ucsc.edu/wp-content/uploads/2026/04/Mojada_crop-hero-image-16x9_event-listings.jpg
GEO:36.9950616;-122.0614712
X-APPLE-STRUCTURED-LOCATION;VALUE=URI;X-ADDRESS=Experimental Theater Theater Arts Center Santa Cruz CA 95064;X-APPLE-RADIUS=500;X-TITLE=Theater Arts Center:geo:-122.0614712,36.9950616
END:VEVENT
END:VCALENDAR