BEGIN:VCALENDAR
VERSION:2.0
PRODID:-//Events - ECPv6.15.20//NONSGML v1.0//EN
CALSCALE:GREGORIAN
METHOD:PUBLISH
X-ORIGINAL-URL:https://events.ucsc.edu
X-WR-CALDESC:Events for Events
REFRESH-INTERVAL;VALUE=DURATION:PT1H
X-Robots-Tag:noindex
X-PUBLISHED-TTL:PT1H
BEGIN:VTIMEZONE
TZID:America/Los_Angeles
BEGIN:DAYLIGHT
TZOFFSETFROM:-0800
TZOFFSETTO:-0700
TZNAME:PDT
DTSTART:20250309T100000
END:DAYLIGHT
BEGIN:STANDARD
TZOFFSETFROM:-0700
TZOFFSETTO:-0800
TZNAME:PST
DTSTART:20251102T090000
END:STANDARD
BEGIN:DAYLIGHT
TZOFFSETFROM:-0800
TZOFFSETTO:-0700
TZNAME:PDT
DTSTART:20260308T100000
END:DAYLIGHT
BEGIN:STANDARD
TZOFFSETFROM:-0700
TZOFFSETTO:-0800
TZNAME:PST
DTSTART:20261101T090000
END:STANDARD
BEGIN:DAYLIGHT
TZOFFSETFROM:-0800
TZOFFSETTO:-0700
TZNAME:PDT
DTSTART:20270314T100000
END:DAYLIGHT
BEGIN:STANDARD
TZOFFSETFROM:-0700
TZOFFSETTO:-0800
TZNAME:PST
DTSTART:20271107T090000
END:STANDARD
END:VTIMEZONE
BEGIN:VEVENT
DTSTART;TZID=America/Los_Angeles:20260527T103000
DTEND;TZID=America/Los_Angeles:20260527T120000
DTSTAMP:20260420T230103
CREATED:20260417T180744Z
LAST-MODIFIED:20260417T181510Z
UID:10013616-1779877800-1779883200@events.ucsc.edu
SUMMARY:FINS: Fisheries Insights Narratives and Stories seminar series featuring Dr. Steve Lindley
DESCRIPTION:Please join us for the third talk in the FINS: Fisheries Insights Narratives and Stories seminar series featuring Dr. Steve Lindley. \nSteve Lindley worked at NOAA Fisheries’ Southwest Fisheries Science Center for 29 years\, retiring in 2025 as director of the Santa Cruz Laboratory and Fisheries Ecology Division\, where he led the SWFSC’s salmon and groundfish research programs. A graduate of Duke University and UC Santa Barbara\, Steve has broad interests in aquatic ecology\, and is currently a member of the Delta Stewardship Council’s Delta Independent Science Board\, the Northwest Power and Conservation Council’s Independent Scientific Advisory Board and Independent Scientific Review Group\, and researcher at UC Santa Cruz. \nFINS: Fisheries Insights Narratives and Stories Seminar Series \nDr. Steve Lindley\, UCSC IMS researcher\, former director of NOAA Fisheries’ Southwest Fisheries Science Center \nTitle: Science in support of salmon conservation in California \nWhen: Wednesday\, April 15th from 11am-12pm \nWhere: Ocean Health Building Rm 118\, 115 McAllister Way\, Santa Cruz\, CA 95060 and on Zoom \nAgenda: \n\n10:30 am – 11:00 am – Professional Networking Session (in person only – light snacks and refreshments provided)\n11 am to 12 pm – presentation followed by Q & A\n12 pm – 1pm – student lunch with the speaker in OHB courtyard → sign up here\n\nZoom Meeting Registration: https://ucsc.zoom.us/meeting/register/NwH0_qUbSeuIm3A76DY-Dg \n 
URL:https://events.ucsc.edu/event/fins-fisheries-insights-narratives-and-stories-seminar-series-featuring-dr-steve-lindley/
LOCATION:Ocean Health Building\, McAllister Way\, Santa Cruz\, CA\, 95064
ATTACH;FMTTYPE=image/jpeg:https://events.ucsc.edu/wp-content/uploads/2026/04/FINS-poster-2026.jpg
GEO:36.9515521;-122.0654586
X-APPLE-STRUCTURED-LOCATION;VALUE=URI;X-ADDRESS=Ocean Health Building McAllister Way Santa Cruz CA 95064;X-APPLE-RADIUS=500;X-TITLE=McAllister Way:geo:-122.0654586,36.9515521
END:VEVENT
BEGIN:VEVENT
DTSTART;TZID=America/Los_Angeles:20260527T110000
DTEND;TZID=America/Los_Angeles:20260527T123000
DTSTAMP:20260420T230103
CREATED:20260330T203942Z
LAST-MODIFIED:20260330T203942Z
UID:10011815-1779879600-1779885000@events.ucsc.edu
SUMMARY:CSE Colloquium - Learning to Image: Computational Microscopy for Dynamic Systems
DESCRIPTION:Presenter: Laura Waller\, UC Berkeley \nAbstract: \nComputational imaging jointly designs hardware and algorithms to push beyond the classical limits of imaging\, enabling measurement of new quantities (e.g. 3D\, phase\, and super-resolution) with simple\, inexpensive hardware. These approaches have already transformed consumer photography; our goal is to achieve a similar transformation in scientific microscopy. \nIn this talk\, I will show how end-to-end learning is reshaping the design of imaging systems\, from programmable illumination with LED arrays to compact\, lensless cameras built from Scotch tape. By combining physical models with neural networks\, we can jointly learn how to capture data\, reconstruct images\, and self-calibrate systems that would otherwise be too complex to model. However\, many computational methods rely on multiple measurements\, limiting their use for live\, dynamic samples. I will introduce new space-time algorithms based on implicit neural representations (INRs) that jointly recover structure and motion\, correct artifacts\, and enable high-resolution imaging in regimes where traditional approaches fail. \nBio: \nLaura Waller is the Charles A. Desoer Professor of Electrical Engineering and Computer Sciences at UC Berkeley. She received B.S.\, M.Eng. and Ph.D. degrees from the Massachusetts Institute of Technology in 2004\, 2005 and 2010. After that\, she was a Postdoctoral Researcher and Lecturer of Physics at Princeton University from 2010-2012. She is a Packard Fellow for Science & Engineering\, Moore Foundation Data-driven Investigator\, OSA Fellow\, and Chan-Zuckerberg Biohub Investigator. She has received the Carol D. Soc Distinguished Graduate Mentoring Award\, OSA Adolph Lomb Medal\, the SPIE Early Career Award and the Max Planck-Humboldt Medal. \nHosted by: Professor Alvaro Cardenas \nLocation: Engineering 2\, Room E2-180 (Refreshments such as fruit\, pastries\, coffee\, and tea will be provided.) \nZoom Option: https://ucsc.zoom.us/j/93445911992?pwd=YkJ2TQtF79h0PcNXbEcpZLbpK0coiY.1&jst=3
URL:https://events.ucsc.edu/event/cse-colloquium-learning-to-image-computational-microscopy-for-dynamic-systems/
LOCATION:Engineering 2\, Engineering 2 1156 High Street\, Santa Cruz\, CA\, 95064
CATEGORIES:Lectures & Presentations,Seminars
ATTACH;FMTTYPE=image/png:https://events.ucsc.edu/wp-content/uploads/2026/03/BElogoWHITE.png
GEO:37.0009723;-122.0632371
X-APPLE-STRUCTURED-LOCATION;VALUE=URI;X-ADDRESS=Engineering 2 Engineering 2 1156 High Street Santa Cruz CA 95064;X-APPLE-RADIUS=500;X-TITLE=Engineering 2 1156 High Street:geo:-122.0632371,37.0009723
END:VEVENT
BEGIN:VEVENT
DTSTART;TZID=America/Los_Angeles:20260527T130000
DTEND;TZID=America/Los_Angeles:20260527T143000
DTSTAMP:20260420T230103
CREATED:20260418T011320Z
LAST-MODIFIED:20260418T011320Z
UID:10012142-1779886800-1779892200@events.ucsc.edu
SUMMARY:Career Success Drop-Ins at the Cantú - Week 9
DESCRIPTION:Drop-in at the Cantú with Career Coach & Engagement Specialist Bridge Kennedy to discuss career exploration\, job search strategy\, interview prep\, grad school prep\, or whatever’s on your mind related to your career success! \nIf you need accommodations please email bridgekk@ucsc.edu \n  \nYou Belong Here\nThe programs and services described here are open to all\, consistent with state and federal law\, as well as the University of California’s nondiscrimination policies. Every initiative—whether a student service\, faculty program\, or community event—is designed to be accessible\, inclusive\, and respectful of all identities. \nTo learn more\, please visit UC Nondiscrimination Statement or Nondiscrimination Policy for UC Publications.
URL:https://events.ucsc.edu/event/career-success-drop-ins-at-the-cantu-week-9/
LOCATION:Cantu Queer Center\, Crown Lane\, Santa Cruz\, CA\, 95064
CATEGORIES:Drop-In Support
ATTACH;FMTTYPE=image/png:https://events.ucsc.edu/wp-content/uploads/2025/12/Career-Success-logo-circle-1.png
GEO:37.0007748;-122.0551125
X-APPLE-STRUCTURED-LOCATION;VALUE=URI;X-ADDRESS=Cantu Queer Center Crown Lane Santa Cruz CA 95064;X-APPLE-RADIUS=500;X-TITLE=Crown Lane:geo:-122.0551125,37.0007748
END:VEVENT
BEGIN:VEVENT
DTSTART;TZID=America/Los_Angeles:20260527T170000
DTEND;TZID=America/Los_Angeles:20260527T193000
DTSTAMP:20260420T230103
CREATED:20260403T171521Z
LAST-MODIFIED:20260403T171626Z
UID:10012032-1779901200-1779910200@events.ucsc.edu
SUMMARY:“So\, There We Were...” – Celebrating the Untold Stories Behind the Discoveries
DESCRIPTION:To celebrate another year of profound discoveries\, uplifting unheard voices\, and opening up the world for the next generation of students\, the Academic Senate is planning a year-end celebratory event on Wednesday\, May 27\, 5-7:30 pm (week 9)\, at the Haybarn. But lest you think this is yet one more end-of-year academic event with mind-numbing presentations and hard-to-read powerpoint slides\, think again. This Scholarly Event is an excuse for us to do what we never get to do: come together to share the real stories behind our work and\, most of all\, HAVE FUN! In this spirit we are launching a celebratory event to feature the true but unknown\, the odd\, the awkward\, and just plain unbelievable stories behind our research: \n“So\, There We Were…”\nCelebrating the Untold Stories Behind the Discoveries \nThese might be the adventures\, misadventures\, revelations\, miscues\, or simply the “you would never believe it all worked out” moments that we have all experienced but rarely talk about (at least not in public). These are the stories that our friends\, neighbors\, and students want to hear\, but never would make it into scholarly publications or presentations. These are the stories we swap with our colleagues over drinks. While this event is intended primarily for faculty\, the campus community and community members will be welcome to attend (in other words\, feel free to bring your kids\, your partner\, your neighbors). \nWe are therefore soliciting applications (or nominations if you know someone—including yourself—who really needs to share that story) to regale your colleagues with details about “that time that…(fill in the blank)\,” while showing how those hidden moments shaped what finally came out of that research. This is meant to be a lighthearted and fun event\, so while having the audience learn something about what you do and why it is SO COOL is very good\, our focus will remain on humor\, fun\, and engaging tales. As the Ig Nobel Awards put it: “First make them laugh…then make them think!” \nPresenters will give a ~10 min TED style talk. Talks must begin with the phrase “So\, there we were” (or “So\, there I was” ) and they should feature the adventurous\, the bizarre\, and ideally the humorous in your research. Absolutely no tedious powerpoints\, jargon\, or literature background review will be allowed.  \nA reception will follow. Or it may precede\, or even take place during\, the event. But rest assured\, we will be celebrating in style. Please submit your nominations following instructions below\, and we expect to see you there. \nFaculty\, for nominations of yourself (or someone else):\nPlease send to Senate@ucsc.edu\, with subject line “So there we were”\n \nFor you: By April 17\nA Title\, and a brief (no more than 500 words!) description of your proposed talk. It must begin with “So there we were” or “So there I was.” You must also include a statement that you understand this must be fun and that you understand that erudite jargon\, literature review\, or tedious explication are completely unacceptable. Any supporting details that demonstrate your enthusiasm for your subject and its presentation are welcome. \nFor someone else: Immediately! (or sooner)\nSubmit the person’s name\, email\, and the story or topic that makes you think they really should be harangued by us to apply.  \nNB: There may well be prizes. But we have not gotten quite that far yet.
URL:https://events.ucsc.edu/event/so-there-we-were-celebrating-the-untold-stories-behind-the-discoveries/
LOCATION:Hay Barn\, 94 Ranch View Road\, Santa Cruz\, CA\, 95064\, United States
CATEGORIES:Lectures & Presentations
GEO:36.9817736;-122.0569624
X-APPLE-STRUCTURED-LOCATION;VALUE=URI;X-ADDRESS=Hay Barn 94 Ranch View Road Santa Cruz CA 95064 United States;X-APPLE-RADIUS=500;X-TITLE=94 Ranch View Road:geo:-122.0569624,36.9817736
END:VEVENT
BEGIN:VEVENT
DTSTART;TZID=America/Los_Angeles:20260527T183000
DTEND;TZID=America/Los_Angeles:20260527T200000
DTSTAMP:20260420T230103
CREATED:20260420T173404Z
LAST-MODIFIED:20260420T173404Z
UID:10013622-1779906600-1779912000@events.ucsc.edu
SUMMARY:Lounge 'n Lei
DESCRIPTION:Join AA/PIRC and APISA on Wednesday\, May 27th from 6:30-8pm at Terry Freitas Commons to learn about the significance of different leis in Pasifika culture before making your own lei! \nRegister at bit.ly/aapirc-lei \nYou Belong Here: The programs and services described here are open to all\, consistent with state and federal law\, as well as the University of California’s nondiscrimination policies. Every initiative—whether a student service\, faculty program\, or community event—is designed to be accessible\, inclusive\, and respectful of all identities. \nTo learn more\, please visit UC Nondiscrimination Statement or Nondiscrimination Policy for UC Publications.
URL:https://events.ucsc.edu/event/lounge-n-lei/
LOCATION:Terry Freitas Commons\, 600 McLaughlin Dr. College Nine\, Santa Cruz\, CA\, 95064
ATTACH;FMTTYPE=image/png:https://events.ucsc.edu/wp-content/uploads/2026/04/Event-Calendar-photos-4-1.png
END:VEVENT
END:VCALENDAR