BEGIN:VCALENDAR
VERSION:2.0
PRODID:-//Events - ECPv6.15.20//NONSGML v1.0//EN
CALSCALE:GREGORIAN
METHOD:PUBLISH
X-ORIGINAL-URL:https://events.ucsc.edu
X-WR-CALDESC:Events for Events
REFRESH-INTERVAL;VALUE=DURATION:PT1H
X-Robots-Tag:noindex
X-PUBLISHED-TTL:PT1H
BEGIN:VTIMEZONE
TZID:America/Los_Angeles
BEGIN:DAYLIGHT
TZOFFSETFROM:-0800
TZOFFSETTO:-0700
TZNAME:PDT
DTSTART:20250309T100000
END:DAYLIGHT
BEGIN:STANDARD
TZOFFSETFROM:-0700
TZOFFSETTO:-0800
TZNAME:PST
DTSTART:20251102T090000
END:STANDARD
BEGIN:DAYLIGHT
TZOFFSETFROM:-0800
TZOFFSETTO:-0700
TZNAME:PDT
DTSTART:20260308T100000
END:DAYLIGHT
BEGIN:STANDARD
TZOFFSETFROM:-0700
TZOFFSETTO:-0800
TZNAME:PST
DTSTART:20261101T090000
END:STANDARD
BEGIN:DAYLIGHT
TZOFFSETFROM:-0800
TZOFFSETTO:-0700
TZNAME:PDT
DTSTART:20270314T100000
END:DAYLIGHT
BEGIN:STANDARD
TZOFFSETFROM:-0700
TZOFFSETTO:-0800
TZNAME:PST
DTSTART:20271107T090000
END:STANDARD
END:VTIMEZONE
BEGIN:VEVENT
DTSTART;TZID=America/Los_Angeles:20260521T100000
DTEND;TZID=America/Los_Angeles:20260531T200000
DTSTAMP:20260421T212634
CREATED:20260421T211222Z
LAST-MODIFIED:20260421T212413Z
UID:10013960-1779357600-1780257600@events.ucsc.edu
SUMMARY:Beautiful Universe - Astrophotography exhibit
DESCRIPTION:Beautiful Universe is a pop-up exhibit in collaboration with the UC Santa Cruz Department of Astronomy & Astrophysics that will be on display at the Santa Cruz Museum of Art and History from May 21-31\, 2026.\nIn the 20+ photos\, you will see galaxies\, novae\, supernovae\, reflection and emission nebulae\, and interstellar dust clouds that give birth to new stars and planets. They are artistic images filled with scientific information. The astrophotography exhibit bridges the gap that often exists in our minds between art and science. \nAsk an astronomer! Astronomers will be on site at the Museum of Art and History in downtown Santa Cruz from 2pm-6pm on weekends (May 23\, 24\, 30\, and 31) to answer your questions. \nImages are by Steve Mandel and Bob Fera\, Deep Space Remote Observatories\, and once the pop-up exhibit concludes\, the photos on display will be permanently installed on the UC Santa Cruz campus\, courtesy of Steve Mandel\, research associate for the UC Santa Cruz Department of Astronomy & Astrophysics and sponsor of the Mandel Lecture Series. \nLearn more.
URL:https://events.ucsc.edu/event/beautiful-universe-astrophotography-exhibit/
LOCATION:Museum of Art & History\, 705 Front St\, Santa Cruz\, CA\, 95060\, United States
CATEGORIES:Exhibits
ATTACH;FMTTYPE=image/jpeg:https://events.ucsc.edu/wp-content/uploads/2026/04/Cygnus-Wallsml-1.jpg
GEO:36.9745675;-122.0253376
X-APPLE-STRUCTURED-LOCATION;VALUE=URI;X-ADDRESS=Museum of Art & History 705 Front St Santa Cruz CA 95060 United States;X-APPLE-RADIUS=500;X-TITLE=705 Front St:geo:-122.0253376,36.9745675
END:VEVENT
END:VCALENDAR