BEGIN:VCALENDAR
VERSION:2.0
PRODID:-//Events - ECPv6.15.20//NONSGML v1.0//EN
CALSCALE:GREGORIAN
METHOD:PUBLISH
X-ORIGINAL-URL:https://events.ucsc.edu
X-WR-CALDESC:Events for Events
REFRESH-INTERVAL;VALUE=DURATION:PT1H
X-Robots-Tag:noindex
X-PUBLISHED-TTL:PT1H
BEGIN:VTIMEZONE
TZID:America/Los_Angeles
BEGIN:DAYLIGHT
TZOFFSETFROM:-0800
TZOFFSETTO:-0700
TZNAME:PDT
DTSTART:20250309T100000
END:DAYLIGHT
BEGIN:STANDARD
TZOFFSETFROM:-0700
TZOFFSETTO:-0800
TZNAME:PST
DTSTART:20251102T090000
END:STANDARD
BEGIN:DAYLIGHT
TZOFFSETFROM:-0800
TZOFFSETTO:-0700
TZNAME:PDT
DTSTART:20260308T100000
END:DAYLIGHT
BEGIN:STANDARD
TZOFFSETFROM:-0700
TZOFFSETTO:-0800
TZNAME:PST
DTSTART:20261101T090000
END:STANDARD
BEGIN:DAYLIGHT
TZOFFSETFROM:-0800
TZOFFSETTO:-0700
TZNAME:PDT
DTSTART:20270314T100000
END:DAYLIGHT
BEGIN:STANDARD
TZOFFSETFROM:-0700
TZOFFSETTO:-0800
TZNAME:PST
DTSTART:20271107T090000
END:STANDARD
END:VTIMEZONE
BEGIN:VEVENT
DTSTART;TZID=America/Los_Angeles:20260630T120000
DTEND;TZID=America/Los_Angeles:20260630T130000
DTSTAMP:20260422T061822
CREATED:20260421T230439Z
LAST-MODIFIED:20260421T230439Z
UID:10013963-1782820800-1782824400@events.ucsc.edu
SUMMARY:From Diploma to Dollars: Money Matters for New Alumni
DESCRIPTION:Life After Graduation Series \nHosted by UC Davis\, open to recent alumni and rising seniors of all UC campuses. \nJoin the Cal Aggie Alumni Association for another session in the Life After Graduation Series\, “From Diploma to Dollars: Money Matters for New Alumni\,” on Tuesday\, June 30 at 12:00 p.m. (Pacific Time). \nGraduation is behind you—now it’s time to take charge of your finances. From new careers and paychecks to bills and major financial decisions\, this transition can feel overwhelming. This session will help you build confidence navigating budgeting\, debt\, benefits\, and financial priorities. Walk away with practical tools and smart habits to support long-term stability and success. \nLEARN MORE & REGISTER \n 
URL:https://events.ucsc.edu/event/from-diploma-to-dollars-money-matters-for-new-alumni/
LOCATION:CA
CATEGORIES:Lectures & Presentations
ATTACH;FMTTYPE=image/png:https://events.ucsc.edu/wp-content/uploads/2026/04/LIFE-AFTER-GRAD-Diploma-to-Dollars.png
END:VEVENT
END:VCALENDAR