BEGIN:VCALENDAR
VERSION:2.0
PRODID:-//Events - ECPv6.15.20//NONSGML v1.0//EN
CALSCALE:GREGORIAN
METHOD:PUBLISH
X-WR-CALNAME:Events
X-ORIGINAL-URL:https://events.ucsc.edu
X-WR-CALDESC:Events for Events
REFRESH-INTERVAL;VALUE=DURATION:PT1H
X-Robots-Tag:noindex
X-PUBLISHED-TTL:PT1H
BEGIN:VTIMEZONE
TZID:America/Los_Angeles
BEGIN:DAYLIGHT
TZOFFSETFROM:-0800
TZOFFSETTO:-0700
TZNAME:PDT
DTSTART:20250309T100000
END:DAYLIGHT
BEGIN:STANDARD
TZOFFSETFROM:-0700
TZOFFSETTO:-0800
TZNAME:PST
DTSTART:20251102T090000
END:STANDARD
BEGIN:DAYLIGHT
TZOFFSETFROM:-0800
TZOFFSETTO:-0700
TZNAME:PDT
DTSTART:20260308T100000
END:DAYLIGHT
BEGIN:STANDARD
TZOFFSETFROM:-0700
TZOFFSETTO:-0800
TZNAME:PST
DTSTART:20261101T090000
END:STANDARD
BEGIN:DAYLIGHT
TZOFFSETFROM:-0800
TZOFFSETTO:-0700
TZNAME:PDT
DTSTART:20270314T100000
END:DAYLIGHT
BEGIN:STANDARD
TZOFFSETFROM:-0700
TZOFFSETTO:-0800
TZNAME:PST
DTSTART:20271107T090000
END:STANDARD
END:VTIMEZONE
BEGIN:VEVENT
DTSTART;TZID=America/Los_Angeles:20260706T000000
DTEND;TZID=America/Los_Angeles:20260730T235959
DTSTAMP:20260419T160328
CREATED:20260226T214951Z
LAST-MODIFIED:20260226T214951Z
UID:10009271-1783296000-1785455999@events.ucsc.edu
SUMMARY:UCSC Summer Academy on Artificial Intelligence for High School Students
DESCRIPTION:UCSC’s Summer Academy on Artificial Intelligence is a four-week\, in-person program for talented and motivated high school students who are interested in exploring artificial intelligence (AI) in a university setting. Hosted at the UCSC Silicon Valley Campus\, the program offers an immersive learning experience that combines foundational AI concepts with hands-on\, research-inspired work. Students learn from UCSC professors and active PhD researchers\, gaining advanced problem-solving skills\, research-oriented thinking\, and a deeper understanding of how AI is applied in cutting-edge innovations. \nApplication Deadline: April 24\, 2026
URL:https://events.ucsc.edu/event/ucsc-summer-academy-on-artificial-intelligence-for-high-school-students/
LOCATION:3175 Bowers Avenue Santa Clara\, CA 95054\, 3175 Bowers Avenue\, Santa Clara\, CA\, 95054\, United States
GEO:37.3796975;-121.9765484
X-APPLE-STRUCTURED-LOCATION;VALUE=URI;X-ADDRESS=3175 Bowers Avenue Santa Clara CA 95054 3175 Bowers Avenue Santa Clara CA 95054 United States;X-APPLE-RADIUS=500;X-TITLE=3175 Bowers Avenue:geo:-121.9765484,37.3796975
END:VEVENT
END:VCALENDAR