BEGIN:VCALENDAR
VERSION:2.0
PRODID:-//Events - ECPv6.15.20//NONSGML v1.0//EN
CALSCALE:GREGORIAN
METHOD:PUBLISH
X-ORIGINAL-URL:https://events.ucsc.edu
X-WR-CALDESC:Events for Events
REFRESH-INTERVAL;VALUE=DURATION:PT1H
X-Robots-Tag:noindex
X-PUBLISHED-TTL:PT1H
BEGIN:VTIMEZONE
TZID:America/Los_Angeles
BEGIN:DAYLIGHT
TZOFFSETFROM:-0800
TZOFFSETTO:-0700
TZNAME:PDT
DTSTART:20250309T100000
END:DAYLIGHT
BEGIN:STANDARD
TZOFFSETFROM:-0700
TZOFFSETTO:-0800
TZNAME:PST
DTSTART:20251102T090000
END:STANDARD
BEGIN:DAYLIGHT
TZOFFSETFROM:-0800
TZOFFSETTO:-0700
TZNAME:PDT
DTSTART:20260308T100000
END:DAYLIGHT
BEGIN:STANDARD
TZOFFSETFROM:-0700
TZOFFSETTO:-0800
TZNAME:PST
DTSTART:20261101T090000
END:STANDARD
BEGIN:DAYLIGHT
TZOFFSETFROM:-0800
TZOFFSETTO:-0700
TZNAME:PDT
DTSTART:20270314T100000
END:DAYLIGHT
BEGIN:STANDARD
TZOFFSETFROM:-0700
TZOFFSETTO:-0800
TZNAME:PST
DTSTART:20271107T090000
END:STANDARD
END:VTIMEZONE
BEGIN:VEVENT
DTSTART;TZID=America/Los_Angeles:20260218T090000
DTEND;TZID=America/Los_Angeles:20260218T150000
DTSTAMP:20260420T054546
CREATED:20260206T175541Z
LAST-MODIFIED:20260206T175541Z
UID:10009171-1771405200-1771426800@events.ucsc.edu
SUMMARY:Enrollment Prep Week Tea Party
DESCRIPTION:Merrill Peer Advisors will be dishing out support and advise around your spring schedule. Stop by for Butterfly Pea tea\, snacks\, and peer advise.
URL:https://events.ucsc.edu/event/enrollment-prep-week-tea-party/2026-02-18/
LOCATION:Merrill College Plaza\, 641 Merrill Road\, Santa Cruz\, CA\, 95064
CATEGORIES:Drop-In Support
ATTACH;FMTTYPE=image/png:https://events.ucsc.edu/wp-content/uploads/2026/02/Merrill-enrollment-prep-Sp-26.png
GEO:37.0003908;-122.0534175
X-APPLE-STRUCTURED-LOCATION;VALUE=URI;X-ADDRESS=Merrill College Plaza 641 Merrill Road Santa Cruz CA 95064;X-APPLE-RADIUS=500;X-TITLE=641 Merrill Road:geo:-122.0534175,37.0003908
END:VEVENT
BEGIN:VEVENT
DTSTART;TZID=America/Los_Angeles:20260218T133000
DTEND;TZID=America/Los_Angeles:20260218T150000
DTSTAMP:20260420T054546
CREATED:20251218T234217Z
LAST-MODIFIED:20260109T193806Z
UID:10007698-1771421400-1771426800@events.ucsc.edu
SUMMARY:Career Success Drop-In Coaching at the Cantú Cabin - Winter 2026
DESCRIPTION:Drop-in with Career Coach & Engagement Specialist Bridge Kennedy to discuss Career Exploration\, Job Search Strategy\, Interview Prep\, Grad School Prep\, or whatever’s on your mind related to your career success! \nTime: 1:30pm – 3:00pm \nDates: Wednesdays\, Weeks 7 & 9 of Winter Quarter 2026 \n2/18/2026 & 3/4/2026 \nLocation: Cantú Queer Student Resource Center\, Merrill College \nYOU BELONG HERE\nPrograms and services are open to all\, consistent with state and federal law\, as well as the University of California’s nondiscrimination policies. Every initiative—whether a student service\, faculty program\, or community event—is designed to be accessible\, inclusive\, and respectful of all identities. To learn more\, please visit UC Nondiscrimination Statement or Nondiscrimination Policy for UC Publications.
URL:https://events.ucsc.edu/event/career-success-drop-in-coaching-at-the-cantu-cabin-winter-2026/2026-02-18/
LOCATION:Lionel Cantú Queer Center\, Crown Lane\, Santa Cruz\, CA\, 95064
CATEGORIES:Drop-In Support
ATTACH;FMTTYPE=image/png:https://events.ucsc.edu/wp-content/uploads/2025/12/Cantu-Drop-in-W26.png
GEO:37.0007748;-122.0551125
X-APPLE-STRUCTURED-LOCATION;VALUE=URI;X-ADDRESS=Lionel Cantú Queer Center Crown Lane Santa Cruz CA 95064;X-APPLE-RADIUS=500;X-TITLE=Crown Lane:geo:-122.0551125,37.0007748
END:VEVENT
BEGIN:VEVENT
DTSTART;TZID=America/Los_Angeles:20260218T180000
DTEND;TZID=America/Los_Angeles:20260218T200000
DTSTAMP:20260420T054546
CREATED:20260105T230800Z
LAST-MODIFIED:20260105T234611Z
UID:10008285-1771437600-1771444800@events.ucsc.edu
SUMMARY:Lunar New Year Celebration
DESCRIPTION:Lunar New Year is quickly approaching and to celebrate the year of the dragon\, ISSP and College Nine/John R. Lewis will be hosting our annual celebration on Wednesday\, February 18 starting at 18:00 at the C9/JRL Multipurpose Room.\n\nCome join us for festivities including a sampling of Lunar New Year foods\, crafts and activities\, special performances\, and much more. Stop on by to celebrate the lunar new year with your fellow international community.\n\nIn addition\, we encourage you to check out our website for all things Lunar New Year at UCSC. This includes a greeting from Chancellor Larive and a schedule of upcoming celebrations from student groups.
URL:https://events.ucsc.edu/event/lunar-new-year-celebration/
LOCATION:Colleges Nine and John R. Lewis College Multi-purpose Room\, 615 College Nine Road\, Santa Cruz\, CA\, 95064
CATEGORIES:Drop-In Support,Performances,Social Gathering
ATTACH;FMTTYPE=image/png:https://events.ucsc.edu/wp-content/uploads/2026/01/Screenshot-2026-01-05-at-14.30.57.png
GEO:37.0009703;-122.0577323
X-APPLE-STRUCTURED-LOCATION;VALUE=URI;X-ADDRESS=Colleges Nine and John R. Lewis College Multi-purpose Room 615 College Nine Road Santa Cruz CA 95064;X-APPLE-RADIUS=500;X-TITLE=615 College Nine Road:geo:-122.0577323,37.0009703
END:VEVENT
END:VCALENDAR