BEGIN:VCALENDAR
VERSION:2.0
PRODID:-//Events - ECPv6.15.20//NONSGML v1.0//EN
CALSCALE:GREGORIAN
METHOD:PUBLISH
X-ORIGINAL-URL:https://events.ucsc.edu
X-WR-CALDESC:Events for Events
REFRESH-INTERVAL;VALUE=DURATION:PT1H
X-Robots-Tag:noindex
X-PUBLISHED-TTL:PT1H
BEGIN:VTIMEZONE
TZID:America/Los_Angeles
BEGIN:DAYLIGHT
TZOFFSETFROM:-0800
TZOFFSETTO:-0700
TZNAME:PDT
DTSTART:20240310T100000
END:DAYLIGHT
BEGIN:STANDARD
TZOFFSETFROM:-0700
TZOFFSETTO:-0800
TZNAME:PST
DTSTART:20241103T090000
END:STANDARD
BEGIN:DAYLIGHT
TZOFFSETFROM:-0800
TZOFFSETTO:-0700
TZNAME:PDT
DTSTART:20250309T100000
END:DAYLIGHT
BEGIN:STANDARD
TZOFFSETFROM:-0700
TZOFFSETTO:-0800
TZNAME:PST
DTSTART:20251102T090000
END:STANDARD
BEGIN:DAYLIGHT
TZOFFSETFROM:-0800
TZOFFSETTO:-0700
TZNAME:PDT
DTSTART:20260308T100000
END:DAYLIGHT
BEGIN:STANDARD
TZOFFSETFROM:-0700
TZOFFSETTO:-0800
TZNAME:PST
DTSTART:20261101T090000
END:STANDARD
END:VTIMEZONE
BEGIN:VEVENT
DTSTART;TZID=America/Los_Angeles:20250812T120000
DTEND;TZID=America/Los_Angeles:20250812T120000
DTSTAMP:20260420T195237
CREATED:20250717T070000Z
LAST-MODIFIED:20250925T231318Z
UID:10000075-1755000000-1755000000@events.ucsc.edu
SUMMARY:What the Mouth Remembers: Lost Recipe\, Found Words
DESCRIPTION:What the Mouth Remembers is a research-creation project that explores how spoken language\, especially when fragmented\, mistranslated\, and passed down across migration\, family histories\, and colonial ruptures\, becomes a site of embodied memory\, survival\, and imaginative reconstruction. At the heart of the project is the Jeju language\, not as a fixed object of preservation but as a way of understanding and relating that vibrantly moves through sound\, memory\, and gesture. \nJoin us from noon to 3 p.m. daily during the exhibition\, Jeju Seaweed Soup (Mom-guk) will be available for visitors to taste. Participants can choose either the classic pork-based version or a vegetarian alternative\, both of which include rice\, kimchi\, and seaweed (in this case\, from Monterey Bay Seaweeds)\, prepared using Yoon’s mom’s traditional Jeju recipe for mom-guk. \nYoonkyung Lim is a visual artist and Ph.D. student in Film and Digital Media at the University of California\, Santa Cruz. Yoon’s art is participatory. The environment she creates around a theme allows an open space for interaction\, discussion\, and shared responsibility. Visitors are not merely viewers\, they become co-creators. Her recent work investigates feminist oral histories\, alternative archives\, and diasporic modes of translation. She has exhibited at the Gangwon International Triennale (2024)\, MMCA Seoul and Gwacheon and the Coreana Museum of Art. Lim holds a BFA from Korea National University of Arts\, an MFA from UCLA\, and completed the Whitney ISP.  Artist website: www.yoonkyunglim.com
URL:https://events.ucsc.edu/event/what-the-mouth-remembers-lost-recipe-found-words-6767/
LOCATION:Eloise Pickard Smith Gallery\, 11 Cowell Service Rd\, Santa Cruz\, CA\, 95064
CATEGORIES:Exhibits
GEO:36.996399;-122.0527221
X-APPLE-STRUCTURED-LOCATION;VALUE=URI;X-ADDRESS=Eloise Pickard Smith Gallery 11 Cowell Service Rd Santa Cruz CA 95064;X-APPLE-RADIUS=500;X-TITLE=11 Cowell Service Rd:geo:-122.0527221,36.996399
END:VEVENT
END:VCALENDAR