BEGIN:VCALENDAR
VERSION:2.0
PRODID:-//Events - ECPv6.15.20//NONSGML v1.0//EN
CALSCALE:GREGORIAN
METHOD:PUBLISH
X-WR-CALNAME:Events
X-ORIGINAL-URL:https://events.ucsc.edu
X-WR-CALDESC:Events for Events
REFRESH-INTERVAL;VALUE=DURATION:PT1H
X-Robots-Tag:noindex
X-PUBLISHED-TTL:PT1H
BEGIN:VTIMEZONE
TZID:America/Los_Angeles
BEGIN:DAYLIGHT
TZOFFSETFROM:-0800
TZOFFSETTO:-0700
TZNAME:PDT
DTSTART:20250309T100000
END:DAYLIGHT
BEGIN:STANDARD
TZOFFSETFROM:-0700
TZOFFSETTO:-0800
TZNAME:PST
DTSTART:20251102T090000
END:STANDARD
BEGIN:DAYLIGHT
TZOFFSETFROM:-0800
TZOFFSETTO:-0700
TZNAME:PDT
DTSTART:20260308T100000
END:DAYLIGHT
BEGIN:STANDARD
TZOFFSETFROM:-0700
TZOFFSETTO:-0800
TZNAME:PST
DTSTART:20261101T090000
END:STANDARD
BEGIN:DAYLIGHT
TZOFFSETFROM:-0800
TZOFFSETTO:-0700
TZNAME:PDT
DTSTART:20270314T100000
END:DAYLIGHT
BEGIN:STANDARD
TZOFFSETFROM:-0700
TZOFFSETTO:-0800
TZNAME:PST
DTSTART:20271107T090000
END:STANDARD
END:VTIMEZONE
BEGIN:VEVENT
DTSTART;TZID=America/Los_Angeles:20260605T180000
DTEND;TZID=America/Los_Angeles:20260605T193000
DTSTAMP:20260421T163637
CREATED:20260303T211037Z
LAST-MODIFIED:20260317T184453Z
UID:10009390-1780682400-1780687800@events.ucsc.edu
SUMMARY:Science in the Neighborhood: The earthquake problem
DESCRIPTION:Science In the Neighborhood\nA public lecture series hosted quarterly by the UC Santa Cruz Science Division \nThe earthquake problem\nPresentation by Emily Brodsky\, Professor\, UC Santa Cruz\nQ&A with Stefano Profumo\, Associate Dean of Science\, UC Santa Cruz \nRegister here. \nEarthquake prediction has simultaneously remained both the central\, unsolved problem in seismology and the issue that communities care about most—especially here in Northern California. Earth & Planetary Sciences Professor Emily Brodsky will discuss what we do and do not know about when earthquakes will happen. She will explain what we understand about the basic mechanics of faults and how drilling into faults has transformed our understanding of how earthquakes happen. Her talk will also explore how the machine learning revolution is powering a transformation in forecasting aftershocks\, as well as look ahead toward the kind of instrumentation and approaches that offer the most promise for the next big advances. \nThe event is in-person only. Register here. \nFriday\, June 5\, 2026 | 6:00–7:30 p.m.\nCoastal Biology Building. Rm. 110\nUC Santa Cruz Coastal Campus\n130 McAllister Way\nSanta Cruz\, CA 95060 \nThe screenshot below shows where to find the entrance of the Coastal Biology Building.
URL:https://events.ucsc.edu/event/science-in-the-neighborhood-the-earthquake-problem/
LOCATION:Coastal Biology Building\, 130 McAllister Way\, Santa Cruz\, CA\, 95060
CATEGORIES:Lectures & Presentations
ATTACH;FMTTYPE=image/jpeg:https://events.ucsc.edu/wp-content/uploads/2026/03/june5-calendar-banner.jpg
GEO:36.9530063;-122.0650862
X-APPLE-STRUCTURED-LOCATION;VALUE=URI;X-ADDRESS=Coastal Biology Building 130 McAllister Way Santa Cruz CA 95060;X-APPLE-RADIUS=500;X-TITLE=130 McAllister Way:geo:-122.0650862,36.9530063
END:VEVENT
BEGIN:VEVENT
DTSTART;TZID=America/Los_Angeles:20260606T110000
DTEND;TZID=America/Los_Angeles:20260606T120000
DTSTAMP:20260421T163637
CREATED:20251211T171734Z
LAST-MODIFIED:20251211T171734Z
UID:10005659-1780743600-1780747200@events.ucsc.edu
SUMMARY:First Saturday Tour at the Arboretum
DESCRIPTION:First Saturday Tours are a wonderful way to introduce yourself to the Arboretum or to deepen your knowledge of the Arboretum’s plant collections. Each tour is a little different depending on the time of year\, the interests of the tour guide\, and the people who join in. For example\, you might learn about the birds and mammals that make this land their home or about the amazing physical adaptations that plants have evolved to better deal with our extreme weather and climate conditions. Tours are free with paid admission.
URL:https://events.ucsc.edu/event/first-saturday-tour-at-the-arboretum/2026-06-06/
LOCATION:Arboretum\, 122 Arboretum Road\, Santa Cruz\, CA\, 95064
CATEGORIES:Lectures & Presentations
GEO:36.9838652;-122.0609079
X-APPLE-STRUCTURED-LOCATION;VALUE=URI;X-ADDRESS=Arboretum 122 Arboretum Road Santa Cruz CA 95064;X-APPLE-RADIUS=500;X-TITLE=122 Arboretum Road:geo:-122.0609079,36.9838652
END:VEVENT
BEGIN:VEVENT
DTSTART;TZID=America/Los_Angeles:20260628T130000
DTEND;TZID=America/Los_Angeles:20260628T150000
DTSTAMP:20260421T163637
CREATED:20251002T180146Z
LAST-MODIFIED:20251002T180146Z
UID:10000464-1782651600-1782658800@events.ucsc.edu
SUMMARY:Santa Cruz Pickwick Club presents: Bleak House
DESCRIPTION:Spontaneous human combustion! Evil lawyers! Detectives! Family intrigue! These all come together in Charles Dickens’s masterwork\, Bleak House. This year\, we will spend the year reading the 2026 Dickens Universe novel. Join Dickens enthusiasts and Pickwick Club members on Zoom for a series of discussions about this beloved book. \nRegister via Zoom \nReading Schedule:  \n\nOCT 26: Chapters 8-13\nNOV 23: Chapters 14-19\nDEC 28: No meeting\nJAN 25: Chapters 20-25\nFEB 22: Chpaters 26-32\nMAR 22: Chapters 33-38\nAPR 26: Chapters 39-46\nMAY 24: Chapters 47-53\nJUN 28: Chapters 54-67 (End)\n\nRecommended Edition: We recommend the Penguin Classics edition of the novel for its appendices and notes\, but other versions are fine. First-time readers should avoid the Introduction if they don’t want spoilers. Download the novel to read at Gutenburg.org or listen to it at LibriVox.org. \nThe Santa Cruz Pickwick (Book) Club\, a branch of the Dickens Fellowship\, is a community of local bookworms\, students\, and teachers who meet monthly to discuss a nineteenth-century novel. The Santa Cruz Public Libraries provide support for the reading group.
URL:https://events.ucsc.edu/event/santa-cruz-pickwick-club-presents-bleak-house-2/2026-06-28/
LOCATION:CA
CATEGORIES:Lectures & Presentations
ATTACH;FMTTYPE=image/png:https://events.ucsc.edu/wp-content/uploads/2025/10/Screenshot-2025-10-02-at-10.58.48-AM.png
END:VEVENT
BEGIN:VEVENT
DTSTART;TZID=America/Los_Angeles:20260630T120000
DTEND;TZID=America/Los_Angeles:20260630T130000
DTSTAMP:20260421T163637
CREATED:20260421T230439Z
LAST-MODIFIED:20260421T230439Z
UID:10013963-1782820800-1782824400@events.ucsc.edu
SUMMARY:From Diploma to Dollars: Money Matters for New Alumni
DESCRIPTION:Life After Graduation Series \nHosted by UC Davis\, open to recent alumni and rising seniors of all UC campuses. \nJoin the Cal Aggie Alumni Association for another session in the Life After Graduation Series\, “From Diploma to Dollars: Money Matters for New Alumni\,” on Tuesday\, June 30 at 12:00 p.m. (Pacific Time). \nGraduation is behind you—now it’s time to take charge of your finances. From new careers and paychecks to bills and major financial decisions\, this transition can feel overwhelming. This session will help you build confidence navigating budgeting\, debt\, benefits\, and financial priorities. Walk away with practical tools and smart habits to support long-term stability and success. \nLEARN MORE & REGISTER \n 
URL:https://events.ucsc.edu/event/from-diploma-to-dollars-money-matters-for-new-alumni/
LOCATION:CA
CATEGORIES:Lectures & Presentations
ATTACH;FMTTYPE=image/png:https://events.ucsc.edu/wp-content/uploads/2026/04/LIFE-AFTER-GRAD-Diploma-to-Dollars.png
END:VEVENT
END:VCALENDAR