BEGIN:VCALENDAR
VERSION:2.0
PRODID:-//Events - ECPv6.15.20//NONSGML v1.0//EN
CALSCALE:GREGORIAN
METHOD:PUBLISH
X-WR-CALNAME:Events
X-ORIGINAL-URL:https://events.ucsc.edu
X-WR-CALDESC:Events for Events
REFRESH-INTERVAL;VALUE=DURATION:PT1H
X-Robots-Tag:noindex
X-PUBLISHED-TTL:PT1H
BEGIN:VTIMEZONE
TZID:America/Los_Angeles
BEGIN:DAYLIGHT
TZOFFSETFROM:-0800
TZOFFSETTO:-0700
TZNAME:PDT
DTSTART:20240310T100000
END:DAYLIGHT
BEGIN:STANDARD
TZOFFSETFROM:-0700
TZOFFSETTO:-0800
TZNAME:PST
DTSTART:20241103T090000
END:STANDARD
BEGIN:DAYLIGHT
TZOFFSETFROM:-0800
TZOFFSETTO:-0700
TZNAME:PDT
DTSTART:20250309T100000
END:DAYLIGHT
BEGIN:STANDARD
TZOFFSETFROM:-0700
TZOFFSETTO:-0800
TZNAME:PST
DTSTART:20251102T090000
END:STANDARD
BEGIN:DAYLIGHT
TZOFFSETFROM:-0800
TZOFFSETTO:-0700
TZNAME:PDT
DTSTART:20260308T100000
END:DAYLIGHT
BEGIN:STANDARD
TZOFFSETFROM:-0700
TZOFFSETTO:-0800
TZNAME:PST
DTSTART:20261101T090000
END:STANDARD
END:VTIMEZONE
BEGIN:VEVENT
DTSTART;TZID=America/Los_Angeles:20251002T110000
DTEND;TZID=America/Los_Angeles:20251002T110000
DTSTAMP:20260422T051034
CREATED:20250922T070000Z
LAST-MODIFIED:20250925T231708Z
UID:10000216-1759402800-1759402800@events.ucsc.edu
SUMMARY:CSE Colloquium: Enabling scalable GPU computing via efficient virtual memory systems
DESCRIPTION:Presenter: Hyeran Jeon\, UC Merced \nTitle: Enabling scalable GPU computing via efficient virtual memory systems \nAbstract: GPUs have become one of the most important accelerators of various emerging workloads. While the massive parallelism makes the GPUs one of the most favorable compute engines\, the limited on-device memory capacity hinders their wider adoption. Virtual memory systems have been helpful in transparently expanding memory space to host CPU memory and peer GPU memories\, as GPUs can access data through simple pointer sharing regardless of the physical location of that data. However\, as GPU architecture evolves and the volume of data increases significantly\, the virtual memory systems themselves become one of the critical performance bottlenecks. This talk will explore the perils and opportunities of virtual memory systems under emerging GPU architectures.\nThe first part of the talk will show that the limited IOMMU bandwidth is one of the primary performance limiters in multi-chip-module GPUs (MCM-GPUs) due to the increasing concurrency of multiple GPU chiplets. To fundamentally reduce the translation demands\, the talk will introduce a new way of page mapping that effectively replaces page-table-based virtual memory translations with simple calculation-based translations. The second part of the talk will focus on GPUs that have internal GMMUs. The talk will first show that naive GMMU translation bandwidth increase will incur significant area overhead. Then\, we show that one of the existing but highly underutilized accelerators integrated in the GPU die\, the ray tracing cores\, can be repurposed for virtual memory translation. \nBio: Hyeran Jeon is an associate professor at the University of California\, Merced. Hyeran's main research interests lie in high-performance\, energy-efficient\, and robust computer architecture and systems. Her research lab (MoCA Lab) has been sponsored by the government and industry\, including National Science Foundation\, California Energy Commission\, Xilinx\, NVIDIA\, and Ampere Computing. She earned her Ph.D. at the University of Southern California. She has industry experience as an intern at IBM T.J. Watson Research Center and AMD Research\, and as a systems software engineer at Samsung Electronics. She is a recipient of the NSF CAREER award and the USC Viterbi dean’s doctoral fellowship.  \nHosted by: Professor Mohsen Lesani \nLocation: Engineering 2\, E2-180\n*Refreshments such as coffee and pastries will be provided.
URL:https://events.ucsc.edu/event/cse-colloquium-enabling-scalable-gpu-computing-via-efficient-virtual-memory-systems/
LOCATION:Engineering 2\, Engineering 2 1156 High Street\, Santa Cruz\, CA\, 95064
CATEGORIES:Lectures & Presentations
ATTACH;FMTTYPE=image/jpeg:https://events.ucsc.edu/wp-content/uploads/2025/09/b56062924b51a96e16bab380e11a731acbcdae43.jpg
GEO:37.0009723;-122.0632371
X-APPLE-STRUCTURED-LOCATION;VALUE=URI;X-ADDRESS=Engineering 2 Engineering 2 1156 High Street Santa Cruz CA 95064;X-APPLE-RADIUS=500;X-TITLE=Engineering 2 1156 High Street:geo:-122.0632371,37.0009723
END:VEVENT
BEGIN:VEVENT
DTSTART;TZID=America/Los_Angeles:20251002T110000
DTEND;TZID=America/Los_Angeles:20251002T110000
DTSTAMP:20260422T051034
CREATED:20251003T195524Z
LAST-MODIFIED:20251003T195524Z
UID:10003140-1759402800-1759402800@events.ucsc.edu
SUMMARY:Moss Adams x Baker Tilly Info Session
DESCRIPTION:Interested in a career in public accounting? Come chat with our Tax and Audit professionals about our 2026 internship opportunities and learn more about life at Moss Adams x Baker Tilly! Our 2026 internship opportunities are available for current seniors and juniors pursuing a CPA license. \nStop by anytime between 11:00AM – 1:00PM and enjoy some pizza with us! \nIn a transformative move\, Moss Adams and Baker Tilly have merged to create the sixth largest CPA advisory firm in the country. The combination brings together our industry expertise\, complementary locations\, and shared commitment to client success to redefine accounting and advisory services for the middle market. With our go-to-market power\, laser focus on clients\, and best-in-class talent\, we’re poised to meet the growing complexity facing middle market businesses\, families\, and individuals. \n  \nIf you have disability-related needs\, please contact the Career Success office at csuccess@ucsc.edu or (831) 459-4420 as soon as possible. \n  \nYOU BELONG HERE\nPrograms and services are open to all\, consistent with state and federal law\, as well as the University of California’s nondiscrimination policies. Every initiative—whether a student service\, faculty program\, or community event—is designed to be accessible\, inclusive\, and respectful of all identities. To learn more\, please visit UC Nondiscrimination Statement or Nondiscrimination Policy for UC Publications.
URL:https://events.ucsc.edu/event/moss-adams-x-baker-tilly-info-session/
LOCATION:Bay Tree Building\, Student Union\, Santa Cruz\, CA\, 95064\, United States
CATEGORIES:Lectures & Presentations,Meetings & Conferences
GEO:36.997868;-122.0559724
X-APPLE-STRUCTURED-LOCATION;VALUE=URI;X-ADDRESS=Bay Tree Building Student Union Santa Cruz CA 95064 United States;X-APPLE-RADIUS=500;X-TITLE=Student Union:geo:-122.0559724,36.997868
END:VEVENT
BEGIN:VEVENT
DTSTART;TZID=America/Los_Angeles:20251002T114000
DTEND;TZID=America/Los_Angeles:20251002T131500
DTSTAMP:20260422T051034
CREATED:20251001T230805Z
LAST-MODIFIED:20251001T230805Z
UID:10000419-1759405200-1759410900@events.ucsc.edu
SUMMARY:BME 280B Seminar: Computational Precision Health & Genomic Diversity
DESCRIPTION:Presenter: Dr. Alex Ioannidis\, BME Assistant Professor\, UCSC \nDescription: N/A \nBio: Alex Ioannidis graduated summa cum laude in Chemistry and Physics from Harvard and completed an M.Phil in Computational Biology in the Dept. of Applied Math & Theoretical Physics at Cambridge. He earned his Ph.D. in Computational & Mathematical Engineering at Stanford and M.S. in Mgt. Science & Engineering (Numerical Optimization concentration). Prior to this\, he worked on novel superconducting computing logic and quantum computing at Northrop Grumman (Advanced Technology Lab).\n\nAlex’s teachings has included machine learning algorithms and data science courses in the Institute for Computational & Mathematical Engineering (ICME) at Stanford\, AI in healthcare at Stanford Medical School\, and computational biology in the Dept. of Biomolecular Engineering (BME) at the University of California\, Santa Cruz. His research group focuses on computational techniques and deep learning methods for genomics & precision health with a particular focus on populations in Oceania and Latin America (spotlight article). \nHosted by: Professor Josh Stuart\, BME Department\n\nLocation: PSB-240
URL:https://events.ucsc.edu/event/bme-280b-seminar-computational-precision-health-genomic-diversity/
LOCATION:Physical Sciences Building\, Physical Sciences Building\, Santa Cruz\, CA\, 95064
CATEGORIES:Lectures & Presentations
ATTACH;FMTTYPE=image/png:https://events.ucsc.edu/wp-content/uploads/2025/10/Screenshot-2025-10-01-at-3.58.00-PM.png
GEO:36.9996638;-122.0618552
X-APPLE-STRUCTURED-LOCATION;VALUE=URI;X-ADDRESS=Physical Sciences Building Physical Sciences Building Santa Cruz CA 95064;X-APPLE-RADIUS=500;X-TITLE=Physical Sciences Building:geo:-122.0618552,36.9996638
END:VEVENT
BEGIN:VEVENT
DTSTART;TZID=America/Los_Angeles:20251002T133000
DTEND;TZID=America/Los_Angeles:20251002T133000
DTSTAMP:20260422T051034
CREATED:20251003T195522Z
LAST-MODIFIED:20251003T195522Z
UID:10003136-1759411800-1759411800@events.ucsc.edu
SUMMARY:How to Validate AI Product Ideas and Build a Defensible MVP
DESCRIPTION:93% of US companies plan to increase their AI investments; but 80% of AI projects fail. Countless “cool” demos crash and burn; not because the technology failed\, but because they solved the wrong problem. In this lesson\, we lay out a proven playbook with 5 tactical steps\, each a mindset shift or critical decision point\, to validate AI product ideas and build towards defensible MVP. In this invited talk\, you will learn: \nThe "AI Product Opportunity Canvas" \nA proprietary framework to assess AI product ideas\, inspired by proven processes from Google and successful AI labs \n5-Step Playbook to Land an AI-Native MVP \nHow to evaluate user problems\, craft a compelling AI-native value proposition\, design for data and defensibility \nReal AI-Native Product Success Cases \nHow AI product leaders and founders are finding the market niche in industries such as healthcare\, legal and finance \nHow to Build Fast Feedback Loops with User and Human Evals \nHow to set up tight user feedback loops and leverage Human-in-the-Loop (HITL) as your secret validation weapon \nInvited Speaker: Roger Jin \nex-Product Lead @Google DeepMind\, 2x Founder\, AI Strategy Coach \nRoger is an ICF-certified coach and a seasoned product leader who has operated at the frontier of AI development and in the trenches of building venture-backed companies. \nAs Head of Product at Google DeepMind\, Roger was a founding member of the product team that launched Gemini\, Google's flagship generative AI product. Before that\, Roger led product teams at Amazon Alexa\, pushing the boundaries of customer experience for millions of users.  \nRoger has also co-founded two AI startups\, raising over $20M in venture capital and scaling them to a combined $80M+ in annual revenue. He is a graduate of Carnegie Mellon University.
URL:https://events.ucsc.edu/event/how-to-validate-ai-product-ideas-and-build-a-defensible-mvp-2/
LOCATION:Social Sciences 1\, Social Sciences 1\, Santa Cruz\, CA\, 95064
CATEGORIES:Lectures & Presentations
GEO:37.0023717;-122.0580874
X-APPLE-STRUCTURED-LOCATION;VALUE=URI;X-ADDRESS=Social Sciences 1 Social Sciences 1 Santa Cruz CA 95064;X-APPLE-RADIUS=500;X-TITLE=Social Sciences 1:geo:-122.0580874,37.0023717
END:VEVENT
BEGIN:VEVENT
DTSTART;TZID=America/Los_Angeles:20251002T133000
DTEND;TZID=America/Los_Angeles:20251002T143000
DTSTAMP:20260422T051034
CREATED:20250923T070000Z
LAST-MODIFIED:20251002T182432Z
UID:10000219-1759411800-1759415400@events.ucsc.edu
SUMMARY:How to Validate AI Product Ideas and Build a Defensible MVP
DESCRIPTION:93% of US companies plan to increase their AI investments; but 80% of AI projects fail. Countless “cool” demos crash and burn; not because the technology failed\, but because they solved the wrong problem. In this lesson\, we lay out a proven playbook with 5 tactical steps\, each a mindset shift or critical decision point\, to validate AI product ideas and build towards defensible MVP. In this invited talk\, you will learn: \nThe “AI Product Opportunity Canvas” \nA proprietary framework to assess AI product ideas\, inspired by proven processes from Google and successful AI labs \n5-Step Playbook to Land an AI-Native MVP \nHow to evaluate user problems\, craft a compelling AI-native value proposition\, design for data and defensibility \nReal AI-Native Product Success Cases \nHow AI product leaders and founders are finding the market niche in industries such as healthcare\, legal and finance \nHow to Build Fast Feedback Loops with User and Human Evals \nHow to set up tight user feedback loops and leverage Human-in-the-Loop (HITL) as your secret validation weapon \nInvited Speaker: Roger Jin \nex-Product Lead @Google DeepMind\, 2x Founder\, AI Strategy Coach \nRoger is an ICF-certified coach and a seasoned product leader who has operated at the frontier of AI development and in the trenches of building venture-backed companies. \nAs Head of Product at Google DeepMind\, Roger was a founding member of the product team that launched Gemini\, Google’s flagship generative AI product. Before that\, Roger led product teams at Amazon Alexa\, pushing the boundaries of customer experience for millions of users. \nRoger has also co-founded two AI startups\, raising over $20M in venture capital and scaling them to a combined $80M+ in annual revenue. He is a graduate of Carnegie Mellon University. \nLocation: Social Science\, Room 110
URL:https://events.ucsc.edu/event/how-to-validate-ai-product-ideas-and-build-a-defensible-mvp/
LOCATION:Social Sciences 1\, Social Sciences 1\, Santa Cruz\, CA\, 95064
CATEGORIES:Lectures & Presentations
ATTACH;FMTTYPE=image/jpeg:https://events.ucsc.edu/wp-content/uploads/2025/09/9e73b5bf30ed803362fce6913c651f32384a766c.jpg
GEO:37.0023717;-122.0580874
X-APPLE-STRUCTURED-LOCATION;VALUE=URI;X-ADDRESS=Social Sciences 1 Social Sciences 1 Santa Cruz CA 95064;X-APPLE-RADIUS=500;X-TITLE=Social Sciences 1:geo:-122.0580874,37.0023717
END:VEVENT
BEGIN:VEVENT
DTSTART;TZID=America/Los_Angeles:20251002T173000
DTEND;TZID=America/Los_Angeles:20251002T190000
DTSTAMP:20260422T051034
CREATED:20250917T070000Z
LAST-MODIFIED:20251002T202915Z
UID:10000192-1759426200-1759431600@events.ucsc.edu
SUMMARY:Dismantling the Deportation Machine...
DESCRIPTION:Dismantling the Deportation Machine: A Conversation on Migration\, Expulsion\, and Xenophobia \nJoin Carlos Martinez as he moderates a powerful discussion with Megan Carney\, Heide Castañeda\, and Gilberto Rosas on the urgent U.S. and global trends shaping the politics of migration\, deportation\, and xenophobia.  \nAs authoritarianism and xenophobia intensify globally\, this distinguished panel will offer critical insights into the shifting terrain of border enforcement\, deportation policies\, and immigrant solidarity. Bringing together diverse expertise\, the speakers will help us make sense of how these dynamics are unfolding both at home and across the world. In conversation\, they will not only examine the harms of exclusionary policies and hateful rhetoric but also highlight strategies and practices of resistance\, care\, and collective organizing.  \nThese scholars are coming together to support the development of Carlos Martinez’s in-progress manuscript\, Captive States: Migration and Expulsion on the Carceral Frontier. This event and subsequent workshop are sponsored by the Institute for Social Transformation’s Emerging Scholar Manuscript Workshops. \n\nDr. Megan Carney\, Associate Professor of Anthropology at University of Arizona\, Invited Scholar\nDr. Heide Castañeda\, Professor of Anthropology at the University of South Florida\, Invited Scholar\nDr. Gilberto Rosas\, Chair & Professor\, Latina/Latino Studies\, Professor of Anthropology\, Professor of Unit for Criticism and Interpretive Theory at the University of Illinois Urbana-Champaign\n\nDon’t miss this chance to engage with leading voices at the forefront of one of the most urgent conversations of our time. \n 
URL:https://events.ucsc.edu/event/dismantling-the-deportation-machine-a-conversation-on-migration-expulsion-and-xenophobia/
LOCATION:Bay Tree Building\, Student Union\, Santa Cruz\, CA\, 95064\, United States
CATEGORIES:Lectures & Presentations
ATTACH;FMTTYPE=image/jpeg:https://events.ucsc.edu/wp-content/uploads/2025/09/6b1fc00cc4417c2550c9069cc5dbebdfd64c539f.jpg
GEO:36.997868;-122.0559724
X-APPLE-STRUCTURED-LOCATION;VALUE=URI;X-ADDRESS=Bay Tree Building Student Union Santa Cruz CA 95064 United States;X-APPLE-RADIUS=500;X-TITLE=Student Union:geo:-122.0559724,36.997868
END:VEVENT
END:VCALENDAR