BEGIN:VCALENDAR
VERSION:2.0
PRODID:-//Events - ECPv6.15.20//NONSGML v1.0//EN
CALSCALE:GREGORIAN
METHOD:PUBLISH
X-WR-CALNAME:Events
X-ORIGINAL-URL:https://events.ucsc.edu
X-WR-CALDESC:Events for Events
REFRESH-INTERVAL;VALUE=DURATION:PT1H
X-Robots-Tag:noindex
X-PUBLISHED-TTL:PT1H
BEGIN:VTIMEZONE
TZID:America/Los_Angeles
BEGIN:DAYLIGHT
TZOFFSETFROM:-0800
TZOFFSETTO:-0700
TZNAME:PDT
DTSTART:20250309T100000
END:DAYLIGHT
BEGIN:STANDARD
TZOFFSETFROM:-0700
TZOFFSETTO:-0800
TZNAME:PST
DTSTART:20251102T090000
END:STANDARD
BEGIN:DAYLIGHT
TZOFFSETFROM:-0800
TZOFFSETTO:-0700
TZNAME:PDT
DTSTART:20260308T100000
END:DAYLIGHT
BEGIN:STANDARD
TZOFFSETFROM:-0700
TZOFFSETTO:-0800
TZNAME:PST
DTSTART:20261101T090000
END:STANDARD
BEGIN:DAYLIGHT
TZOFFSETFROM:-0800
TZOFFSETTO:-0700
TZNAME:PDT
DTSTART:20270314T100000
END:DAYLIGHT
BEGIN:STANDARD
TZOFFSETFROM:-0700
TZOFFSETTO:-0800
TZNAME:PST
DTSTART:20271107T090000
END:STANDARD
END:VTIMEZONE
BEGIN:VEVENT
DTSTART;TZID=America/Los_Angeles:20260224T120000
DTEND;TZID=America/Los_Angeles:20260224T130000
DTSTAMP:20260421T163903
CREATED:20260112T193435Z
LAST-MODIFIED:20260112T193435Z
UID:10008346-1771934400-1771938000@events.ucsc.edu
SUMMARY:Arts Division - Application and Interview Skills That Will Get You A Great Job!
DESCRIPTION:Having a stand-out application and exceptional interview skills are essential for landing a great job! Join us for this fast-paced and interactive one-hour online workshop where we’ll explore how to submit an application that makes an employer WANT to interview you\, as well as top-notch tips and techniques to prepare for and answer  interview questions with intentionality\, confidence\, and skill. \nWe will provide captions for the presentation. If you have disability-related needs\, please contact the Career Success office at csuccess@ucsc.edu or (831) 459-4420 as soon as possible. \nYOU BELONG HERE\nPrograms and services are open to all\, consistent with state and federal law\, as well as the University of California’s nondiscrimination policies. Every initiative—whether a student service\, faculty program\, or community event—is designed to be accessible\, inclusive\, and respectful of all identities. To learn more\, please visit UC Nondiscrimination Statement or Nondiscrimination Policy for UC Publications.
URL:https://events.ucsc.edu/event/arts-division-application-and-interview-skills-that-will-get-you-a-great-job/
LOCATION:https://ucsc.zoom.us/j/2614256373?pwd=WVdISUN0Q3ZHTXhSak5VVWN5OVc3dz09
CATEGORIES:Meetings & Conferences,Seminars,Workshop
ATTACH;FMTTYPE=image/png:https://events.ucsc.edu/wp-content/uploads/2025/12/Career-Success-logo-circle-1.png
END:VEVENT
BEGIN:VEVENT
DTSTART;TZID=America/Los_Angeles:20260224T144500
DTEND;TZID=America/Los_Angeles:20260224T173000
DTSTAMP:20260421T163903
CREATED:20250826T070000Z
LAST-MODIFIED:20251113T191329Z
UID:10000129-1771944300-1771954200@events.ucsc.edu
SUMMARY:Teaching Symposium — Teaching Week 2026
DESCRIPTION:This is the kick-off event for Teaching Week 2026. The symposium will showcase the work of instructors (including grads\, lecturers\, senate faculty) presenting on a teaching innovation\, activity\, program\, or scholarly work. Presentation modalities include posters and short spoken presentations. \nApplication to Present \nRSVP here to attend
URL:https://events.ucsc.edu/event/teaching-symposium-2026/
LOCATION:Merrill Cultural Center\, 200 McLaughlin Dr\, Santa Cruz\, CA\, 95064
CATEGORIES:Lectures & Presentations,Meetings & Conferences
ATTACH;FMTTYPE=image/jpeg:https://events.ucsc.edu/wp-content/uploads/2025/09/361984f9da1bd7bfbea87c901bb3a43a8aa89024.jpg
GEO:36.999885;-122.0532636
X-APPLE-STRUCTURED-LOCATION;VALUE=URI;X-ADDRESS=Merrill Cultural Center 200 McLaughlin Dr Santa Cruz CA 95064;X-APPLE-RADIUS=500;X-TITLE=200 McLaughlin Dr:geo:-122.0532636,36.999885
END:VEVENT
END:VCALENDAR