BEGIN:VCALENDAR
VERSION:2.0
PRODID:-//Events - ECPv6.15.20//NONSGML v1.0//EN
CALSCALE:GREGORIAN
METHOD:PUBLISH
X-WR-CALNAME:Events
X-ORIGINAL-URL:https://events.ucsc.edu
X-WR-CALDESC:Events for Events
REFRESH-INTERVAL;VALUE=DURATION:PT1H
X-Robots-Tag:noindex
X-PUBLISHED-TTL:PT1H
BEGIN:VTIMEZONE
TZID:America/Los_Angeles
BEGIN:DAYLIGHT
TZOFFSETFROM:-0800
TZOFFSETTO:-0700
TZNAME:PDT
DTSTART:20250309T100000
END:DAYLIGHT
BEGIN:STANDARD
TZOFFSETFROM:-0700
TZOFFSETTO:-0800
TZNAME:PST
DTSTART:20251102T090000
END:STANDARD
BEGIN:DAYLIGHT
TZOFFSETFROM:-0800
TZOFFSETTO:-0700
TZNAME:PDT
DTSTART:20260308T100000
END:DAYLIGHT
BEGIN:STANDARD
TZOFFSETFROM:-0700
TZOFFSETTO:-0800
TZNAME:PST
DTSTART:20261101T090000
END:STANDARD
BEGIN:DAYLIGHT
TZOFFSETFROM:-0800
TZOFFSETTO:-0700
TZNAME:PDT
DTSTART:20270314T100000
END:DAYLIGHT
BEGIN:STANDARD
TZOFFSETFROM:-0700
TZOFFSETTO:-0800
TZNAME:PST
DTSTART:20271107T090000
END:STANDARD
END:VTIMEZONE
BEGIN:VEVENT
DTSTART;TZID=America/Los_Angeles:20260226T114000
DTEND;TZID=America/Los_Angeles:20260226T131500
DTSTAMP:20260421T152902
CREATED:20260212T231636Z
LAST-MODIFIED:20260212T231636Z
UID:10009217-1772106000-1772111700@events.ucsc.edu
SUMMARY:BME 280B Seminar: The evolution of structural variation across vertebrate genomes
DESCRIPTION:Presenter: Peter Sudmant\, Assistant Professor of Integrative Biology\, University of California\, Berkeley \nDescription: Structural variants (SVs) contribute substantially to genetic variation and play vital roles in adaptation and disease. However\, SVs are poorly captured by short read sequencing and thus are understudied\, particularly in non-model organisms. Here\, taking advantage of recently generated haplotype-resolved genome assemblies from >600 vertebrate species\, we present the most comprehensive survey of the diversity of SVs and single nucleotide variants (SNVs) across the vertebrate tree of life to date. \nBio: Peter Sudmant is an Assistant Professor of Integrative Biology at the University of California Berkeley. Prior to joining UC Berkeley\, Dr Sudmant completed his PhD at the University of Washington in the Lab of Dr Evan Eichler as HHMI International Fellow. Dr Sudmant went on to complete a postdoc with Christopher Burge at MIT as a Genentech fellow of the Life Sciences Research Foundation. Dr Sudmant is a recipient of the American Foundation for Aging Research Junior Faculty Award and a Hellman Fellow. \nHosted by: Professor Russ Corbett-Detig\, BME Department
URL:https://events.ucsc.edu/event/bme-280b-seminar-the-evolution-of-structural-variation-across-vertebrate-genomes/
LOCATION:Physical Sciences Building\, Physical Sciences Building\, Santa Cruz\, CA\, 95064
CATEGORIES:Lectures & Presentations,Seminars
ATTACH;FMTTYPE=image/jpeg:https://events.ucsc.edu/wp-content/uploads/2026/02/PeterHSudmant.jpg
GEO:36.9996638;-122.0618552
X-APPLE-STRUCTURED-LOCATION;VALUE=URI;X-ADDRESS=Physical Sciences Building Physical Sciences Building Santa Cruz CA 95064;X-APPLE-RADIUS=500;X-TITLE=Physical Sciences Building:geo:-122.0618552,36.9996638
END:VEVENT
BEGIN:VEVENT
DTSTART;TZID=America/Los_Angeles:20260226T120000
DTEND;TZID=America/Los_Angeles:20260226T133000
DTSTAMP:20260421T152902
CREATED:20260203T232136Z
LAST-MODIFIED:20260224T231258Z
UID:10009137-1772107200-1772112600@events.ucsc.edu
SUMMARY:Venezuela: Contradictions of Regime Change Without a Change of Regime\, A Discussion with Dr. Gabriel Hetland
DESCRIPTION:*UPDATE!* New date! Now on Thursday\, February 26th\, 12- 1:30pm at the Stevenson Event Center. \nFollowing the January 3 US attack and kidnapping of its president\, Nicolás Maduro\, Venezuela has been transformed into something approaching a protectorate of the US. In this bizarre regime change without a change of regime\, Maduro’s former vice president\, Delcy Rodriguez\, is allied -under explicitly coercive threats- with Donald Trump in his brazenly neocolonial plunder of Venezuela’s oil resources. This talk will explore the political and economic contradictions of this dangerous and unusual situation\, which poses grave risks to Venezuela\, Latin America and the world. \nGabriel Hetland is associate professor of Africana\, Latin American\, Caribbean\, and Latinx Studies at SUNY Albany and author of Democracy on the Ground: Local Politics in Latin America’s Left Turn.
URL:https://events.ucsc.edu/event/venezuela-contradictions-of-regime-change-without-a-change-of-regime-a-discussion-with-dr-gabriel-hetland/
LOCATION:Stevenson Event Center\, Stevenson Service Road\, Santa Cruz\, CA\, 95064
CATEGORIES:Lectures & Presentations
ATTACH;FMTTYPE=image/jpeg:https://events.ucsc.edu/wp-content/uploads/2026/01/Hetland-headshot-cropped.jpg
GEO:36.996897;-122.0512963
X-APPLE-STRUCTURED-LOCATION;VALUE=URI;X-ADDRESS=Stevenson Event Center Stevenson Service Road Santa Cruz CA 95064;X-APPLE-RADIUS=500;X-TITLE=Stevenson Service Road:geo:-122.0512963,36.996897
END:VEVENT
BEGIN:VEVENT
DTSTART;TZID=America/Los_Angeles:20260226T130000
DTEND;TZID=America/Los_Angeles:20260226T134500
DTSTAMP:20260421T152902
CREATED:20260126T184922Z
LAST-MODIFIED:20260126T184922Z
UID:10009109-1772110800-1772113500@events.ucsc.edu
SUMMARY:Campus to Career: Job Talk with Fashion Reporter Elizabeth Segran
DESCRIPTION:Are you interested in writing\, fashion\, or sustainability? Join us for a job talk with Elizabeth Segran\, a fashion reporter and author. Elizabeth will share insights from her career covering the intersection of fashion and sustainability\, and she’ll tell us how her educational background in the humanities has shaped her trajectory and informed her work. If you’re curious about careers in the creative fields\, this event is for you! \nRegister here \nAttendees will be entered to win a raffle for two copies of Elizabeth’s book\, The Rocket Years: How Your Twenties Launch the Rest of Your Life. \nLearn more about Elizabeth: \nElizabeth Segran is senior staff writer at Fast Company\, whose work has appeared in a range of publications including The Atlantic\, Foreign Policy\, Foreign Affairs\, The Nation\, The New Republic\, The Chronicle of Higher Education and Salon. Her book\, The Rocket Years\, was published in 2020 by Harper Books. \nShe received her Ph.D. from the University of California\, Berkeley in the field of South and Southeast Asian Studies with a Designated Emphasis in Women\, Gender and Sexuality. She is an expert on India\, having devoted a decade to studying its history\, literature\, culture and gender dynamics. \nShe is a global nomad who grew up in Brussels\, Paris\, Singapore\, Jakarta and London before moving to New York to attend Columbia University. She currently lives in Cambridge\, MA with her books\, her husband and her two daughters. \nThis event is co-sponsored by Career Success\, the Humanities Division\, and the Arts Division. \nThis program is open to all students consistent with state and federal law\, the UC Nondiscrimination Statement and the Nondiscrimination Policy Statement for University of California Publications Regarding Student-Related Matters.
URL:https://events.ucsc.edu/event/campus-to-career-job-talk-with-fashion-reporter-elizabeth-segran/
CATEGORIES:Lectures & Presentations
ATTACH;FMTTYPE=image/jpeg:https://events.ucsc.edu/wp-content/uploads/2026/01/Elizabeth-Segran.jpg
LOCATION:https://events.ucsc.edu/event/campus-to-career-job-talk-with-fashion-reporter-elizabeth-segran/
END:VEVENT
BEGIN:VEVENT
DTSTART;TZID=America/Los_Angeles:20260226T163000
DTEND;TZID=America/Los_Angeles:20260226T183000
DTSTAMP:20260421T152902
CREATED:20250828T070000Z
LAST-MODIFIED:20260226T012522Z
UID:10000137-1772123400-1772130600@events.ucsc.edu
SUMMARY:Distinguished Teaching Award Lecture — Teaching Week 2026
DESCRIPTION:Welcoming the Unknown Together\nJoin us as 2024-25 Distinguished Teaching Award recipient Laurie Palmer\, Professor Emerita of Art\, shares her insights on teaching. This lecture is one of the key events featured in Teaching Week 2026. \nArtist\, theorist\, scholar\, and activist\, A. Laurie Palmer is Professor Emerita of Art. Since joining UCSC in 2015\, she’s offered courses in sculpture\, writing\, forms and ideas\, mixed media and project-based art\, materiality of color\, materiality of time\, and environmental and racial justice. She has contributed significantly to establishing and guiding the Art Department’s Environmental Art and Social Practice graduate program during its first years. Before joining UCSC faculty\, Palmer taught sculpture and contemporary theory at the School of the Art Institute of Chicago for 18 years. Her artwork has been shown nationally and internationally. She also lectures widely on her work\, and publishes writing as\, and about\, art in multiple formats and forums. \nStarting in 2018-2019\, the Distinguished Teaching Award (DTA) recognizes outstanding teaching on our campus. This annual award is an opportunity to acknowledge the pedagogical contributions of our colleagues that include—but also go beyond—any one particular course. It seeks to recognize an instructor that has made significant contributions to educational equity within and beyond UC Santa Cruz. \nHybrid Event\nPlease register to attend in person or to stream via Vimeo\nLearn more about the Distinguished Teaching Award
URL:https://events.ucsc.edu/event/dta-lecture-26/
LOCATION:Merrill Cultural Center\, 200 McLaughlin Dr\, Santa Cruz\, CA\, 95064
CATEGORIES:Lectures & Presentations
ATTACH;FMTTYPE=image/png:https://events.ucsc.edu/wp-content/uploads/2025/08/LP-for-Green-Dreamer-2023sm3.png
GEO:36.999885;-122.0532636
X-APPLE-STRUCTURED-LOCATION;VALUE=URI;X-ADDRESS=Merrill Cultural Center 200 McLaughlin Dr Santa Cruz CA 95064;X-APPLE-RADIUS=500;X-TITLE=200 McLaughlin Dr:geo:-122.0532636,36.999885
END:VEVENT
BEGIN:VEVENT
DTSTART;TZID=America/Los_Angeles:20260226T173000
DTEND;TZID=America/Los_Angeles:20260226T183000
DTSTAMP:20260421T152902
CREATED:20251216T185325Z
LAST-MODIFIED:20260218T182845Z
UID:10005850-1772127000-1772130600@events.ucsc.edu
SUMMARY:How promotions actually happen (and why hard work alone isn’t enough)
DESCRIPTION:Most professionals are told a simple formula: work hard\, deliver results\, and your career will naturally advance. Yet many find that after years of strong performance\, progress slows—responsibilities grow without recognition\, and promotions go elsewhere. \nThe issue is rarely capability\, but a misunderstanding of how advancement really works. Each career stage has different expectations: the skills that earn a first role aren’t the same ones that move someone into management or leadership. As organizations grow more complex—and AI makes execution easier to replicate—doing your job well is no longer enough. Advancement depends on how your work connects to the broader mission\, how it’s perceived\, and whether you’re already operating at the next level. \nThis session offers an inside look at why capable people plateau—and why others accelerate. \nBring your thoughts and experiences. This is a discussion-based workshop—please come ready to engage. \nThis event is part of the Dean Conversations: Pathways to professional success series. \nClaim your seat!
URL:https://events.ucsc.edu/event/how-to-be-an-influencer-without-being-on-reality-tv/
LOCATION:Silicon Valley Campus\, 3175 Bowers Avenue\, Santa Clara\, CA\, 95054\, United States
CATEGORIES:Lectures & Presentations,Meetings & Conferences,Training
ATTACH;FMTTYPE=image/png:https://events.ucsc.edu/wp-content/uploads/2025/12/SM-Cal-9.png
GEO:37.3796975;-121.9765484
X-APPLE-STRUCTURED-LOCATION;VALUE=URI;X-ADDRESS=Silicon Valley Campus 3175 Bowers Avenue Santa Clara CA 95054 United States;X-APPLE-RADIUS=500;X-TITLE=3175 Bowers Avenue:geo:-121.9765484,37.3796975
END:VEVENT
BEGIN:VEVENT
DTSTART;TZID=America/Los_Angeles:20260226T180000
DTEND;TZID=America/Los_Angeles:20260226T193000
DTSTAMP:20260421T152902
CREATED:20260112T230703Z
LAST-MODIFIED:20260112T230703Z
UID:10008352-1772128800-1772134200@events.ucsc.edu
SUMMARY:Electroacoustic Performance and Artist Talk with the Whale Liberation Front
DESCRIPTION:Experience a performance and talk by composers and sound artists Corey Diane and Peter J. Bowling\, two members of the Whale Liberation Front.\nThe Intersections of Climate Change Series is organized with the Friedlaender Lab in conjunction with Weather and the Whale.\n—\nADDITIONAL SERIES EVENTS\n– Thurs. Feb. 5\, 6:00 p.m: Intersections of Climate Change Lecture: Climate Justice and the Moss Landing Battery Fire\n– Wed. Feb. 11\, 6:00 p.m: The California Firefighter Cancer Research Study with Shehnaz Hussain and Fire Captain Jamie Gabriel\n– Thurs. Feb. 26\, 6:00 p.m: Intersections of Climate Change Performance: Electroacoustic Performance and Artist Talk with the Whale Liberation Front\n– Wed. March 4\, 6:00 p.m: Unexpected Returns: The Historic Entanglements of Fire\, Settlement\, and Stewardship in the Santa Cruz Mountains\n—\nADMISSION\n– FREE and open to the public\n—\nPARKING\n– The entrance to the Institute of the Arts and Sciences Galleries is on Delaware Street and has an accessibility ramp.\n– Convenient and free self-parking is available on Panetta Avenue and High Road\, immediately adjacent to the galleries.\n– Accessible parking is on High Road.\n—\nThis program is open to all members of the public consistent with state and federal law.
URL:https://events.ucsc.edu/event/electroacoustic-performance-and-artist-talk-with-the-whale-liberation-front/
LOCATION:Institute of the Arts and Sciences\, 100 Panetta Ave\, Santa Cruz\, United States
CATEGORIES:Lectures & Presentations,Performances
ATTACH;FMTTYPE=image/jpeg:https://events.ucsc.edu/wp-content/uploads/2026/01/IAS_Electroacoustic_UCSC1-41-2-scaled.jpg
GEO:36.9557939;-122.0505546
X-APPLE-STRUCTURED-LOCATION;VALUE=URI;X-ADDRESS=Institute of the Arts and Sciences 100 Panetta Ave Santa Cruz United States;X-APPLE-RADIUS=500;X-TITLE=100 Panetta Ave:geo:-122.0505546,36.9557939
END:VEVENT
BEGIN:VEVENT
DTSTART;TZID=America/Los_Angeles:20260226T180000
DTEND;TZID=America/Los_Angeles:20260226T200000
DTSTAMP:20260421T152902
CREATED:20251106T214346Z
LAST-MODIFIED:20251213T011148Z
UID:10005106-1772128800-1772136000@events.ucsc.edu
SUMMARY:Will Work for Food
DESCRIPTION:Join us for a conversation on labor\, food\, and justice with Will Work for Food co-author Laura-Anne Minkoff-Zern and regional food production and service workers Veronica Rodriguez (Dole\, Soledad)\, and X (Verve\, Santa Cruz). Together\, they will explore the often-overlooked role of labor in building a more just food system. Free and open to the public. Translation provided.
URL:https://events.ucsc.edu/event/will-work-for-food/
LOCATION:Hay Barn\, 94 Ranch View Road\, Santa Cruz\, CA\, 95064\, United States
CATEGORIES:Lectures & Presentations
ATTACH;FMTTYPE=image/png:https://events.ucsc.edu/wp-content/uploads/2025/11/Will-Work-for-Food.png
GEO:36.9817736;-122.0569624
X-APPLE-STRUCTURED-LOCATION;VALUE=URI;X-ADDRESS=Hay Barn 94 Ranch View Road Santa Cruz CA 95064 United States;X-APPLE-RADIUS=500;X-TITLE=94 Ranch View Road:geo:-122.0569624,36.9817736
END:VEVENT
END:VCALENDAR