BEGIN:VCALENDAR
VERSION:2.0
PRODID:-//Events - ECPv6.15.20//NONSGML v1.0//EN
CALSCALE:GREGORIAN
METHOD:PUBLISH
X-ORIGINAL-URL:https://events.ucsc.edu
X-WR-CALDESC:Events for Events
REFRESH-INTERVAL;VALUE=DURATION:PT1H
X-Robots-Tag:noindex
X-PUBLISHED-TTL:PT1H
BEGIN:VTIMEZONE
TZID:America/Los_Angeles
BEGIN:DAYLIGHT
TZOFFSETFROM:-0800
TZOFFSETTO:-0700
TZNAME:PDT
DTSTART:20250309T100000
END:DAYLIGHT
BEGIN:STANDARD
TZOFFSETFROM:-0700
TZOFFSETTO:-0800
TZNAME:PST
DTSTART:20251102T090000
END:STANDARD
BEGIN:DAYLIGHT
TZOFFSETFROM:-0800
TZOFFSETTO:-0700
TZNAME:PDT
DTSTART:20260308T100000
END:DAYLIGHT
BEGIN:STANDARD
TZOFFSETFROM:-0700
TZOFFSETTO:-0800
TZNAME:PST
DTSTART:20261101T090000
END:STANDARD
BEGIN:DAYLIGHT
TZOFFSETFROM:-0800
TZOFFSETTO:-0700
TZNAME:PDT
DTSTART:20270314T100000
END:DAYLIGHT
BEGIN:STANDARD
TZOFFSETFROM:-0700
TZOFFSETTO:-0800
TZNAME:PST
DTSTART:20271107T090000
END:STANDARD
END:VTIMEZONE
BEGIN:VEVENT
DTSTART;TZID=America/Los_Angeles:20260301T000000
DTEND;TZID=America/Los_Angeles:20260331T235959
DTSTAMP:20260421T165634
CREATED:20260223T210337Z
LAST-MODIFIED:20260223T210337Z
UID:10009248-1772323200-1775001599@events.ucsc.edu
SUMMARY:March is Hummingbird Month at the UCSC Arboretum & Botanic Garden
DESCRIPTION:March is Hummingbird Month at the UCSC Arboretum & Botanic Garden \nThis time of year\, the Arboretum hosts both Anna’s and Allen’s hummingbirds\, the two most common species in Northern California. “The density of hummingbirds—the number per area in the Arboretum—is ridiculously high\,” says Bruce Lyon\, Professor Emeriti of Ecology and Evolutionary Biology at UCSC. “You can watch them feeding on ﬂowers\, you can watch their courtship\, you can watch them chasing different species. It’s a great opportunity to see some pretty amazing hummingbird biology.” \nIn celebration of this special time of year\, we invite you to visit the garden as much as possible! We will have presentations\, workshops\, and tours throughout the month. See our webpage for a schedule of activities and more information about hummingbirds and the abundance of plants at the Arboretum that attract them. \nWe will also feature hummingbird merchandise and hummingbird-attracting plants at our gift shop and nursery. Visit Norrie’s Gift & Garden Shop\, Tuesdays thru Sundays from 10 – 4. For more information visit: https://arboretum.ucsc.edu/garden-shop/ \nAll events are free with paid admission: Adults: $10\, Seniors $8 and Youth 4-17 $5. Current UCSC students are free. Rain cancels outdoor activities. \nCurrent Arboretum members are always free and enjoy other great benefits year-round!  Join Today at https://arboretum.ucsc.edu/get-involved/join-us/    \n  \n 
URL:https://events.ucsc.edu/event/march-is-hummingbird-month-at-the-ucsc-arboretum-botanic-garden/
LOCATION:Arboretum\, 122 Arboretum Road\, Santa Cruz\, CA\, 95064
CATEGORIES:Lectures & Presentations
ATTACH;FMTTYPE=image/jpeg:https://events.ucsc.edu/wp-content/uploads/2026/02/Lohman_Kevin_Spotlight-WATERMARK.jpeg
GEO:36.9838652;-122.0609079
X-APPLE-STRUCTURED-LOCATION;VALUE=URI;X-ADDRESS=Arboretum 122 Arboretum Road Santa Cruz CA 95064;X-APPLE-RADIUS=500;X-TITLE=122 Arboretum Road:geo:-122.0609079,36.9838652
END:VEVENT
BEGIN:VEVENT
DTSTART;TZID=America/Los_Angeles:20260311T110000
DTEND;TZID=America/Los_Angeles:20260311T121500
DTSTAMP:20260421T165634
CREATED:20260303T181914Z
LAST-MODIFIED:20260303T181914Z
UID:10009389-1773226800-1773231300@events.ucsc.edu
SUMMARY:CSE Colloquium: Co-Active AI-Assisted Programming
DESCRIPTION:Presenter: Nadia Polikarpova\, UCSD \nAbstract: \nAI-assisted programming has rapidly moved from novelty to default. Today\, most developers use AI coding tools\, and increasingly rely on agentic systems capable of making multi-step design and implementation decisions with minimal human guidance. While these systems boost productivity\, they also introduce new risks: developers may disengage from the reasoning behind generated code\, leading to shallow understanding\, loss of ownership\, and what is increasingly described as cognitive debt. \nIn this talk\, I argue that AI-driven software development must be co-active: humans and AI should remain continuously engaged in a shared process of understanding and decision-making. I will present two complementary research directions toward this goal. The first focuses on observability—helping developers understand\, validate\, and trace the behavior of AI-generated code. The second focuses on controllability—making AI decisions explicit\, persistent\, and steerable. Together\, these ideas restore programmer agency while maintaining the productivity gains of AI-assisted development. \nBio: \nNadia Polikarpova is an associate professor at UC San Diego\, and a member of the Programming Systems group. She received her Ph.D. in Computer Science from ETH Zurich in 2014\, and then spent some time as a postdoctoral researcher at MIT. Nadia’s research interests are at the intersection of programming languages\, AI\, human-computer interaction\, and social computing. \nHosted by: Professor Nikos Tziavelis \nLocation: Engineering 2\, Room E2-180 (*Refreshments such as coffee\, tea\, pastries\, and fresh fruit will be available.) \nZoom: https://ucsc.zoom.us/j/93445911992?pwd=YkJ2TQtF79h0PcNXbEcpZLbpK0coiY.1&jst=3
URL:https://events.ucsc.edu/event/cse-colloquium-co-active-ai-assisted-programming/
LOCATION:Engineering 2\, Engineering 2 1156 High Street\, Santa Cruz\, CA\, 95064
CATEGORIES:Lectures & Presentations,Seminars
ATTACH;FMTTYPE=image/png:https://events.ucsc.edu/wp-content/uploads/2026/02/BElogoWHITE.png
GEO:37.0009723;-122.0632371
X-APPLE-STRUCTURED-LOCATION;VALUE=URI;X-ADDRESS=Engineering 2 Engineering 2 1156 High Street Santa Cruz CA 95064;X-APPLE-RADIUS=500;X-TITLE=Engineering 2 1156 High Street:geo:-122.0632371,37.0009723
END:VEVENT
BEGIN:VEVENT
DTSTART;TZID=America/Los_Angeles:20260311T110000
DTEND;TZID=America/Los_Angeles:20260311T130000
DTSTAMP:20260421T165634
CREATED:20260311T160620Z
LAST-MODIFIED:20260311T160620Z
UID:10011304-1773226800-1773234000@events.ucsc.edu
SUMMARY:Yang\, S. (CSE) - Beyond Image Editing: Building Generalized Image Customization Systems
DESCRIPTION:Current generative vision models struggle with image customization that requires multi-step reasoning or real-world knowledge. This proposal introduces generalized image customization\, enabling systems to execute complex\, inferential modifications rather than just simple edits. The research focuses on the foundational framework required for this generalization\, specifically high-quality training data\, scalable evaluation benchmarks\, self-improving training paradigms that reduce reliance on paired annotations\, and unified multi-modal architectures. Building on two completed studies in data quality and evaluation\, this proposal outlines two future research directions to develop capable\, annotation-efficient\, and reasoning-native image customization systems. \nEvent Host: Siwei Yang\, Ph.D. Student\, Computer Science and Engineering \nAdvisor: Cihang Xie \nZoom- https://ucsc.zoom.us/j/3852138080?pwd=Z0MyTVM2WjdCbEM4OXVxWUhhei84dz09 \n 
URL:https://events.ucsc.edu/event/yang-s-cse-beyond-image-editing-building-generalized-image-customization-systems/
LOCATION:
CATEGORIES:Ph.D. Presentations
ATTACH;FMTTYPE=image/jpeg:https://events.ucsc.edu/wp-content/uploads/2026/02/ph.d.-presentation-graphic-option-1.jpg
END:VEVENT
BEGIN:VEVENT
DTSTART;TZID=America/Los_Angeles:20260311T180000
DTEND;TZID=America/Los_Angeles:20260311T190000
DTSTAMP:20260421T165634
CREATED:20260203T185113Z
LAST-MODIFIED:20260203T185123Z
UID:10009153-1773252000-1773255600@events.ucsc.edu
SUMMARY:What's new in AI?
DESCRIPTION:Chat with the AI chair\nLead innovation as a machine learning engineer\nWant to learn what’s new in AI? Join Praveen Krishna\, chair of the Artificial Intelligence Application Development certificate program\, in an informal discussion about the AI topic of the month and an open Q&A. You’ll get an insider’s look at what you need to know for where you want to go. Bring your questions. Share your experience. Plan your learning. \nEvery 2nd Wednesday | Online\nVisit our program page for a closer look at our AI App Development courses and offerings. \nRegister now.  \n 
URL:https://events.ucsc.edu/event/whats-new-in-ai/
LOCATION:Silicon Valley Campus\, 3175 Bowers Avenue\, Santa Clara\, CA\, 95054\, United States
CATEGORIES:Lectures & Presentations,Meetings & Conferences,Training
ATTACH;FMTTYPE=image/avif:https://events.ucsc.edu/wp-content/uploads/2026/02/ai-whats-new-li-copy.avif
GEO:37.3796975;-121.9765484
X-APPLE-STRUCTURED-LOCATION;VALUE=URI;X-ADDRESS=Silicon Valley Campus 3175 Bowers Avenue Santa Clara CA 95054 United States;X-APPLE-RADIUS=500;X-TITLE=3175 Bowers Avenue:geo:-121.9765484,37.3796975
END:VEVENT
END:VCALENDAR