BEGIN:VCALENDAR
VERSION:2.0
PRODID:-//Events - ECPv6.15.20//NONSGML v1.0//EN
CALSCALE:GREGORIAN
METHOD:PUBLISH
X-WR-CALNAME:Events
X-ORIGINAL-URL:https://events.ucsc.edu
X-WR-CALDESC:Events for Events
REFRESH-INTERVAL;VALUE=DURATION:PT1H
X-Robots-Tag:noindex
X-PUBLISHED-TTL:PT1H
BEGIN:VTIMEZONE
TZID:America/Los_Angeles
BEGIN:DAYLIGHT
TZOFFSETFROM:-0800
TZOFFSETTO:-0700
TZNAME:PDT
DTSTART:20250309T100000
END:DAYLIGHT
BEGIN:STANDARD
TZOFFSETFROM:-0700
TZOFFSETTO:-0800
TZNAME:PST
DTSTART:20251102T090000
END:STANDARD
BEGIN:DAYLIGHT
TZOFFSETFROM:-0800
TZOFFSETTO:-0700
TZNAME:PDT
DTSTART:20260308T100000
END:DAYLIGHT
BEGIN:STANDARD
TZOFFSETFROM:-0700
TZOFFSETTO:-0800
TZNAME:PST
DTSTART:20261101T090000
END:STANDARD
BEGIN:DAYLIGHT
TZOFFSETFROM:-0800
TZOFFSETTO:-0700
TZNAME:PDT
DTSTART:20270314T100000
END:DAYLIGHT
BEGIN:STANDARD
TZOFFSETFROM:-0700
TZOFFSETTO:-0800
TZNAME:PST
DTSTART:20271107T090000
END:STANDARD
END:VTIMEZONE
BEGIN:VEVENT
DTSTART;TZID=America/Los_Angeles:20260301T000000
DTEND;TZID=America/Los_Angeles:20260331T235959
DTSTAMP:20260421T152904
CREATED:20260223T210337Z
LAST-MODIFIED:20260223T210337Z
UID:10009248-1772323200-1775001599@events.ucsc.edu
SUMMARY:March is Hummingbird Month at the UCSC Arboretum & Botanic Garden
DESCRIPTION:March is Hummingbird Month at the UCSC Arboretum & Botanic Garden \nThis time of year\, the Arboretum hosts both Anna’s and Allen’s hummingbirds\, the two most common species in Northern California. “The density of hummingbirds—the number per area in the Arboretum—is ridiculously high\,” says Bruce Lyon\, Professor Emeriti of Ecology and Evolutionary Biology at UCSC. “You can watch them feeding on ﬂowers\, you can watch their courtship\, you can watch them chasing different species. It’s a great opportunity to see some pretty amazing hummingbird biology.” \nIn celebration of this special time of year\, we invite you to visit the garden as much as possible! We will have presentations\, workshops\, and tours throughout the month. See our webpage for a schedule of activities and more information about hummingbirds and the abundance of plants at the Arboretum that attract them. \nWe will also feature hummingbird merchandise and hummingbird-attracting plants at our gift shop and nursery. Visit Norrie’s Gift & Garden Shop\, Tuesdays thru Sundays from 10 – 4. For more information visit: https://arboretum.ucsc.edu/garden-shop/ \nAll events are free with paid admission: Adults: $10\, Seniors $8 and Youth 4-17 $5. Current UCSC students are free. Rain cancels outdoor activities. \nCurrent Arboretum members are always free and enjoy other great benefits year-round!  Join Today at https://arboretum.ucsc.edu/get-involved/join-us/    \n  \n 
URL:https://events.ucsc.edu/event/march-is-hummingbird-month-at-the-ucsc-arboretum-botanic-garden/
LOCATION:Arboretum\, 122 Arboretum Road\, Santa Cruz\, CA\, 95064
CATEGORIES:Lectures & Presentations
ATTACH;FMTTYPE=image/jpeg:https://events.ucsc.edu/wp-content/uploads/2026/02/Lohman_Kevin_Spotlight-WATERMARK.jpeg
GEO:36.9838652;-122.0609079
X-APPLE-STRUCTURED-LOCATION;VALUE=URI;X-ADDRESS=Arboretum 122 Arboretum Road Santa Cruz CA 95064;X-APPLE-RADIUS=500;X-TITLE=122 Arboretum Road:geo:-122.0609079,36.9838652
END:VEVENT
BEGIN:VEVENT
DTSTART;TZID=America/Los_Angeles:20260323T163000
DTEND;TZID=America/Los_Angeles:20260323T180000
DTSTAMP:20260421T152904
CREATED:20260223T210314Z
LAST-MODIFIED:20260223T210314Z
UID:10009242-1774283400-1774288800@events.ucsc.edu
SUMMARY:Community Conversation with author Randy Ribay
DESCRIPTION:Please join us on Monday\, March 23\, 2026 for a community conversation with Randy Ribay\, young adult fiction writer and National Book Award Finalist. During the event\, Randy will discuss his recent novel\, Everything We Never Had (2024)\, about four-generations of Filipino American men grappling with identity\, masculinity\, and father-son relationships. The characters’ stories traverse histories of Filipino America\, including those of Watsonville and the Pajaro Valley. Randy conducted archival research using the Watsonville is in the Heart Community Digital Archive and other repositories to create intergenerational narratives of Filipino American migration\, labor\, and family. \nOur conversation will take place in the Community Room located on the Fourth Floor of the Watsonville Civic Plaza. This event is free and open to the public. It is co-sponsored by Watsonville Public Library\, UCSC’s Center for Labor and Community\, Watsonville is in the Heart\, The Tobera Project\, and Pajaro Valley for Ethnic Studies and Justice. \n \n 
URL:https://events.ucsc.edu/event/community-conversation-with-author-randy-ribay/
CATEGORIES:Lectures & Presentations
END:VEVENT
BEGIN:VEVENT
DTSTART;TZID=America/Los_Angeles:20260323T183000
DTEND;TZID=America/Los_Angeles:20260323T200000
DTSTAMP:20260421T152904
CREATED:20260226T220528Z
LAST-MODIFIED:20260313T232812Z
UID:10009362-1774290600-1774296000@events.ucsc.edu
SUMMARY:The Future of Work in the Age of AI: March Slugs and Steins with Dean PK Agarwal
DESCRIPTION:The Future of Work in the Age of AI: Chaos\, Adaptation\, or Growth? \nArtificial intelligence has reignited an old debate: are we approaching mass technological unemployment\, or simply the next phase of economic evolution? Public discourse swings between dystopian predictions of human obsolescence and confident assurances that “new jobs will replace old ones.” This lecture steps back from speculation and examines evidence. Drawing on economic history and disruptive change\, going back to the wheel and the printing press to electrification\, computers\, and the internet—we explore how societies have repeatedly confronted disruptive change: moments when existing skills\, institutions\, and expectations no longer matched the pace of innovation. The goal is not to predict the future\, but to provide a framework for thinking about it—what AI may automate\, what it may amplify\, and why the real disruption may be the speed of adaptation rather than the disappearance of work itself. The talk concludes with implications for higher education\, workforce development\, and how individuals can remain resilient in an age where intelligence is no longer exclusively human. \nREGISTER \n 
URL:https://events.ucsc.edu/event/march-slugs-and-steins-with-dean-pk-agarwal/
CATEGORIES:Lectures & Presentations
ATTACH;FMTTYPE=image/png:https://events.ucsc.edu/wp-content/uploads/2025/10/slugs-and-steins-blackthorn-banner.png
LOCATION:
END:VEVENT
BEGIN:VEVENT
DTSTART;TZID=America/Los_Angeles:20260323T190000
DTEND;TZID=America/Los_Angeles:20260323T200000
DTSTAMP:20260421T152904
CREATED:20260305T210201Z
LAST-MODIFIED:20260305T210201Z
UID:10009403-1774292400-1774296000@events.ucsc.edu
SUMMARY:Bioinformatics: Lead the next wave of innovation
DESCRIPTION:Lead the next wave of innovation in life sciences and data.\nAs biotechnology and data analytics converge\, the demand for professionals who can interpret complex biological data and drive discovery continues to grow. Learn how experts in bioinformatics use computational tools\, programming\, and molecular biology to transform raw data into scientific and medical insights. \nJoin Darryl A. León\, Ph.D.\, chair of the UCSC Silicon Valley Extension Bioinformatics program\, for an inside look at how our courses can help you strengthen your skills in data analysis\, genomics\, and software tools—preparing you to contribute to advances in biotech\, pharmaceuticals\, and healthcare. \nThis info session is sponsored by the Bioinformatics certificate program. \nSpecial offer\nNew students get a 10% discount. Use code: FIRSTTIME10% \nClaim your seat today.
URL:https://events.ucsc.edu/event/bioinformatics-lead-the-next-wave-of-innovation/
LOCATION:Silicon Valley Campus\, 3175 Bowers Avenue\, Santa Clara\, CA\, 95054\, United States
CATEGORIES:Lectures & Presentations,Meetings & Conferences,Training
ATTACH;FMTTYPE=image/png:https://events.ucsc.edu/wp-content/uploads/2025/11/SM-Cal-33-1.png
GEO:37.3796975;-121.9765484
X-APPLE-STRUCTURED-LOCATION;VALUE=URI;X-ADDRESS=Silicon Valley Campus 3175 Bowers Avenue Santa Clara CA 95054 United States;X-APPLE-RADIUS=500;X-TITLE=3175 Bowers Avenue:geo:-121.9765484,37.3796975
END:VEVENT
END:VCALENDAR