BEGIN:VCALENDAR
VERSION:2.0
PRODID:-//Events - ECPv6.15.20//NONSGML v1.0//EN
CALSCALE:GREGORIAN
METHOD:PUBLISH
X-WR-CALNAME:Events
X-ORIGINAL-URL:https://events.ucsc.edu
X-WR-CALDESC:Events for Events
REFRESH-INTERVAL;VALUE=DURATION:PT1H
X-Robots-Tag:noindex
X-PUBLISHED-TTL:PT1H
BEGIN:VTIMEZONE
TZID:America/Los_Angeles
BEGIN:DAYLIGHT
TZOFFSETFROM:-0800
TZOFFSETTO:-0700
TZNAME:PDT
DTSTART:20250309T100000
END:DAYLIGHT
BEGIN:STANDARD
TZOFFSETFROM:-0700
TZOFFSETTO:-0800
TZNAME:PST
DTSTART:20251102T090000
END:STANDARD
BEGIN:DAYLIGHT
TZOFFSETFROM:-0800
TZOFFSETTO:-0700
TZNAME:PDT
DTSTART:20260308T100000
END:DAYLIGHT
BEGIN:STANDARD
TZOFFSETFROM:-0700
TZOFFSETTO:-0800
TZNAME:PST
DTSTART:20261101T090000
END:STANDARD
BEGIN:DAYLIGHT
TZOFFSETFROM:-0800
TZOFFSETTO:-0700
TZNAME:PDT
DTSTART:20270314T100000
END:DAYLIGHT
BEGIN:STANDARD
TZOFFSETFROM:-0700
TZOFFSETTO:-0800
TZNAME:PST
DTSTART:20271107T090000
END:STANDARD
END:VTIMEZONE
BEGIN:VEVENT
DTSTART;TZID=America/Los_Angeles:20260301T000000
DTEND;TZID=America/Los_Angeles:20260331T235959
DTSTAMP:20260421T152903
CREATED:20260223T210337Z
LAST-MODIFIED:20260223T210337Z
UID:10009248-1772323200-1775001599@events.ucsc.edu
SUMMARY:March is Hummingbird Month at the UCSC Arboretum & Botanic Garden
DESCRIPTION:March is Hummingbird Month at the UCSC Arboretum & Botanic Garden \nThis time of year\, the Arboretum hosts both Anna’s and Allen’s hummingbirds\, the two most common species in Northern California. “The density of hummingbirds—the number per area in the Arboretum—is ridiculously high\,” says Bruce Lyon\, Professor Emeriti of Ecology and Evolutionary Biology at UCSC. “You can watch them feeding on ﬂowers\, you can watch their courtship\, you can watch them chasing different species. It’s a great opportunity to see some pretty amazing hummingbird biology.” \nIn celebration of this special time of year\, we invite you to visit the garden as much as possible! We will have presentations\, workshops\, and tours throughout the month. See our webpage for a schedule of activities and more information about hummingbirds and the abundance of plants at the Arboretum that attract them. \nWe will also feature hummingbird merchandise and hummingbird-attracting plants at our gift shop and nursery. Visit Norrie’s Gift & Garden Shop\, Tuesdays thru Sundays from 10 – 4. For more information visit: https://arboretum.ucsc.edu/garden-shop/ \nAll events are free with paid admission: Adults: $10\, Seniors $8 and Youth 4-17 $5. Current UCSC students are free. Rain cancels outdoor activities. \nCurrent Arboretum members are always free and enjoy other great benefits year-round!  Join Today at https://arboretum.ucsc.edu/get-involved/join-us/    \n  \n 
URL:https://events.ucsc.edu/event/march-is-hummingbird-month-at-the-ucsc-arboretum-botanic-garden/
LOCATION:Arboretum\, 122 Arboretum Road\, Santa Cruz\, CA\, 95064
CATEGORIES:Lectures & Presentations
ATTACH;FMTTYPE=image/jpeg:https://events.ucsc.edu/wp-content/uploads/2026/02/Lohman_Kevin_Spotlight-WATERMARK.jpeg
GEO:36.9838652;-122.0609079
X-APPLE-STRUCTURED-LOCATION;VALUE=URI;X-ADDRESS=Arboretum 122 Arboretum Road Santa Cruz CA 95064;X-APPLE-RADIUS=500;X-TITLE=122 Arboretum Road:geo:-122.0609079,36.9838652
END:VEVENT
BEGIN:VEVENT
DTSTART;TZID=America/Los_Angeles:20260324T180000
DTEND;TZID=America/Los_Angeles:20260324T190000
DTSTAMP:20260421T152903
CREATED:20260311T174920Z
LAST-MODIFIED:20260311T174920Z
UID:10011305-1774375200-1774378800@events.ucsc.edu
SUMMARY:Advance your career in medical device design and quality
DESCRIPTION:As healthcare technology evolves\, professionals who understand global regulatory standards\, risk management\, and quality systems are in high demand. Learn how to design\, document\, and validate medical devices\, digital health solutions\, and AI/ML-based devices while ensuring compliance with FDA\, ISO\, and EU MDR requirements. \nJoin Kiran Gulati\, chair of the UCSC Silicon Valley Extension Medical Device Quality and Design program\, for an inside look at how our courses provide hands-on training\, practical case studies\, and industry-relevant skills that prepare you for roles in quality engineering\, regulatory compliance\, and design assurance. \nThis info session is sponsored by the Medical Device Quality and Design certificate program at UCSC Silicon Valley Extension. \nClaim your seat. 
URL:https://events.ucsc.edu/event/advance-your-career-in-medical-device-design-and-quality/
LOCATION:Silicon Valley Campus\, 3175 Bowers Avenue\, Santa Clara\, CA\, 95054\, United States
CATEGORIES:Lectures & Presentations,Meetings & Conferences,Training
ATTACH;FMTTYPE=image/png:https://events.ucsc.edu/wp-content/uploads/2025/12/SM-Cal-57.png
GEO:37.3796975;-121.9765484
X-APPLE-STRUCTURED-LOCATION;VALUE=URI;X-ADDRESS=Silicon Valley Campus 3175 Bowers Avenue Santa Clara CA 95054 United States;X-APPLE-RADIUS=500;X-TITLE=3175 Bowers Avenue:geo:-121.9765484,37.3796975
END:VEVENT
BEGIN:VEVENT
DTSTART;TZID=America/Los_Angeles:20260324T183000
DTEND;TZID=America/Los_Angeles:20260324T193000
DTSTAMP:20260421T152903
CREATED:20260226T235137Z
LAST-MODIFIED:20260226T235137Z
UID:10009364-1774377000-1774380600@events.ucsc.edu
SUMMARY:Educational Therapy Program Info Session
DESCRIPTION:Transform learning\nJoin Diana Black Kennedy\, chair of UCSC Silicon Valley’s Educational Therapy certificate program\, to learn how this distinctive program prepares educators and professionals to create meaningful\, lasting impact. As one of the few programs approved by the Association of Educational Therapists (AET)\, it equips you with the skills to assess learning differences and implement research-based\, effective interventions with confidence. \nEmpower students and build your practice\nGain skills to support students with learning differences like dyslexia\, ADHD\, and autism using therapeutic and educational strategies. Whether you’re working in schools or starting a private practice\, this program helps you create individualized plans that foster meaningful progress. \nThis spring info session is sponsored by the Educational Therapy Program. \nClaim your seat. 
URL:https://events.ucsc.edu/event/educational-therapy-program-info-session/
LOCATION:Silicon Valley Campus\, 3175 Bowers Avenue\, Santa Clara\, CA\, 95054\, United States
CATEGORIES:Lectures & Presentations,Meetings & Conferences,Training
ATTACH;FMTTYPE=image/png:https://events.ucsc.edu/wp-content/uploads/2026/02/SM-Cal-13.png
GEO:37.3796975;-121.9765484
X-APPLE-STRUCTURED-LOCATION;VALUE=URI;X-ADDRESS=Silicon Valley Campus 3175 Bowers Avenue Santa Clara CA 95054 United States;X-APPLE-RADIUS=500;X-TITLE=3175 Bowers Avenue:geo:-121.9765484,37.3796975
END:VEVENT
END:VCALENDAR