BEGIN:VCALENDAR
VERSION:2.0
PRODID:-//Events - ECPv6.15.20//NONSGML v1.0//EN
CALSCALE:GREGORIAN
METHOD:PUBLISH
X-WR-CALNAME:Events
X-ORIGINAL-URL:https://events.ucsc.edu
X-WR-CALDESC:Events for Events
REFRESH-INTERVAL;VALUE=DURATION:PT1H
X-Robots-Tag:noindex
X-PUBLISHED-TTL:PT1H
BEGIN:VTIMEZONE
TZID:America/Los_Angeles
BEGIN:DAYLIGHT
TZOFFSETFROM:-0800
TZOFFSETTO:-0700
TZNAME:PDT
DTSTART:20250309T100000
END:DAYLIGHT
BEGIN:STANDARD
TZOFFSETFROM:-0700
TZOFFSETTO:-0800
TZNAME:PST
DTSTART:20251102T090000
END:STANDARD
BEGIN:DAYLIGHT
TZOFFSETFROM:-0800
TZOFFSETTO:-0700
TZNAME:PDT
DTSTART:20260308T100000
END:DAYLIGHT
BEGIN:STANDARD
TZOFFSETFROM:-0700
TZOFFSETTO:-0800
TZNAME:PST
DTSTART:20261101T090000
END:STANDARD
BEGIN:DAYLIGHT
TZOFFSETFROM:-0800
TZOFFSETTO:-0700
TZNAME:PDT
DTSTART:20270314T100000
END:DAYLIGHT
BEGIN:STANDARD
TZOFFSETFROM:-0700
TZOFFSETTO:-0800
TZNAME:PST
DTSTART:20271107T090000
END:STANDARD
END:VTIMEZONE
BEGIN:VEVENT
DTSTART;TZID=America/Los_Angeles:20260301T000000
DTEND;TZID=America/Los_Angeles:20260331T235959
DTSTAMP:20260421T152903
CREATED:20260223T210337Z
LAST-MODIFIED:20260223T210337Z
UID:10009248-1772323200-1775001599@events.ucsc.edu
SUMMARY:March is Hummingbird Month at the UCSC Arboretum & Botanic Garden
DESCRIPTION:March is Hummingbird Month at the UCSC Arboretum & Botanic Garden \nThis time of year\, the Arboretum hosts both Anna’s and Allen’s hummingbirds\, the two most common species in Northern California. “The density of hummingbirds—the number per area in the Arboretum—is ridiculously high\,” says Bruce Lyon\, Professor Emeriti of Ecology and Evolutionary Biology at UCSC. “You can watch them feeding on ﬂowers\, you can watch their courtship\, you can watch them chasing different species. It’s a great opportunity to see some pretty amazing hummingbird biology.” \nIn celebration of this special time of year\, we invite you to visit the garden as much as possible! We will have presentations\, workshops\, and tours throughout the month. See our webpage for a schedule of activities and more information about hummingbirds and the abundance of plants at the Arboretum that attract them. \nWe will also feature hummingbird merchandise and hummingbird-attracting plants at our gift shop and nursery. Visit Norrie’s Gift & Garden Shop\, Tuesdays thru Sundays from 10 – 4. For more information visit: https://arboretum.ucsc.edu/garden-shop/ \nAll events are free with paid admission: Adults: $10\, Seniors $8 and Youth 4-17 $5. Current UCSC students are free. Rain cancels outdoor activities. \nCurrent Arboretum members are always free and enjoy other great benefits year-round!  Join Today at https://arboretum.ucsc.edu/get-involved/join-us/    \n  \n 
URL:https://events.ucsc.edu/event/march-is-hummingbird-month-at-the-ucsc-arboretum-botanic-garden/
LOCATION:Arboretum\, 122 Arboretum Road\, Santa Cruz\, CA\, 95064
CATEGORIES:Lectures & Presentations
ATTACH;FMTTYPE=image/jpeg:https://events.ucsc.edu/wp-content/uploads/2026/02/Lohman_Kevin_Spotlight-WATERMARK.jpeg
GEO:36.9838652;-122.0609079
X-APPLE-STRUCTURED-LOCATION;VALUE=URI;X-ADDRESS=Arboretum 122 Arboretum Road Santa Cruz CA 95064;X-APPLE-RADIUS=500;X-TITLE=122 Arboretum Road:geo:-122.0609079,36.9838652
END:VEVENT
BEGIN:VEVENT
DTSTART;TZID=America/Los_Angeles:20260325T180000
DTEND;TZID=America/Los_Angeles:20260325T190000
DTSTAMP:20260421T152903
CREATED:20260224T012742Z
LAST-MODIFIED:20260224T012742Z
UID:10009272-1774461600-1774465200@events.ucsc.edu
SUMMARY:Learn more about high school health pathways
DESCRIPTION:Introducing the new High School Health Pathways Summer Academy! \nAt this interactive info session about our new program for college-bound high schoolers\, Dr. Deepthi Nair\, senior director of the UC Santa Cruz Premed Postbacc Program\, will talk about the UC Santa Cruz High School Health Pathways Summer Academy\, a six-week session of transformative learning\, in-person\, at the Silicon Valley Campus of UC Santa Cruz. \nLearn more about the summer academy\, which offers hands-on learning in diverse topics such as: \n\nHuman biology\nMicroscopy\nPublic health advocacy\nExpert mentorship\nField experiences\nCapstone project\n\nHigh school students\, parents\, and advisors are invited to join the discussion and bring questions. \nClaim your seat today.
URL:https://events.ucsc.edu/event/learn-more-about-high-school-health-pathways/
LOCATION:Silicon Valley Campus\, 3175 Bowers Avenue\, Santa Clara\, CA\, 95054\, United States
CATEGORIES:Lectures & Presentations,Meetings & Conferences,Training
ATTACH;FMTTYPE=image/png:https://events.ucsc.edu/wp-content/uploads/2026/02/SM-Cal-10.png
GEO:37.3796975;-121.9765484
X-APPLE-STRUCTURED-LOCATION;VALUE=URI;X-ADDRESS=Silicon Valley Campus 3175 Bowers Avenue Santa Clara CA 95054 United States;X-APPLE-RADIUS=500;X-TITLE=3175 Bowers Avenue:geo:-121.9765484,37.3796975
END:VEVENT
BEGIN:VEVENT
DTSTART;TZID=America/Los_Angeles:20260325T180000
DTEND;TZID=America/Los_Angeles:20260325T190000
DTSTAMP:20260421T152903
CREATED:20260303T175633Z
LAST-MODIFIED:20260303T175633Z
UID:10009387-1774461600-1774465200@events.ucsc.edu
SUMMARY:Design digital experiences people love
DESCRIPTION:In today’s rapidly evolving tech landscape\, organizations need professionals who can combine empathy\, usability\, and aesthetics to create interfaces that engage and delight users. \nJoin Nicole Sharratt\, instructor and chair of the UCSC Silicon Valley Extension User Experience and Web Design program\, for an inside look at how design specialists are using AI and the latest tools to excel in design. \n\nResearch‑driven methods\nPrototyping tools\nInclusive design principles\nSeamless digital experiences across platforms\n\nBe a design leader\nWe’ll share career trends and how our professional design courses give you the skills to lead user‑centered design projects—whether you’re shaping websites\, apps\, or digital products. \nSpeaker\nNicole Sharratt\, M.S.\, head of User Experience at Leidos QTC Health Services\, has more than 30 years of experience in the industry. She has worked as a UX leader with B2B and B2C organizations and is passionate about growing innovative UX teams and future design leaders. \nSponsor\nThis online discussion is sponsored by the User Experience and Web Design program. \nTake 10%\nNote: New students get 10% off their first course. \nClaim your seat today. 
URL:https://events.ucsc.edu/event/design-digital-experiences-people-love/
LOCATION:Silicon Valley Campus\, 3175 Bowers Avenue\, Santa Clara\, CA\, 95054\, United States
CATEGORIES:Lectures & Presentations,Meetings & Conferences,Training
ATTACH;FMTTYPE=image/png:https://events.ucsc.edu/wp-content/uploads/2025/12/SM-Cal-47.png
GEO:37.3796975;-121.9765484
X-APPLE-STRUCTURED-LOCATION;VALUE=URI;X-ADDRESS=Silicon Valley Campus 3175 Bowers Avenue Santa Clara CA 95054 United States;X-APPLE-RADIUS=500;X-TITLE=3175 Bowers Avenue:geo:-121.9765484,37.3796975
END:VEVENT
BEGIN:VEVENT
DTSTART;TZID=America/Los_Angeles:20260325T190000
DTEND;TZID=America/Los_Angeles:20260325T200000
DTSTAMP:20260421T152903
CREATED:20260306T193610Z
LAST-MODIFIED:20260306T193610Z
UID:10009407-1774465200-1774468800@events.ucsc.edu
SUMMARY:The morphing of the human resources world: An HR info session
DESCRIPTION:Join Philip Ziman\, former HR executive and chair of the Human Resource Management program at UCSC Silicon Valley Extension\, in exploring how the world of work is transforming and what does it mean for the future of human resources? \nWe’ll discover the MORPH framework\, a strategic planning tool that assesses\, measures\, and builds employee readiness for organizational change. We’ll also explore how AI\, labor market shifts\, compensation transparency\, and evolving employee expectations are reshaping recruiting\, performance management\, culture\, and career development. \nThis event is sponsored by the Human Resource Management certificate program at UCSC Silicon Valley Extension. We prepare aspiring and early-career professionals to lead in this new era of human capital strategy and build resilient\, purpose-driven HR careers. \nRegister today.
URL:https://events.ucsc.edu/event/the-morphing-of-the-human-resources-world-an-hr-info-session/
LOCATION:Silicon Valley Campus\, 3175 Bowers Avenue\, Santa Clara\, CA\, 95054\, United States
CATEGORIES:Lectures & Presentations,Meetings & Conferences,Training
ATTACH;FMTTYPE=image/png:https://events.ucsc.edu/wp-content/uploads/2026/03/SM-Cal-16.png
GEO:37.3796975;-121.9765484
X-APPLE-STRUCTURED-LOCATION;VALUE=URI;X-ADDRESS=Silicon Valley Campus 3175 Bowers Avenue Santa Clara CA 95054 United States;X-APPLE-RADIUS=500;X-TITLE=3175 Bowers Avenue:geo:-121.9765484,37.3796975
END:VEVENT
END:VCALENDAR