BEGIN:VCALENDAR
VERSION:2.0
PRODID:-//Events - ECPv6.15.20//NONSGML v1.0//EN
CALSCALE:GREGORIAN
METHOD:PUBLISH
X-WR-CALNAME:Events
X-ORIGINAL-URL:https://events.ucsc.edu
X-WR-CALDESC:Events for Events
REFRESH-INTERVAL;VALUE=DURATION:PT1H
X-Robots-Tag:noindex
X-PUBLISHED-TTL:PT1H
BEGIN:VTIMEZONE
TZID:America/Los_Angeles
BEGIN:DAYLIGHT
TZOFFSETFROM:-0800
TZOFFSETTO:-0700
TZNAME:PDT
DTSTART:20250309T100000
END:DAYLIGHT
BEGIN:STANDARD
TZOFFSETFROM:-0700
TZOFFSETTO:-0800
TZNAME:PST
DTSTART:20251102T090000
END:STANDARD
BEGIN:DAYLIGHT
TZOFFSETFROM:-0800
TZOFFSETTO:-0700
TZNAME:PDT
DTSTART:20260308T100000
END:DAYLIGHT
BEGIN:STANDARD
TZOFFSETFROM:-0700
TZOFFSETTO:-0800
TZNAME:PST
DTSTART:20261101T090000
END:STANDARD
BEGIN:DAYLIGHT
TZOFFSETFROM:-0800
TZOFFSETTO:-0700
TZNAME:PDT
DTSTART:20270314T100000
END:DAYLIGHT
BEGIN:STANDARD
TZOFFSETFROM:-0700
TZOFFSETTO:-0800
TZNAME:PST
DTSTART:20271107T090000
END:STANDARD
END:VTIMEZONE
BEGIN:VEVENT
DTSTART;TZID=America/Los_Angeles:20260410T080000
DTEND;TZID=America/Los_Angeles:20260410T170000
DTSTAMP:20260422T130437
CREATED:20260411T001708Z
LAST-MODIFIED:20260411T001708Z
UID:10012102-1775808000-1775840400@events.ucsc.edu
SUMMARY:Taming Two Scorpions: Climate Science Tipping Points Meet Finance Tail Risks
DESCRIPTION:When two quite different disciplines make eerily similar predictions about the future of the planet and human societies\, they deserve notice. Climate scientists warn that we may be heading toward a Hothouse Earth “inhospitable to … human societies\,” with “increasingly catastrophic impacts” possibly “worldwide societal breakdown.”       Finance and actuarial science emphasize the importance of tail risk (rare adverse events).  Planning and preparing for them is essential to the survival of insurance companies\, pension funds\, banks\, and the entire financial system.   In Climate Salon 6\, Economist Dan Friedman and Environmental Sociologist Andy Szasz team up to show how these disciplinary perspectives interconnect and what they say about the path forward. \nTues Apr 28 3:30-5 pm\, Center for Adaptive Optics Atrium or via zoom (free and open to the public!) \nDan Friedman is Distinguished Professor of Economics Emeritus at UCSC. The author of 6 books\, over 100 research articles and the recipient of 14 National Science Foundation grants\, Dan has begun to apply his expertise in finance and evolutionary game theory to issues in environmental economics. \nAndrew Szasz is Professor Emeritus of Environmental Studies.  At UCSC he taught courses on Classical and Contemporary Social Theory\, Environmental Sociology and Environmental Justice. He has written books and articles on environmental regulation\, the grassroots toxics movement\, green consuming\, environmental justice and climate change. \nCO-SPONSORED by UCSC Climate Action Now\, the Earth Futures Institute\, and Baskin Engineering.
URL:https://events.ucsc.edu/event/taming-two-scorpions-climate-science-tipping-points-meet-finance-tail-risks/
CATEGORIES:Lectures & Presentations
ATTACH;FMTTYPE=application/pdf:https://events.ucsc.edu/wp-content/uploads/2026/04/climatesalon6.friedman_szasz.28apr2026.pdf
END:VEVENT
BEGIN:VEVENT
DTSTART;TZID=America/Los_Angeles:20260410T132000
DTEND;TZID=America/Los_Angeles:20260410T142500
DTSTAMP:20260422T130437
CREATED:20260407T233816Z
LAST-MODIFIED:20260410T190015Z
UID:10012072-1775827200-1775831100@events.ucsc.edu
SUMMARY:BME 80G Seminar: Sara Ackerman - Doing Ethics From The Inside: Collaboration\, Critique\, and Contradiction in Team Science
DESCRIPTION:Presenter: Sara Ackerman\, Medical Anthropologist and Professor of Social and Behavioral Sciences\, University of California\, San Francisco \nDescription: Team science has been widely promoted as a collaborative\, cross-disciplinary approach to addressing key scientific questions\, yet power differences and epistemic hierarchies persist. This talk explores &quot;embedded ethics&quot;—a model in which social scientists and ethicists work directly with scientific research teams. Drawing on findings from an empirical ethics project embedded in a multi-year clinical genomics study\, I demonstrate how qualitative methods and participatory design can shift the researcher-participant dynamic toward greater reciprocity and attention to enrolled families’ experiences. At the same time\, ethicists and social scientists can find themselves in an uncomfortable and even paradoxical position\, expected to facilitate project goals—such as recruitment of historically underrepresented groups—while simultaneously critically assessing the very categories of difference and measures being used. In the future\, team science collaborations can result in more just and broadly beneficial science if social science\, humanities and community partners are able to meaningfully contribute to the research agenda itself. \nBio: Sara Ackerman\, PhD\, MPH\, is a medical anthropologist and Professor of Social and Behavioral Sciences at the University of California\, San Francisco. Her research draws on ethnographic methods and public engagement to examine how genomics\, artificial intelligence and other emerging medical technologies affect the lives of patients and caregivers and shape conceptions of health\, illness and the public good. Sara teaches courses on community-engaged research\, qualitative methods\, and research ethics at UCSF. As Director of the Bioethics and Regulatory Support Program for UCSF’s Clinical and Translational Science Institute\, she is working to increase patient and public participation in decisions about the use of AI in clinical care and the sharing of patients’ clinical data for research. \nHosted by: Professor Karen Miga\, BME Department
URL:https://events.ucsc.edu/event/bme-80g-seminar-sara-ackerman-doing-ethics-from-the-inside-collaboration-critique-and-contradiction-in-team-science/
LOCATION:Jack Baskin Auditorium\, 191 Baskin Cir\, Santa Cruz\, CA\, 95064
CATEGORIES:Lectures & Presentations,Seminars
ATTACH;FMTTYPE=image/png:https://events.ucsc.edu/wp-content/uploads/2026/04/image-2.png
GEO:37.0001832;-122.0623528
X-APPLE-STRUCTURED-LOCATION;VALUE=URI;X-ADDRESS=Jack Baskin Auditorium 191 Baskin Cir Santa Cruz CA 95064;X-APPLE-RADIUS=500;X-TITLE=191 Baskin Cir:geo:-122.0623528,37.0001832
END:VEVENT
END:VCALENDAR