BEGIN:VCALENDAR
VERSION:2.0
PRODID:-//Events - ECPv6.15.20//NONSGML v1.0//EN
CALSCALE:GREGORIAN
METHOD:PUBLISH
X-WR-CALNAME:Events
X-ORIGINAL-URL:https://events.ucsc.edu
X-WR-CALDESC:Events for Events
REFRESH-INTERVAL;VALUE=DURATION:PT1H
X-Robots-Tag:noindex
X-PUBLISHED-TTL:PT1H
BEGIN:VTIMEZONE
TZID:America/Los_Angeles
BEGIN:DAYLIGHT
TZOFFSETFROM:-0800
TZOFFSETTO:-0700
TZNAME:PDT
DTSTART:20250309T100000
END:DAYLIGHT
BEGIN:STANDARD
TZOFFSETFROM:-0700
TZOFFSETTO:-0800
TZNAME:PST
DTSTART:20251102T090000
END:STANDARD
BEGIN:DAYLIGHT
TZOFFSETFROM:-0800
TZOFFSETTO:-0700
TZNAME:PDT
DTSTART:20260308T100000
END:DAYLIGHT
BEGIN:STANDARD
TZOFFSETFROM:-0700
TZOFFSETTO:-0800
TZNAME:PST
DTSTART:20261101T090000
END:STANDARD
BEGIN:DAYLIGHT
TZOFFSETFROM:-0800
TZOFFSETTO:-0700
TZNAME:PDT
DTSTART:20270314T100000
END:DAYLIGHT
BEGIN:STANDARD
TZOFFSETFROM:-0700
TZOFFSETTO:-0800
TZNAME:PST
DTSTART:20271107T090000
END:STANDARD
END:VTIMEZONE
BEGIN:VEVENT
DTSTART;TZID=America/Los_Angeles:20260413T080000
DTEND;TZID=America/Los_Angeles:20260515T170000
DTSTAMP:20260422T150414
CREATED:20260214T011406Z
LAST-MODIFIED:20260415T142739Z
UID:10009233-1776067200-1778864400@events.ucsc.edu
SUMMARY:2026 Right Livelihood International Conference
DESCRIPTION:The Right Livelihood International Conference is a five-week global conference exploring how education can strengthen democracy\, collective intelligence\, and just futures. Bringing together Right Livelihood Laureates\, students\, faculty\, and community partners across continents\, the conference combines asynchronous learning with participatory dialogue and collaborative action. Rather than advocating specific outcomes\, the conference positions education as a democratic practice and the Right Livelihood College as a steward of dialogue\, student voice\, and long-term institutional learning. \nRegistration is free and open to the public. Sign up to receive conference updates\, session links\, and participation opportunities.
URL:https://events.ucsc.edu/event/2026-right-livelihood-international-conference/
CATEGORIES:Film Screening,Lectures & Presentations,Meetings & Conferences,Ph.D. Presentations,Seminars,Social Gathering,Training,Undergraduate,Workshop
ATTACH;FMTTYPE=image/png:https://events.ucsc.edu/wp-content/uploads/2026/02/World-with-dots.png
LOCATION:
END:VEVENT
BEGIN:VEVENT
DTSTART;TZID=America/Los_Angeles:20260513T103000
DTEND;TZID=America/Los_Angeles:20260513T120000
DTSTAMP:20260422T150414
CREATED:20260421T233043Z
LAST-MODIFIED:20260421T233043Z
UID:10013965-1778668200-1778673600@events.ucsc.edu
SUMMARY:FINS: Fisheries Insights Narratives and Stories seminar series featuring Melissa Mahoney
DESCRIPTION:Please join us for the fourth talk in the FINS: Fisheries Insights Narratives and Stories seminar series featuring Melissa Mahoney. \nMelissa Mahoney brings over two decades of experience at the intersection of sustainable seafood\, fisheries policy\, and marine innovation along the U.S. West Coast. Her career has focused on translating complex fishery science and regulatory frameworks into practical solutions that strengthen fishing businesses and coastal economies. Since August 2022\, Melissa has served as Executive Director of the Monterey Bay Fisheries Trust\, where she leads initiatives to stabilize local fishing operations\, expand community seafood access\, and revitalize Monterey Bay’s working waterfront. Under her leadership\, the organization is deepening its role as a systems-level intermediary supporting fishermen\, local food systems\, and regional economic development. \nFINS: Fisheries Insights Narratives and Stories Seminar Series \nMelissa Mahoney Executive Director Monterey Bay Fisheries Trust \nTitle: The Future of Blue: Co-Creating a Thriving Seafood Economy in Monterey Bay \nWhen: Wednesday\, May 13th from 11am-12pm \nWhere: Ocean Health Building Rm 118\, 115 McAllister Way\, Santa Cruz\, CA 95060 and on Zoom \nAgenda: \n\n10:30 am – 11:00 am – Professional Networking Session (in person only – light snacks and refreshments provided)\n11 am to 12 pm – presentation followed by Q & A\n12 pm – 1pm – catered student lunch with the speaker in OHB courtyard → sign up here\n\nZoom Meeting Registration: https://ucsc.zoom.us/meeting/register/NwH0_qUbSeuIm3A76DY-Dg \n 
URL:https://events.ucsc.edu/event/fins-fisheries-insights-narratives-and-stories-seminar-series-featuring-melissa-mahoney/
LOCATION:Ocean Health Building\, McAllister Way\, Santa Cruz\, CA\, 95064
CATEGORIES:Seminars,Social Gathering
ATTACH;FMTTYPE=image/png:https://events.ucsc.edu/wp-content/uploads/2026/04/FINS-poster-2026.png
GEO:36.9515521;-122.0654586
X-APPLE-STRUCTURED-LOCATION;VALUE=URI;X-ADDRESS=Ocean Health Building McAllister Way Santa Cruz CA 95064;X-APPLE-RADIUS=500;X-TITLE=McAllister Way:geo:-122.0654586,36.9515521
END:VEVENT
BEGIN:VEVENT
DTSTART;TZID=America/Los_Angeles:20260513T110000
DTEND;TZID=America/Los_Angeles:20260513T121500
DTSTAMP:20260422T150414
CREATED:20260330T203158Z
LAST-MODIFIED:20260330T203417Z
UID:10011814-1778670000-1778674500@events.ucsc.edu
SUMMARY:CSE Colloquium - The EU’s Cybersecurity Framework: what it is\, what it means
DESCRIPTION:Presenter: Chris Jay Hoofnagle\, Frederik Zuiderveen Borgesius\, Lothar Determann\, Pieter T.J. Wolters \nAbstract: \nThe European Union has enacted a comprehensive cybersecurity framework (the “Framework”) that imposes far-reaching obligations on developers of standalone software and connected products. This Article describes the European legislative approach before turning to a description of the Framework. Anchored by the Cyber Resilience Act and the Cybersecurity Act\, and reinforced by a constellation of sector-specific measures\, the Framework effectively creates a California-like-products-liability regime for software. It mandates extensive security-by-design obligations\, imposes stringent conformity assessment and incident-reporting duties\, and shifts substantial compliance burdens onto manufacturers\, importers\, and distributors. It even treats emotional wrongs caused by software as injurious. The Framework will take full effect in December 2027\, meaning that companies must integrate its requirements into their current product cycles. \nBio: Chris Hoofnagle is professor of law in residence at the University of California\, Berkeley\, where he teaches tort law and cybersecurity. \nHosted by: Professor Alvaro Cardenas \nLocation: Engineering 2\, Room E2-180 (Refreshments such as fruit\, pastries\, coffee\, and tea will be provided.) \nZoom Option: https://ucsc.zoom.us/j/93445911992?pwd=YkJ2TQtF79h0PcNXbEcpZLbpK0coiY.1&jst=3
URL:https://events.ucsc.edu/event/cse-colloquium-the-eus-cybersecurity-framework-what-it-is-what-it-means/
LOCATION:Engineering 2\, Engineering 2 1156 High Street\, Santa Cruz\, CA\, 95064
CATEGORIES:Lectures & Presentations,Seminars
ATTACH;FMTTYPE=image/png:https://events.ucsc.edu/wp-content/uploads/2026/03/BElogoWHITE.png
GEO:37.0009723;-122.0632371
X-APPLE-STRUCTURED-LOCATION;VALUE=URI;X-ADDRESS=Engineering 2 Engineering 2 1156 High Street Santa Cruz CA 95064;X-APPLE-RADIUS=500;X-TITLE=Engineering 2 1156 High Street:geo:-122.0632371,37.0009723
END:VEVENT
BEGIN:VEVENT
DTSTART;TZID=America/Los_Angeles:20260513T120000
DTEND;TZID=America/Los_Angeles:20260513T133000
DTSTAMP:20260422T150414
CREATED:20260421T181155Z
LAST-MODIFIED:20260421T181155Z
UID:10013950-1778673600-1778679000@events.ucsc.edu
SUMMARY:Ehrlich\, D. (CM) - Designing Open Microscopy Tools for Neuroscience Research
DESCRIPTION:Advances in microscopy have transformed our understanding of biological systems\,\nyet the high cost and limited accessibility of commercial imaging platforms continue to re-\nstrict their use in many research settings. This thesis presents the design and development of\nopen hardware microscopy tools for neuroscience research\, with a focus on integrating user-\ncentered design principles into the instrument development process. Two primary methods\nare introduced: augmenting existing microscopes with new imaging capabilities\, and the cre-\nation of modular microscopes that are designed for continuous\, long-term live-cell imaging.\nBoth platforms are built around open hardware principles\, prioritizing low cost\, modularity\, and\nadaptability to the practical needs of working researchers. Alongside the hardware contribu-\ntions\, this thesis presents user experience research methods for examining how neuroscience\nresearchers interact with novel microscopy technologies\, providing a methodological frame-\nwork for human-centered scientific instrument design. These contributions demonstrate that\npairing hardware development with user-centered design methodologies produces microscopy\ntools that are both technically capable and meaningfully accessible to both laboratories and\nindividuals studying neuroscience\, education\, and other fields. \n  \nEvent Host: Drew Ehrlich\, Ph.D. Candidate\, Computational Media  \nAdvisor: Sri Kurniawan \nZoom: https://ucsc.zoom.us/j/2491739056?pwd=UCt3MmZmL1hwdXcvVGNNaGRQM0lDQT09
URL:https://events.ucsc.edu/event/ehrlich-d-cm-designing-open-microscopy-tools-for-neuroscience-research/
CATEGORIES:Ph.D. Presentations
ATTACH;FMTTYPE=image/png:https://events.ucsc.edu/wp-content/uploads/2026/04/ph.d.-presentation-graphic-option-3.png
LOCATION:
END:VEVENT
BEGIN:VEVENT
DTSTART;TZID=America/Los_Angeles:20260513T130000
DTEND;TZID=America/Los_Angeles:20260513T140000
DTSTAMP:20260422T150414
CREATED:20260421T230152Z
LAST-MODIFIED:20260421T230152Z
UID:10013964-1778677200-1778680800@events.ucsc.edu
SUMMARY:Thriving in Transition: A Mental Fitness Toolkit for What's Next
DESCRIPTION:Life After Graduation Series \nHosted by UC Davis\, open to recent alumni and rising seniors of all UC campuses. \nThe Cal Aggie Alumni Association is kicking off its Life After Graduation Series with an engaging virtual session\, “Thriving in Transition\,” on Wednesday\, May 13 at 1 p.m. (Pacific Time). \nThe transition from college to post-graduate life can bring both opportunity and uncertainty. Without the structure of academic life\, many graduates face new pressures related to job searching\, career decisions\, and navigating change. \nThis session introduces the concept of mental fitness – the capacity to respond to challenges with clarity\, resilience\, and intention. Through practical\, accessible techniques\, participants will learn how to manage stress\, regulate emotions\, and strengthen focus during this period of transition. Attendees will leave with tools they can apply immediately to support their wellbeing and sustain momentum as they move into their next chapter. \nLearning Objectives \n\nDefine mental fitness and its role in personal and professional success\nRecognize common stressors and emotional patterns during post-graduate transitions\nPractice techniques to manage stress and increase emotional regulation\nStrengthen focus\, motivation\, and adaptability during periods of uncertainty\nDevelop habits that support long-term resilience and wellbeing\n\nLEARN MORE & REGISTER
URL:https://events.ucsc.edu/event/thriving-in-transition-a-mental-fitness-toolkit-for-whats-next/
CATEGORIES:Lectures & Presentations
ATTACH;FMTTYPE=image/png:https://events.ucsc.edu/wp-content/uploads/2026/04/LAGS-2026_Thriving-in-Transition.png
END:VEVENT
BEGIN:VEVENT
DTSTART;TZID=America/Los_Angeles:20260513T150000
DTEND;TZID=America/Los_Angeles:20260513T173000
DTSTAMP:20260422T150414
CREATED:20260403T214816Z
LAST-MODIFIED:20260403T224420Z
UID:10012042-1778684400-1778693400@events.ucsc.edu
SUMMARY:Building Belonging Program Student Showcase 2026
DESCRIPTION:Join us for the Institute for Social Transformation’s annual student showcase\, celebrating the incredible work of our Building Belonging Fellows! This special event highlights the achievements of undergraduate research fellows. Each student will give a 2-minute lightning talk about a research project they worked on with a Social Sciences faculty mentor. \nThe event will be held in person on Wednesday\, May 13\, 2026\, from 3:00–5:00 p.m. in the Seymour Center La Feliz Room\, followed by an outdoor reception with light refreshments on the Oceanview Terrace from 5:00–5:30 p.m. \nAll are welcome—students\, faculty\, staff\, family\, and friends—we look forward to celebrating together! \nRSVP HERE \nSponsored by:\nThe Institute for Social Transformation and the Division of Social Sciences \nFor questions\, you can reach us at transform@ucsc.edu
URL:https://events.ucsc.edu/event/building-belonging-program-student-showcase-2026/
LOCATION:Seymour Marine Discovery Center\, 100 McAllister Way\, Santa Cruz\, CA\, 95060
CATEGORIES:Lectures & Presentations
ATTACH;FMTTYPE=image/jpeg:https://events.ucsc.edu/wp-content/uploads/2026/04/54554568243_9d2f7ebc47_c.jpg
GEO:36.9495746;-122.0645023
X-APPLE-STRUCTURED-LOCATION;VALUE=URI;X-ADDRESS=Seymour Marine Discovery Center 100 McAllister Way Santa Cruz CA 95060;X-APPLE-RADIUS=500;X-TITLE=100 McAllister Way:geo:-122.0645023,36.9495746
END:VEVENT
BEGIN:VEVENT
DTSTART;TZID=America/Los_Angeles:20260513T180000
DTEND;TZID=America/Los_Angeles:20260513T190000
DTSTAMP:20260422T150414
CREATED:20260331T173056Z
LAST-MODIFIED:20260331T173056Z
UID:10011820-1778695200-1778698800@events.ucsc.edu
SUMMARY:Chat with the Chair: Conversations on AI
DESCRIPTION:Curious about the newest developments in artificial intelligence?\nJoin us for Chat with the AI Chair\, a monthly drop-in conversation designed for professionals who want to stay ahead of emerging AI trends. \nEvent details\nPraveen Krishna\, chair of the Artificial Intelligence Application Development certificate program\, will lead the informal discussion about what this technology means for developers\, professionals\, and organizations adopting AI tools. \nFormat: Online discussion + open Q&A\nWhen: Every 2nd Wednesday of the month\nWho should attend: Developers\, technologists\, product managers\, and professionals exploring AI tools and automation \nThis is a casual\, interactive session—bring your questions\, share your experience\, and hear directly from an AI educator working at the forefront of applied AI training. You’ll get an insider’s look at the technologies shaping the next generation of AI—and what you need to know to stay ahead. \nRegister \nCLAIM YOUR SEAT.
URL:https://events.ucsc.edu/event/chat-with-the-chair-conversations-on-ai/
LOCATION:Silicon Valley Campus\, 3175 Bowers Avenue\, Santa Clara\, CA\, 95054\, United States
CATEGORIES:Lectures & Presentations,Meetings & Conferences,Training
ATTACH;FMTTYPE=image/jpeg:https://events.ucsc.edu/wp-content/uploads/2026/02/AI-whats-new-LI-copy.jpg
GEO:37.3796975;-121.9765484
X-APPLE-STRUCTURED-LOCATION;VALUE=URI;X-ADDRESS=Silicon Valley Campus 3175 Bowers Avenue Santa Clara CA 95054 United States;X-APPLE-RADIUS=500;X-TITLE=3175 Bowers Avenue:geo:-121.9765484,37.3796975
END:VEVENT
BEGIN:VEVENT
DTSTART;TZID=America/Los_Angeles:20260513T180000
DTEND;TZID=America/Los_Angeles:20260513T190000
DTSTAMP:20260422T150414
CREATED:20260414T001901Z
LAST-MODIFIED:20260414T001901Z
UID:10012116-1778695200-1778698800@events.ucsc.edu
SUMMARY:What is Mythos? Conversations on AI
DESCRIPTION:What do we know about Mythos?\nAnthropic’s Claude Mythos\, a next-generation\, general-purpose AI model with 10 trillion parameters\, is the most powerful AI developed to date. It is highly capable of advanced reasoning\, coding\, and autonomously identifying and exploiting complex software vulnerabilities\, creating significant cybersecurity risks. \nJoin us for Chat with Praveen Krishna\, chair of our AI program\, a monthly drop-in conversation about the latest developments in artificial intelligence and what this technology means for developers\, professionals\, and organizations adopting AI tools. \nWhat you need to know to stay ahead\nThis is a casual\, interactive session. Bring your questions\, share your experience\, and hear directly from an AI educator working at the forefront of applied AI training. You’ll get an insider’s look at the technologies shaping the next generation of AI. \nEvent details\n\nSpeaker: Praveen Krishna\, AI chair\, UCSC Silicon Valley Extension\nFormat: Online discussion + open Q&A about the latest news in AI\nWhen: 2nd Wednesday of the month\nWho should attend: Developers\, technologists\, product managers\, and professionals exploring AI tools and automation\n\nClaim your seat today.\nShare your perspective. Plan your learning.\nVisit our Artificial Intelligence program page to learn more about our AI offerings.
URL:https://events.ucsc.edu/event/what-is-mythos-conversations-on-ai/
LOCATION:Silicon Valley Campus\, 3175 Bowers Avenue\, Santa Clara\, CA\, 95054\, United States
CATEGORIES:Lectures & Presentations,Meetings & Conferences,Training
ATTACH;FMTTYPE=image/avif:https://events.ucsc.edu/wp-content/uploads/2026/02/ai-whats-new-li-copy.avif
GEO:37.3796975;-121.9765484
X-APPLE-STRUCTURED-LOCATION;VALUE=URI;X-ADDRESS=Silicon Valley Campus 3175 Bowers Avenue Santa Clara CA 95054 United States;X-APPLE-RADIUS=500;X-TITLE=3175 Bowers Avenue:geo:-121.9765484,37.3796975
END:VEVENT
END:VCALENDAR