BEGIN:VCALENDAR
VERSION:2.0
PRODID:-//Events - ECPv6.15.20//NONSGML v1.0//EN
CALSCALE:GREGORIAN
METHOD:PUBLISH
X-ORIGINAL-URL:https://events.ucsc.edu
X-WR-CALDESC:Events for Events
REFRESH-INTERVAL;VALUE=DURATION:PT1H
X-Robots-Tag:noindex
X-PUBLISHED-TTL:PT1H
BEGIN:VTIMEZONE
TZID:America/Los_Angeles
BEGIN:DAYLIGHT
TZOFFSETFROM:-0800
TZOFFSETTO:-0700
TZNAME:PDT
DTSTART:20250309T100000
END:DAYLIGHT
BEGIN:STANDARD
TZOFFSETFROM:-0700
TZOFFSETTO:-0800
TZNAME:PST
DTSTART:20251102T090000
END:STANDARD
BEGIN:DAYLIGHT
TZOFFSETFROM:-0800
TZOFFSETTO:-0700
TZNAME:PDT
DTSTART:20260308T100000
END:DAYLIGHT
BEGIN:STANDARD
TZOFFSETFROM:-0700
TZOFFSETTO:-0800
TZNAME:PST
DTSTART:20261101T090000
END:STANDARD
BEGIN:DAYLIGHT
TZOFFSETFROM:-0800
TZOFFSETTO:-0700
TZNAME:PDT
DTSTART:20270314T100000
END:DAYLIGHT
BEGIN:STANDARD
TZOFFSETFROM:-0700
TZOFFSETTO:-0800
TZNAME:PST
DTSTART:20271107T090000
END:STANDARD
END:VTIMEZONE
BEGIN:VEVENT
DTSTART;TZID=America/Los_Angeles:20260413T080000
DTEND;TZID=America/Los_Angeles:20260515T170000
DTSTAMP:20260422T105038
CREATED:20260214T011406Z
LAST-MODIFIED:20260415T142739Z
UID:10009233-1776067200-1778864400@events.ucsc.edu
SUMMARY:2026 Right Livelihood International Conference
DESCRIPTION:The Right Livelihood International Conference is a five-week global conference exploring how education can strengthen democracy\, collective intelligence\, and just futures. Bringing together Right Livelihood Laureates\, students\, faculty\, and community partners across continents\, the conference combines asynchronous learning with participatory dialogue and collaborative action. Rather than advocating specific outcomes\, the conference positions education as a democratic practice and the Right Livelihood College as a steward of dialogue\, student voice\, and long-term institutional learning. \nRegistration is free and open to the public. Sign up to receive conference updates\, session links\, and participation opportunities.
URL:https://events.ucsc.edu/event/2026-right-livelihood-international-conference/
LOCATION:
CATEGORIES:Film Screening,Lectures & Presentations,Meetings & Conferences,Ph.D. Presentations,Seminars,Social Gathering,Training,Undergraduate,Workshop
ATTACH;FMTTYPE=image/png:https://events.ucsc.edu/wp-content/uploads/2026/02/World-with-dots.png
END:VEVENT
BEGIN:VEVENT
DTSTART;TZID=America/Los_Angeles:20260515T080000
DTEND;TZID=America/Los_Angeles:20260515T180000
DTSTAMP:20260422T105038
CREATED:20260415T174635Z
LAST-MODIFIED:20260415T174635Z
UID:10012132-1778832000-1778868000@events.ucsc.edu
SUMMARY:Flow and Friction: Media Practices Across Global Asias
DESCRIPTION:Though flow and friction have their enmeshed problematic of combined colonial and imperial mechanisms\, we also believe that they can be useful concepts to think through the transnational and deimperial techniques that Global Asias can offer. Global Asias offer an expansive model to consider the imaginary or symbolic Asia as a series of diasporic interpolations constituted by Asian\, non-Asian\, and indigenous peoples and cultures. It demonstrates that worlds are not singular\, much like media and its practices\, and are contingent upon the labor and bodies that engage and disengage with them. It is also the subject of concern for our research cluster and symposium.\nWe are thrilled to have Professor Lisa Nakamura join our symposium as the keynote speaker. She is the Gwendolyn Calvert Baker Collegiate Professor in the Department of American Cultures at the University of Michigan\, Ann Arbor\, and her seminal work Digitizing Race: Visual Cultures of the Internet received the Asian American Studies Association award in Cultural Studies in 2010. Her extensive research and publications on the intersections of digital media theory\, Asian American studies\, and race and gender demonstrates that media is both racial(ized) and racist.\n—\nADMISSION\n– FREE and open to Arts Division Staff & Faculty\, Arts Division Students\, and their Invited Guests\n—\nPARKING\n– Closest lots to the event are Lots 107\, 108\, 109 and 110. All lots require an A permit which can be purchased via UCSC TAPS.\n– ParkMobile can be found at Lot 107 and 109\n– Additional parking can be found in Lot 111 or Lot 111B or East Remote Lot 104.\n– Visitors with DMV placards or plates may park for free in DMV spaces\, Medical spaces\, or ParkMobile spaces without additional payment\, or in timed zones for longer than the posted time.\n– More information provided by UCSC Transportation & Parking Services (TAPS)\n—\nThis program is open to all UC Santa Cruz affiliates consistent with state and federal law. \n 
URL:https://events.ucsc.edu/event/flow-and-friction-media-practices-across-global-asias/
LOCATION:Cowell Conference Room\, 257 Cowell-Stevenson Road\, Santa Cruz\, CA\, 95064
CATEGORIES:Lectures & Presentations
ATTACH;FMTTYPE=image/jpeg:https://events.ucsc.edu/wp-content/uploads/2026/04/flowandfriction-e1776275153643.jpg
GEO:36.9980038;-122.0545594
X-APPLE-STRUCTURED-LOCATION;VALUE=URI;X-ADDRESS=Cowell Conference Room 257 Cowell-Stevenson Road Santa Cruz CA 95064;X-APPLE-RADIUS=500;X-TITLE=257 Cowell-Stevenson Road:geo:-122.0545594,36.9980038
END:VEVENT
BEGIN:VEVENT
DTSTART;TZID=America/Los_Angeles:20260515T130000
DTEND;TZID=America/Los_Angeles:20260515T160000
DTSTAMP:20260422T105038
CREATED:20260402T204708Z
LAST-MODIFIED:20260402T204708Z
UID:10011844-1778850000-1778860800@events.ucsc.edu
SUMMARY:UCSC Graduate Research Symposium
DESCRIPTION:Friday\, May 15\, 1:00-4:00 PM (PDT) \nMcHenry Library | Information Commons South on the Main Floor \nWe are delighted to invite you to the 22nd Annual Graduate Research Symposium!\nThis event celebrates and highlights the work of UCSC graduate students in all academic divisions. Any enrolled graduate student is welcome to present either a poster\, talk\, or mixed media presentation. The event is free and open to the public. Please see the Graduate Division website for more information. \n 
URL:https://events.ucsc.edu/event/ucsc-graduate-research-symposium/
LOCATION:McHenry Library\, 1156 High St\, Santa Cruz\, CA\, 95064
CATEGORIES:Exhibits,Lectures & Presentations,Seminars
ATTACH;FMTTYPE=image/png:https://events.ucsc.edu/wp-content/uploads/2026/03/Reserach-Symposium-Logo.png
GEO:36.9834948;-122.0564004
X-APPLE-STRUCTURED-LOCATION;VALUE=URI;X-ADDRESS=McHenry Library 1156 High St Santa Cruz CA 95064;X-APPLE-RADIUS=500;X-TITLE=1156 High St:geo:-122.0564004,36.9834948
END:VEVENT
BEGIN:VEVENT
DTSTART;TZID=America/Los_Angeles:20260515T130000
DTEND;TZID=America/Los_Angeles:20260515T160000
DTSTAMP:20260422T105038
CREATED:20260402T204722Z
LAST-MODIFIED:20260402T204722Z
UID:10011827-1778850000-1778860800@events.ucsc.edu
SUMMARY:2026 Graduate Research Symposium
DESCRIPTION:UCSC 22nd Annual Graduate Research Symposium\nFriday\, May 15\, 1:00-4:00 PM (PDT) \nMcHenry Library | Information Commons South on the Main Floor \nThis event celebrates and highlights the work of UCSC graduate students in all academic divisions. Any enrolled graduate student is welcome to present either a poster\, talk\, or mixed media presentation. The event is free and open to the public.
URL:https://events.ucsc.edu/event/2026-graduate-research-symposium/
LOCATION:McHenry Library\, 1156 High St\, Santa Cruz\, CA\, 95064
CATEGORIES:Lectures & Presentations,Meetings & Conferences
ATTACH;FMTTYPE=image/png:https://events.ucsc.edu/wp-content/uploads/2026/03/Reserach-Symposium-Logo.png
GEO:36.9834948;-122.0564004
X-APPLE-STRUCTURED-LOCATION;VALUE=URI;X-ADDRESS=McHenry Library 1156 High St Santa Cruz CA 95064;X-APPLE-RADIUS=500;X-TITLE=1156 High St:geo:-122.0564004,36.9834948
END:VEVENT
END:VCALENDAR