BEGIN:VCALENDAR
VERSION:2.0
PRODID:-//Events - ECPv6.15.20//NONSGML v1.0//EN
CALSCALE:GREGORIAN
METHOD:PUBLISH
X-WR-CALNAME:Events
X-ORIGINAL-URL:https://events.ucsc.edu
X-WR-CALDESC:Events for Events
REFRESH-INTERVAL;VALUE=DURATION:PT1H
X-Robots-Tag:noindex
X-PUBLISHED-TTL:PT1H
BEGIN:VTIMEZONE
TZID:America/Los_Angeles
BEGIN:DAYLIGHT
TZOFFSETFROM:-0800
TZOFFSETTO:-0700
TZNAME:PDT
DTSTART:20250309T100000
END:DAYLIGHT
BEGIN:STANDARD
TZOFFSETFROM:-0700
TZOFFSETTO:-0800
TZNAME:PST
DTSTART:20251102T090000
END:STANDARD
BEGIN:DAYLIGHT
TZOFFSETFROM:-0800
TZOFFSETTO:-0700
TZNAME:PDT
DTSTART:20260308T100000
END:DAYLIGHT
BEGIN:STANDARD
TZOFFSETFROM:-0700
TZOFFSETTO:-0800
TZNAME:PST
DTSTART:20261101T090000
END:STANDARD
BEGIN:DAYLIGHT
TZOFFSETFROM:-0800
TZOFFSETTO:-0700
TZNAME:PDT
DTSTART:20270314T100000
END:DAYLIGHT
BEGIN:STANDARD
TZOFFSETFROM:-0700
TZOFFSETTO:-0800
TZNAME:PST
DTSTART:20271107T090000
END:STANDARD
END:VTIMEZONE
BEGIN:VEVENT
DTSTART;TZID=America/Los_Angeles:20260523T140000
DTEND;TZID=America/Los_Angeles:20260523T153000
DTSTAMP:20260422T035052
CREATED:20260413T222441Z
LAST-MODIFIED:20260413T222647Z
UID:10012114-1779544800-1779550200@events.ucsc.edu
SUMMARY:All This Safety is Killing Us w/ Aminah Elster\, Jennifer James\, and Carlos Martinez
DESCRIPTION:Join us for a conversation between Black feminist abolitionist\, advocate\, and researcher Aminah Elster\, Black Feminist scholar Jennifer James\, UCSF\, and public health and medical anthropology reseaarcher Carlos Martinez\, ucsc\,  on the intersection of prison abolition and healthcare. This conversation draws on research from the co-edited volume All This Safety Is Killing Us: Health Justice Beyond Prisons\, Police\, and Borders\, to which Elster and James contributed the chapter “Medical Neglect as Carceral Violence.”
URL:https://events.ucsc.edu/event/all-this-safety-is-killing-us-w-aminah-elster-jennifer-james-and-carlos-martinez/
LOCATION:Institute of the Arts and Sciences\, 100 Panetta Ave\, Santa Cruz\, United States
CATEGORIES:Lectures & Presentations
ATTACH;FMTTYPE=image/webp:https://events.ucsc.edu/wp-content/uploads/2026/04/All-This-Safety-thumb.webp
GEO:36.9557939;-122.0505546
X-APPLE-STRUCTURED-LOCATION;VALUE=URI;X-ADDRESS=Institute of the Arts and Sciences 100 Panetta Ave Santa Cruz United States;X-APPLE-RADIUS=500;X-TITLE=100 Panetta Ave:geo:-122.0505546,36.9557939
END:VEVENT
END:VCALENDAR