BEGIN:VCALENDAR
VERSION:2.0
PRODID:-//Events - ECPv6.15.20//NONSGML v1.0//EN
CALSCALE:GREGORIAN
METHOD:PUBLISH
X-WR-CALNAME:Events
X-ORIGINAL-URL:https://events.ucsc.edu
X-WR-CALDESC:Events for Events
REFRESH-INTERVAL;VALUE=DURATION:PT1H
X-Robots-Tag:noindex
X-PUBLISHED-TTL:PT1H
BEGIN:VTIMEZONE
TZID:America/Los_Angeles
BEGIN:DAYLIGHT
TZOFFSETFROM:-0800
TZOFFSETTO:-0700
TZNAME:PDT
DTSTART:20250309T100000
END:DAYLIGHT
BEGIN:STANDARD
TZOFFSETFROM:-0700
TZOFFSETTO:-0800
TZNAME:PST
DTSTART:20251102T090000
END:STANDARD
BEGIN:DAYLIGHT
TZOFFSETFROM:-0800
TZOFFSETTO:-0700
TZNAME:PDT
DTSTART:20260308T100000
END:DAYLIGHT
BEGIN:STANDARD
TZOFFSETFROM:-0700
TZOFFSETTO:-0800
TZNAME:PST
DTSTART:20261101T090000
END:STANDARD
BEGIN:DAYLIGHT
TZOFFSETFROM:-0800
TZOFFSETTO:-0700
TZNAME:PDT
DTSTART:20270314T100000
END:DAYLIGHT
BEGIN:STANDARD
TZOFFSETFROM:-0700
TZOFFSETTO:-0800
TZNAME:PST
DTSTART:20271107T090000
END:STANDARD
END:VTIMEZONE
BEGIN:VEVENT
DTSTART;TZID=America/Los_Angeles:20260301T000000
DTEND;TZID=America/Los_Angeles:20260331T235959
DTSTAMP:20260421T152832
CREATED:20260223T210337Z
LAST-MODIFIED:20260223T210337Z
UID:10009248-1772323200-1775001599@events.ucsc.edu
SUMMARY:March is Hummingbird Month at the UCSC Arboretum & Botanic Garden
DESCRIPTION:March is Hummingbird Month at the UCSC Arboretum & Botanic Garden \nThis time of year\, the Arboretum hosts both Anna’s and Allen’s hummingbirds\, the two most common species in Northern California. “The density of hummingbirds—the number per area in the Arboretum—is ridiculously high\,” says Bruce Lyon\, Professor Emeriti of Ecology and Evolutionary Biology at UCSC. “You can watch them feeding on ﬂowers\, you can watch their courtship\, you can watch them chasing different species. It’s a great opportunity to see some pretty amazing hummingbird biology.” \nIn celebration of this special time of year\, we invite you to visit the garden as much as possible! We will have presentations\, workshops\, and tours throughout the month. See our webpage for a schedule of activities and more information about hummingbirds and the abundance of plants at the Arboretum that attract them. \nWe will also feature hummingbird merchandise and hummingbird-attracting plants at our gift shop and nursery. Visit Norrie’s Gift & Garden Shop\, Tuesdays thru Sundays from 10 – 4. For more information visit: https://arboretum.ucsc.edu/garden-shop/ \nAll events are free with paid admission: Adults: $10\, Seniors $8 and Youth 4-17 $5. Current UCSC students are free. Rain cancels outdoor activities. \nCurrent Arboretum members are always free and enjoy other great benefits year-round!  Join Today at https://arboretum.ucsc.edu/get-involved/join-us/    \n  \n 
URL:https://events.ucsc.edu/event/march-is-hummingbird-month-at-the-ucsc-arboretum-botanic-garden/
LOCATION:Arboretum\, 122 Arboretum Road\, Santa Cruz\, CA\, 95064
CATEGORIES:Lectures & Presentations
ATTACH;FMTTYPE=image/jpeg:https://events.ucsc.edu/wp-content/uploads/2026/02/Lohman_Kevin_Spotlight-WATERMARK.jpeg
GEO:36.9838652;-122.0609079
X-APPLE-STRUCTURED-LOCATION;VALUE=URI;X-ADDRESS=Arboretum 122 Arboretum Road Santa Cruz CA 95064;X-APPLE-RADIUS=500;X-TITLE=122 Arboretum Road:geo:-122.0609079,36.9838652
END:VEVENT
BEGIN:VEVENT
DTSTART;TZID=America/Los_Angeles:20260330T160000
DTEND;TZID=America/Los_Angeles:20260330T170000
DTSTAMP:20260421T152832
CREATED:20260325T182049Z
LAST-MODIFIED:20260325T182049Z
UID:10011767-1774886400-1774890000@events.ucsc.edu
SUMMARY:AM Seminar:  Flexible Filaments and Swimming Cups: Just Go with the Flow
DESCRIPTION:Presenter: Lisa Fauci\, Professor\, Tulane University \nDescription: The motion of waving or rotating filaments in a fluid environment is a common element in many biological and engineered systems. Examples at the microscale include chains of diatoms moving in the ocean\, flagella of individual cells comprising multicellular colonies\, as well as engineered nanorobots designed to deliver drugs to tumors. In this talk we will present mathematical and computational insights into these flows at the microscale. Our modeling approaches will vary from detailed models that capture flagellar material properties and wave geometry to minimal force-dipole models that represent a flagellum by a single point. We will investigate a few intriguing systems\, including the journey of extremely long insect sperm flagella through tortuous female reproductive tracts\, and the hydrodynamic performance of shape-shifting Choanoeca flexa colonies. \nBio: Lisa Fauci received her PhD from the Courant Institute of Mathematical Sciences at New York University\, and directly after that joined the Department of Mathematics at Tulane University in New Orleans\, Louisiana\, USA. Her research focuses on biological fluid dynamics\, with an emphasis on using modeling and simulation to study the basic biophysics of organismal locomotion and reproductive mechanics. Lisa served as president of the Society for Industrial and Applied Mathematics (SIAM) in 2019-2020. She is a fellow of SIAM\, the American Mathematical Society\, the Association for Women in Mathematics\, and the American Physical Society. In 2023\, she was elected to the US National Academy of Sciences. \nHosted by: Applied Mathematics Department
URL:https://events.ucsc.edu/event/am-seminar-flexible-filaments-and-swimming-cups-just-go-with-the-flow/
CATEGORIES:Lectures & Presentations,Seminars
ATTACH;FMTTYPE=image/png:https://events.ucsc.edu/wp-content/uploads/2026/03/BElogoWHITE.png
END:VEVENT
BEGIN:VEVENT
DTSTART;TZID=America/Los_Angeles:20260331T180000
DTEND;TZID=America/Los_Angeles:20260331T200000
DTSTAMP:20260421T152832
CREATED:20260305T232932Z
LAST-MODIFIED:20260305T232932Z
UID:10009392-1774980000-1774987200@events.ucsc.edu
SUMMARY:A Sacred Witnessing: A Trans Day of Euphoria Event
DESCRIPTION:Join the Cantu Queer Center and the Diversity Center for an intergenerational Trans Day of Visibility gathering rooted in euphoria\, joy\, and sacred witnessing. Trans\, nonbinary\, Two-Spirit\, and gender-expansive people of all ages are invited to share their stories\, create art\, and witness each other’s full humanity in a moment of dangerous hypervisibility and harm to our community. The event will include intergenerational story sharing\, protest sign art\, gentle restorative offerings\, live performance\, tabling with local organizations\, and light refreshments. \nThis event is open to students\, faculty\, staff\, alums\, and the wider Santa Cruz community. \nRSVP in advance. \nYou Belong Here: The programs and services described here are open to all\, consistent with state and federal law\, as well as the University of California’s nondiscrimination policies. Every initiative—whether a student service\, faculty program\, or community event—is designed to be accessible\, inclusive\, and respectful of all identities.  To learn more\, please visit UC Nondiscrimination Statement or Nondiscrimination Policy for UC Publications. 
URL:https://events.ucsc.edu/event/a-sacred-witnessing-a-trans-day-of-euphoria-event/
LOCATION:Diversity Center\, 1117 Soquel Ave\, Santa Cruz\, CA\, 95062\, United States
CATEGORIES:Drop-In Support,Lectures & Presentations,Performances,Social Gathering
ATTACH;FMTTYPE=image/png:https://events.ucsc.edu/wp-content/uploads/2026/03/tdov-2026-1.png
END:VEVENT
BEGIN:VEVENT
DTSTART;TZID=America/Los_Angeles:20260401T103000
DTEND;TZID=America/Los_Angeles:20260401T120000
DTSTAMP:20260421T152832
CREATED:20260320T232457Z
LAST-MODIFIED:20260320T232457Z
UID:10011350-1775039400-1775044800@events.ucsc.edu
SUMMARY:FINS: Fisheries Insights Narratives and Stories seminar series featuring Dr. Randi Solhjell
DESCRIPTION:Please join us for the first talk in the FINS: Fisheries Insights Narratives and Stories seminar series featuring Fulbright Fellow Dr. Randi Solhjell. Her talk\, “Managing a Fishy Business: Norway’s foreign aid and its impact on global fisheries governance” will discuss how Norwegian actors shape global fisheries policy through diplomacy\, regulatory innovation and engagement in international institutions such as the UN FAO. She will also discuss how she studies fisheries from a social/political science lens. \nFINS: Fisheries Insights Narratives and Stories Seminar Series \nDr. Randi Solhjell\, Fulbright fellow\, University of Oslo \nTitle: Managing a Fishy Business: Norway’s foreign aid and its impact on global fisheries governance \nWhen: Wednesday\, April 1st from 11am-12pm  \nWhere: Ocean Health Building Rm 118\, 115 McAllister Way\, Santa Cruz\, CA 95060 and on Zoom \nAgenda: \n\n10:30 am – 11:00 am – Professional Networking Session (in person only – light snacks and refreshments provided)\n11 am to 12 pm – presentation followed by Q & A \n12 pm – 1pm – student lunch with the speaker in OHB courtyard → sign up here\n\nZoom Meeting Registration: https://ucsc.zoom.us/meeting/register/NwH0_qUbSeuIm3A76DY-Dg \nRandi Solhjell is a postdoctoral researcher at the Department of Criminology and Sociology of Law\, Faculty of Law\, The University of Oslo\, and visiting Fulbright scholar at the Science and Justice Research Center\, the University of California\, Santa Cruz. She holds a PhD in Political Science from the London School of Economics. 
URL:https://events.ucsc.edu/event/fins-fisheries-insights-narratives-and-stories-seminar-series-featuring-dr-randi-solhjell/
LOCATION:Ocean Health Building\, McAllister Way\, Santa Cruz\, CA\, 95064
CATEGORIES:Seminars,Social Gathering
ATTACH;FMTTYPE=image/png:https://events.ucsc.edu/wp-content/uploads/2026/03/Dr-Randi-Solhjell-flyer.png
GEO:36.9515521;-122.0654586
X-APPLE-STRUCTURED-LOCATION;VALUE=URI;X-ADDRESS=Ocean Health Building McAllister Way Santa Cruz CA 95064;X-APPLE-RADIUS=500;X-TITLE=McAllister Way:geo:-122.0654586,36.9515521
END:VEVENT
BEGIN:VEVENT
DTSTART;TZID=America/Los_Angeles:20260401T110000
DTEND;TZID=America/Los_Angeles:20260401T121500
DTSTAMP:20260421T152832
CREATED:20260325T164503Z
LAST-MODIFIED:20260330T203519Z
UID:10011765-1775041200-1775045700@events.ucsc.edu
SUMMARY:CSE Colloquium - Messages from across the event horizon:  AI Agentic Design for Computer Architecture (and more generalizable learnings)
DESCRIPTION:Presenter: Christopher Fletcher\, UC Berkeley \nAbstract: \nIt is difficult to escape the hype of agentic coding.  Is the hype real?  Are we still living in ~Summer 2025 — when AI coding would accomplish little more than upset its human supervisor?  Or has a level shift in technology finally arrived? \nIn this talk I will argue the latter.  I will describe a self-imposed experiment to discover modern AI coding tools’ capabilities (starting mid February 2026).  I will try (my best) to communicate my utter and sheer surprise at where the state of the art actually is.  Then I will do a deep dive and try to relay everything I have learned about this new engineering discipline—based on my attempts to push the technology as hard as I can for the past 1.5 months.  I will conclude by pontificating about the future of computer architecture and academic research more generally. \nBio: \nChristopher Fletcher is an Associate Professor of EECS at UC Berkeley. He is a computer architect whose research spans architecture\, security\, and domain-specific acceleration\, especially at their intersections from cryptography and hardware attacks to algorithm-to-hardware co-design. His work has received 31 paper recognitions and several other honors\, including the NSF CAREER Award\, Intel and Google faculty awards\, UIUC research and promotion awards\, election to DARPA ISAT\, and MIT’s George M. Sprowls Award\, with related work also recognized by Scientific American as one of ten “World Changing Ideas.” \nHosted by: Professor Alvaro Cardenas \nLocation: Engineering 2\, Room E2-180 (Refreshments such as fruit\, pastries\, coffee\, and tea will be provided.) \nZoom Option: https://ucsc.zoom.us/j/93445911992?pwd=YkJ2TQtF79h0PcNXbEcpZLbpK0coiY.1&jst=3 \n 
URL:https://events.ucsc.edu/event/cse-colloquium-messages-from-across-the-event-horizon-ai-agentic-design-for-computer-architecture-and-more-generalizable-learnings/
LOCATION:Engineering 2\, Engineering 2 1156 High Street\, Santa Cruz\, CA\, 95064
CATEGORIES:Lectures & Presentations,Seminars
ATTACH;FMTTYPE=image/png:https://events.ucsc.edu/wp-content/uploads/2026/03/BElogoWHITE.png
GEO:37.0009723;-122.0632371
X-APPLE-STRUCTURED-LOCATION;VALUE=URI;X-ADDRESS=Engineering 2 Engineering 2 1156 High Street Santa Cruz CA 95064;X-APPLE-RADIUS=500;X-TITLE=Engineering 2 1156 High Street:geo:-122.0632371,37.0009723
END:VEVENT
BEGIN:VEVENT
DTSTART;TZID=America/Los_Angeles:20260401T160000
DTEND;TZID=America/Los_Angeles:20260401T173000
DTSTAMP:20260421T152832
CREATED:20260309T215653Z
LAST-MODIFIED:20260324T162156Z
UID:10011295-1775059200-1775064600@events.ucsc.edu
SUMMARY:VMCC Talk with Maggie Cao—Sepia: Biotic Media and Ocean Worlds
DESCRIPTION:Sepia is a term used to describe inks of a rich\, brown color\, but few know that this artistic usage is taken from the animal world\, where sepia refers to a genus of cuttlefish—a nod to the long history of extracting melanin fluid from cephalopods for drawing and writing. This talk uses cuttlefish ink as a vehicle for rethinking human-ocean relations in the mid nineteenth century\, tracing flows between Victor Hugo’s maritime drawings made in the Channel Islands to paleontological discoveries and scientific illustrations on nearby coastlines. During the nineteenth century\, the expansion of fisheries and the growth of marine biology fostered public interest in the strangeness of cephalopods\, or “devil fish\,” whose inkiness was associated with artistic creation. Experiments with biotic media\, the talk argues\, were efforts to conceptualize the nonhuman environment of the ocean. \nThis event is presented as part of the Visual & Media Cultures Colloquium (VMCC) Series.\n—\nADMISSION\n– FREE and open to the public\n– Located in Porter College Rm. D245\n—\nPARKING\n– Lot 124 & 125 are the closest parking lots to the event.\n– Parking is by permit or ParkMobile.\n– Refer to TAPS for more parking information.\n—\nThis program is open to all members of the public consistent with state and federal law. \n 
URL:https://events.ucsc.edu/event/vmcc-maggie-cao/
LOCATION:Porter College\, D-Building\, Santa Cruz\, CA\, 95064
CATEGORIES:Lectures & Presentations
ATTACH;FMTTYPE=image/jpeg:https://events.ucsc.edu/wp-content/uploads/2026/03/Sepia-Biotic-Media-and-Ocean-Worlds-e1773436376657.jpg
GEO:36.9923139;-122.0581762
X-APPLE-STRUCTURED-LOCATION;VALUE=URI;X-ADDRESS=Porter College D-Building Santa Cruz CA 95064;X-APPLE-RADIUS=500;X-TITLE=D-Building:geo:-122.0581762,36.9923139
END:VEVENT
BEGIN:VEVENT
DTSTART;TZID=America/Los_Angeles:20260401T180000
DTEND;TZID=America/Los_Angeles:20260401T190000
DTSTAMP:20260421T152832
CREATED:20260311T183820Z
LAST-MODIFIED:20260311T183820Z
UID:10011307-1775066400-1775070000@events.ucsc.edu
SUMMARY:Your AI Advantage: Tools\, Skills\, and Career Paths
DESCRIPTION:Transform your workplace with practical AI skills.\nExplore how to lead with AI—whether you want to build it or apply it. In this information session\, discover two dynamic pathways: AI Business Practices\, for professionals seeking practical AI tools to boost productivity without coding\, and AI Engineer\, for those ready to design and deploy production-ready AI systems. Learn how generative AI\, automation\, and intelligent agents are transforming today’s workplace—and how you can be part of that change. \nSpeaker\nJoin Hien Luu\, Program Chair and Head of Machine Learning Infrastructure at Zoox\, for an inside look at how our courses help you build prompt‑engineering know‑how\, ethical AI awareness\, and productivity‑boosting workflows—so you can lead AI‑driven change in your organization. \nLearn more\nThis spring info session is sponsored by the AI Business Practices and Engineering programs. \n\nClaim your seat today. 
URL:https://events.ucsc.edu/event/your-ai-advantage-tools-skills-and-career-paths/
LOCATION:Silicon Valley Campus\, 3175 Bowers Avenue\, Santa Clara\, CA\, 95054\, United States
CATEGORIES:Lectures & Presentations,Meetings & Conferences,Training
ATTACH;FMTTYPE=image/png:https://events.ucsc.edu/wp-content/uploads/2025/12/SM-Cal-48.png
GEO:37.3796975;-121.9765484
X-APPLE-STRUCTURED-LOCATION;VALUE=URI;X-ADDRESS=Silicon Valley Campus 3175 Bowers Avenue Santa Clara CA 95054 United States;X-APPLE-RADIUS=500;X-TITLE=3175 Bowers Avenue:geo:-121.9765484,37.3796975
END:VEVENT
BEGIN:VEVENT
DTSTART;TZID=America/Los_Angeles:20260402T114000
DTEND;TZID=America/Los_Angeles:20260402T131500
DTSTAMP:20260421T152832
CREATED:20260401T004313Z
LAST-MODIFIED:20260401T004313Z
UID:10011828-1775130000-1775135700@events.ucsc.edu
SUMMARY:BME 280B Seminar: Small changes\, Big consequences: Modulators of Alphavirus Assembly
DESCRIPTION:Presenter: Dr. Suchetana (Tuli) Mukhopadhyay\, Professor\, Indiana University \nDescription: N/A \nBio: Suchetana “Tuli” Mukhopadhyay\, Ph.D.\, is a professor in the Department of Biology at Indiana University\, Bloomington. She received her B.A. in chemistry from DePauw University and her Ph.D. in chemistry from the University of Illinois at Chicago. Following her doctoral studies\, Mukhopadhyay conducted postdoctoral research at the University of Texas Southwestern Medical Center\, focusing on G-protein mediated signaling. She continued her postdoctoral work at Purdue University in structural virology\, where she developed a strong interest in arboviruses. Mukhopadhyay joined Indiana University in 2005\, where she established her research program on the assembly and spread of alphaviruses. \nHosted by: Professor Rebecca Dubois\, BME Department
URL:https://events.ucsc.edu/event/bme-280b-seminar-small-changes-big-consequences-modulators-of-alphavirus-assembly/
LOCATION:Biomedical Sciences Building\, 575 McLaughlin Drive
CATEGORIES:Lectures & Presentations,Seminars
ATTACH;FMTTYPE=image/jpeg:https://events.ucsc.edu/wp-content/uploads/2026/03/mukhopadhyay-tuli-mar28-2017.jpg
GEO:46.1226939;-64.7891251
X-APPLE-STRUCTURED-LOCATION;VALUE=URI;X-ADDRESS=Biomedical Sciences Building 575 McLaughlin Drive;X-APPLE-RADIUS=500;X-TITLE=575 McLaughlin Drive:geo:-64.7891251,46.1226939
END:VEVENT
BEGIN:VEVENT
DTSTART;TZID=America/Los_Angeles:20260402T170000
DTEND;TZID=America/Los_Angeles:20260402T190000
DTSTAMP:20260421T152832
CREATED:20260324T154646Z
LAST-MODIFIED:20260324T192111Z
UID:10011365-1775149200-1775156400@events.ucsc.edu
SUMMARY:Opening Celebration for EASP M.F.A. Exhibition—"Picking up Shells Amid a Tsunami"
DESCRIPTION:The culminating exhibition of the Environmental Art and Social Practice (EASP) M.F.A. program at UC Santa Cruz presents new projects—Picking up Shells Amid a Tsunami 쓰나미가 밀려오는데\, 조개나 줍고 있네—developed through concentrated inquiry over a two-year period and offers a window into the artists’ unique long-term research projects that expand beyond the gallery space.\n—\nFULL SCHEDULE OF EVENTS\n– Ongoing Exhibition: Thurs..\, April 2–Sat.\, May 2\, 2026\n– Opening Celebration: Thurs.\, April 2\, 5:00–7:00 p.m.\n– Artist Roundtable: Thurs.\, April 23\, 5:00–6:00 p.m.\n—\nADMISSION\n– FREE and open to the public\n– Gallery hours are Tues.–Sun.noon–5:00 p.m (closed Mondays)\n—\nPARKING\n– Lot 124 & 125 are the closest parking lots to the event.\n– Parking is by permit or ParkMobile.\n– Refer to TAPS for more parking information.\n—\nABOUT THE EXHIBITION\n– More exhibition information here.\n—\nThis program is open to all members of the public consistent with state and federal law.
URL:https://events.ucsc.edu/event/opening-easp-mfa-2026/
LOCATION:Mary Porter Sesnon Art Gallery\, Baskin Service Road\, Santa Cruz\, CA\, 95064
CATEGORIES:Exhibits,Lectures & Presentations,Social Gathering
ATTACH;FMTTYPE=image/jpeg:https://events.ucsc.edu/wp-content/uploads/2026/03/MFA-exhbition-webpage-placeholder.jpg
GEO:36.9946557;-122.0606254
X-APPLE-STRUCTURED-LOCATION;VALUE=URI;X-ADDRESS=Mary Porter Sesnon Art Gallery Baskin Service Road Santa Cruz CA 95064;X-APPLE-RADIUS=500;X-TITLE=Baskin Service Road:geo:-122.0606254,36.9946557
END:VEVENT
BEGIN:VEVENT
DTSTART;TZID=America/Los_Angeles:20260402T180000
DTEND;TZID=America/Los_Angeles:20260402T190000
DTSTAMP:20260421T152832
CREATED:20260310T222718Z
LAST-MODIFIED:20260310T222718Z
UID:10011303-1775152800-1775156400@events.ucsc.edu
SUMMARY:The toughest challenges in advanced IC development
DESCRIPTION:Explore the expanding career opportunities in semiconductors\nThe modern economy is powered by silicon and the demand for skilled professionals in semiconductor design and engineering continues to grow. \nIn this live-online discussion with Jignesh Shah\, principal STA & CAD engineer and UCSC Extension instructor\, we’ll explore how Timing Closure in Silicon IC Design prepares engineers to meet one of the toughest challenges in advanced IC development. \nOur expert instructors and carefully designed courses are here to help you achieve your career goals. Bring your questions about how AI is transforming the industry and gain insights into the essential skills needed to build a standout resume. \nThis info session is sponsored by the Silicon Chip Design & Semiconductor Engineering Certificate program at UCSC Silicon Valley Extension. \nClaim your seat!
URL:https://events.ucsc.edu/event/the-toughest-challenges-in-advanced-ic-development/
LOCATION:Silicon Valley Campus\, 3175 Bowers Avenue\, Santa Clara\, CA\, 95054\, United States
CATEGORIES:Lectures & Presentations,Meetings & Conferences,Training
ATTACH;FMTTYPE=image/png:https://events.ucsc.edu/wp-content/uploads/2026/03/SM-Cal-19.png
GEO:37.3796975;-121.9765484
X-APPLE-STRUCTURED-LOCATION;VALUE=URI;X-ADDRESS=Silicon Valley Campus 3175 Bowers Avenue Santa Clara CA 95054 United States;X-APPLE-RADIUS=500;X-TITLE=3175 Bowers Avenue:geo:-121.9765484,37.3796975
END:VEVENT
BEGIN:VEVENT
DTSTART;TZID=America/Los_Angeles:20260403T132000
DTEND;TZID=America/Los_Angeles:20260403T142500
DTSTAMP:20260421T152832
CREATED:20260401T005024Z
LAST-MODIFIED:20260401T005118Z
UID:10011829-1775222400-1775226300@events.ucsc.edu
SUMMARY:BME 80G Seminar: To Infinity and Beyond? Ethical\, legal\, and social issues of human research in space”
DESCRIPTION:Presenter: Vaso Rahimzadeh\, Assistant Professor\, Baylor College of Medicine \nDescription: As humans venture farther into outer space\, new scientific discovery awaits including in genomics; but so do new ethical dilemmas.  Who bears the risks (and rewards) of space exploration and how should humanity ethically expand beyond our planet? This session will have students think critically about the ethical\, legal\, and social issues of human genomic research in space and offer frameworks for analyzing them. Students will learn about the contemporary challenges and opportunities of genomic research for the upcoming lunar missions\, and in anticipation of future Mars exploration. \nBio: I am Assistant Professor at the Center for Medical Ethics and Health Policy at Baylor College of Medicine. In my National Institutes of Health-funded research\, I investigate the ethical\, legal\, and social issues of health data sharing on earth and in space. I aim to inform policy and practice in ways that maximize the scientific value of data while respecting the rights and interests of individuals and communities. I director the METEORS program (Mission to Enhance eThics Education\, Outreach\, and Research in Space) and serve on the Bioethics Advisory Panel for the National Aeronautics and Space Administration (NASA). I am a proud UC alum\, earning my BS in Microbial Biology from UC Berkeley in 2012\, and hold a PhD from McGill University with a specialization in biomedical ethics. You can read more about my background and read my work here. \nHosted by: Professor Karen Miga\, BME Department
URL:https://events.ucsc.edu/event/bme-80g-seminar-to-infinity-and-beyond-ethical-legal-and-social-issues-of-human-research-in-space/
LOCATION:Jack Baskin Auditorium\, 191 Baskin Cir\, Santa Cruz\, CA\, 95064
CATEGORIES:Lectures & Presentations,Seminars
ATTACH;FMTTYPE=image/jpeg:https://events.ucsc.edu/wp-content/uploads/2026/03/vasiliki-rahimzadeh_profilephoto.jpg
GEO:37.0001832;-122.0623528
X-APPLE-STRUCTURED-LOCATION;VALUE=URI;X-ADDRESS=Jack Baskin Auditorium 191 Baskin Cir Santa Cruz CA 95064;X-APPLE-RADIUS=500;X-TITLE=191 Baskin Cir:geo:-122.0623528,37.0001832
END:VEVENT
BEGIN:VEVENT
DTSTART;TZID=America/Los_Angeles:20260404T110000
DTEND;TZID=America/Los_Angeles:20260404T120000
DTSTAMP:20260421T152832
CREATED:20251211T171734Z
LAST-MODIFIED:20251211T171734Z
UID:10005657-1775300400-1775304000@events.ucsc.edu
SUMMARY:First Saturday Tour at the Arboretum
DESCRIPTION:First Saturday Tours are a wonderful way to introduce yourself to the Arboretum or to deepen your knowledge of the Arboretum’s plant collections. Each tour is a little different depending on the time of year\, the interests of the tour guide\, and the people who join in. For example\, you might learn about the birds and mammals that make this land their home or about the amazing physical adaptations that plants have evolved to better deal with our extreme weather and climate conditions. Tours are free with paid admission.
URL:https://events.ucsc.edu/event/first-saturday-tour-at-the-arboretum/2026-04-04/
LOCATION:Arboretum\, 122 Arboretum Road\, Santa Cruz\, CA\, 95064
CATEGORIES:Lectures & Presentations
GEO:36.9838652;-122.0609079
X-APPLE-STRUCTURED-LOCATION;VALUE=URI;X-ADDRESS=Arboretum 122 Arboretum Road Santa Cruz CA 95064;X-APPLE-RADIUS=500;X-TITLE=122 Arboretum Road:geo:-122.0609079,36.9838652
END:VEVENT
END:VCALENDAR