BEGIN:VCALENDAR
VERSION:2.0
PRODID:-//Events - ECPv6.15.20//NONSGML v1.0//EN
CALSCALE:GREGORIAN
METHOD:PUBLISH
X-ORIGINAL-URL:https://events.ucsc.edu
X-WR-CALDESC:Events for Events
REFRESH-INTERVAL;VALUE=DURATION:PT1H
X-Robots-Tag:noindex
X-PUBLISHED-TTL:PT1H
BEGIN:VTIMEZONE
TZID:America/Los_Angeles
BEGIN:DAYLIGHT
TZOFFSETFROM:-0800
TZOFFSETTO:-0700
TZNAME:PDT
DTSTART:20240310T100000
END:DAYLIGHT
BEGIN:STANDARD
TZOFFSETFROM:-0700
TZOFFSETTO:-0800
TZNAME:PST
DTSTART:20241103T090000
END:STANDARD
BEGIN:DAYLIGHT
TZOFFSETFROM:-0800
TZOFFSETTO:-0700
TZNAME:PDT
DTSTART:20250309T100000
END:DAYLIGHT
BEGIN:STANDARD
TZOFFSETFROM:-0700
TZOFFSETTO:-0800
TZNAME:PST
DTSTART:20251102T090000
END:STANDARD
BEGIN:DAYLIGHT
TZOFFSETFROM:-0800
TZOFFSETTO:-0700
TZNAME:PDT
DTSTART:20260308T100000
END:DAYLIGHT
BEGIN:STANDARD
TZOFFSETFROM:-0700
TZOFFSETTO:-0800
TZNAME:PST
DTSTART:20261101T090000
END:STANDARD
END:VTIMEZONE
BEGIN:VEVENT
DTSTART;TZID=America/Los_Angeles:20250820T180000
DTEND;TZID=America/Los_Angeles:20250820T180000
DTSTAMP:20260422T054206
CREATED:20250717T070000Z
LAST-MODIFIED:20250925T231623Z
UID:10000073-1755712800-1755712800@events.ucsc.edu
SUMMARY:Project and Program Management Info Session
DESCRIPTION:Project Leadership with Tim Bombosch\nJoin Program Chair Tim Bombosch for UCSC Silicon Valley’s Project and Program Management certificate\, where you'll learn from PMI®-certified experts leading teams across top Silicon Valley companies. Gain the tools and strategies to define goals\, estimate costs\, manage risk\, and deliver successful outcomes \n.\nMaster Real-World Management Skills\nBuild expertise in both traditional and agile methods—Scrum\, Kanban\, SAFe\, and more. This program satisfies PMI® training requirements and prepares you for the PMP® and CAPM® exams while equipping you to lead teams and drive results in today’s fast-paced business environment. \n\nThis fall info session is sponsored by the Project and Program Management Certificate program.
URL:https://events.ucsc.edu/event/project-and-program-management-info-session-4291/
CATEGORIES:Lectures & Presentations,Meetings & Conferences,Training
END:VEVENT
END:VCALENDAR