BEGIN:VCALENDAR
VERSION:2.0
PRODID:-//Events - ECPv6.15.20//NONSGML v1.0//EN
CALSCALE:GREGORIAN
METHOD:PUBLISH
X-ORIGINAL-URL:https://events.ucsc.edu
X-WR-CALDESC:Events for Events
REFRESH-INTERVAL;VALUE=DURATION:PT1H
X-Robots-Tag:noindex
X-PUBLISHED-TTL:PT1H
BEGIN:VTIMEZONE
TZID:America/Los_Angeles
BEGIN:DAYLIGHT
TZOFFSETFROM:-0800
TZOFFSETTO:-0700
TZNAME:PDT
DTSTART:20250309T100000
END:DAYLIGHT
BEGIN:STANDARD
TZOFFSETFROM:-0700
TZOFFSETTO:-0800
TZNAME:PST
DTSTART:20251102T090000
END:STANDARD
BEGIN:DAYLIGHT
TZOFFSETFROM:-0800
TZOFFSETTO:-0700
TZNAME:PDT
DTSTART:20260308T100000
END:DAYLIGHT
BEGIN:STANDARD
TZOFFSETFROM:-0700
TZOFFSETTO:-0800
TZNAME:PST
DTSTART:20261101T090000
END:STANDARD
BEGIN:DAYLIGHT
TZOFFSETFROM:-0800
TZOFFSETTO:-0700
TZNAME:PDT
DTSTART:20270314T100000
END:DAYLIGHT
BEGIN:STANDARD
TZOFFSETFROM:-0700
TZOFFSETTO:-0800
TZNAME:PST
DTSTART:20271107T090000
END:STANDARD
END:VTIMEZONE
BEGIN:VEVENT
DTSTART;TZID=America/Los_Angeles:20260415T180000
DTEND;TZID=America/Los_Angeles:20260415T210000
DTSTAMP:20260421T175723
CREATED:20260401T185239Z
LAST-MODIFIED:20260407T210906Z
UID:10011836-1776276000-1776286800@events.ucsc.edu
SUMMARY:NOIZ—April in Santa Cruz festival opening
DESCRIPTION:NOIZ: An Evening of Words\, Sounds + Ideas is a live gathering at the intersection of Hip Hop\, activism\, and the spoken word—a space where music meets testimony. Hosted by assistant professor and hip hop artist akua naru\, the evening features live student performances\, a DJ set\, and an intimate conversation with guest artist/performer Edd Wheeler: pioneering Brazilian rapper\, founding member of As Damas do Rap\, the first female Hip Hop group in Rio de Janeiro\, and practicing lawyer and organizer whose life and work embody the transformative power of the emcee as witness\, visionary\, and change agent. Wheeler is joined with collaborators akua naru\, spoken-word poet and musician Azmera Hammouri-Davis\, and a student ensemble led by Ananya Balagere and Romare Uyeda-Hale. Download and share the event flyer here. \nThis event is a co-production of the UCSC Hip Hop Lab\, Creative Technologies\, Porter College\, and the April in Santa Cruz Festival of Creative Music.\n—\nADMISSION\n– Free and open to UCSC affiliates only\n– Attend in-person at the Digital Arts Research Center\n—\nPARKING\n– Parking by UCSC permit or ParkMobile\n– Arts Lot #126 is the closest parking lot to the event\n– More information provided by UCSC Transportation & Parking Services (TAPS)\n—\nFULL SCHEDULE OF EVENTS\n– This year’s festival includes seven events between April 15 and May 21\, 2026\n– Additional April in Santa Cruz events and information at aprilsc.ucsc.edu\n—\nNOIZ: An Evening of Words\, Sounds + Ideas\nSOUND\, STORY\, AND RADICAL THOUGHT\n \n\nimage: photo of Edd Wheeler\n—\nThis event is open to UCSC affiliates\, consistent with state and federal law.
URL:https://events.ucsc.edu/event/aisc-noiz-04-15-26/
LOCATION:Digital Arts Research Center\, 407 McHenry Rd\, Santa Cruz\, CA\, 95064
CATEGORIES:Concerts,Performances,Reception
ATTACH;FMTTYPE=image/jpeg:https://events.ucsc.edu/wp-content/uploads/2026/04/April-In-SC-2026_hero_image-scaled.jpg
GEO:36.9939758;-122.0603902
X-APPLE-STRUCTURED-LOCATION;VALUE=URI;X-ADDRESS=Digital Arts Research Center 407 McHenry Rd Santa Cruz CA 95064;X-APPLE-RADIUS=500;X-TITLE=407 McHenry Rd:geo:-122.0603902,36.9939758
END:VEVENT
BEGIN:VEVENT
DTSTART;TZID=America/Los_Angeles:20260418T180000
DTEND;TZID=America/Los_Angeles:20260418T220000
DTSTAMP:20260421T175723
CREATED:20260327T223315Z
LAST-MODIFIED:20260327T223315Z
UID:10011809-1776535200-1776549600@events.ucsc.edu
SUMMARY:DRAIN - Quarry Amphitheater (April 18th)
DESCRIPTION:Tickets are on sale at quarryamphitheater.com\, starting at $55.96 for general admission \nDRAIN came together in the sleepy\, oceanside NorCal climes of Santa Cruz in 2014 when Ciaramitaro met up with guitarist Cody Chavez and drummer Tim Flegal while attending college. “We had no idea or gameplan of what we were trying to do\,” says Sammy. “It was more like\, ‘Hey\, you have a metal band T-shirt\, and I got a Downpresser shirt on\, and someone likes Municipal Waste. We should all play together.’” While nearby scenes like San Jose and Oakland (known for the legendary Gilman Street venue) had local heat\, Drain had to pull up their bootstraps to ignite their own. “We made our own scene in Santa Cruz\,” reveals the DIY vocalist proudly; he began booking shows at Café Pergolesi\, a local coffee shop that became the town’s hardcore hub. 
URL:https://events.ucsc.edu/event/drain-quarry-amphitheater-april-18th/
LOCATION:Upper Quarry Amphitheater\, 15 McLaughlin Drive\, Santa Cruz\, CA\, 95064
CATEGORIES:Concerts,Performances
ATTACH;FMTTYPE=image/jpeg:https://events.ucsc.edu/wp-content/uploads/2026/03/Drain_11x17.jpeg
GEO:37.0002415;-122.0571193
X-APPLE-STRUCTURED-LOCATION;VALUE=URI;X-ADDRESS=Upper Quarry Amphitheater 15 McLaughlin Drive Santa Cruz CA 95064;X-APPLE-RADIUS=500;X-TITLE=15 McLaughlin Drive:geo:-122.0571193,37.0002415
END:VEVENT
END:VCALENDAR