BEGIN:VCALENDAR
VERSION:2.0
PRODID:-//Events - ECPv6.15.20//NONSGML v1.0//EN
CALSCALE:GREGORIAN
METHOD:PUBLISH
X-WR-CALNAME:Events
X-ORIGINAL-URL:https://events.ucsc.edu
X-WR-CALDESC:Events for Events
REFRESH-INTERVAL;VALUE=DURATION:PT1H
X-Robots-Tag:noindex
X-PUBLISHED-TTL:PT1H
BEGIN:VTIMEZONE
TZID:America/Los_Angeles
BEGIN:DAYLIGHT
TZOFFSETFROM:-0800
TZOFFSETTO:-0700
TZNAME:PDT
DTSTART:20240310T100000
END:DAYLIGHT
BEGIN:STANDARD
TZOFFSETFROM:-0700
TZOFFSETTO:-0800
TZNAME:PST
DTSTART:20241103T090000
END:STANDARD
BEGIN:DAYLIGHT
TZOFFSETFROM:-0800
TZOFFSETTO:-0700
TZNAME:PDT
DTSTART:20250309T100000
END:DAYLIGHT
BEGIN:STANDARD
TZOFFSETFROM:-0700
TZOFFSETTO:-0800
TZNAME:PST
DTSTART:20251102T090000
END:STANDARD
BEGIN:DAYLIGHT
TZOFFSETFROM:-0800
TZOFFSETTO:-0700
TZNAME:PDT
DTSTART:20260308T100000
END:DAYLIGHT
BEGIN:STANDARD
TZOFFSETFROM:-0700
TZOFFSETTO:-0800
TZNAME:PST
DTSTART:20261101T090000
END:STANDARD
END:VTIMEZONE
BEGIN:VEVENT
DTSTART;TZID=America/Los_Angeles:20251103T080000
DTEND;TZID=America/Los_Angeles:20251214T170000
DTSTAMP:20260419T162037
CREATED:20251030T214038Z
LAST-MODIFIED:20251104T002854Z
UID:10005015-1762156800-1765731600@events.ucsc.edu
SUMMARY:Snow Wonder
DESCRIPTION:The Faculty & Staff Health and Well-being Program presents Snow Wonder\, a UC systemwide wellness challenge!  \nRegistration opens November 3 – November 24\nChallenge runs Monday\, November 17 – Sunday\, December 14 \nJoin this 2025 UC Snow Wonder Challenge! Picture yourself having a healthier\, happier holiday season. Form teams with your colleagues and motivate each other and celebrate your healthy habit accomplishments to end the year on a healthy high note and head into 2026 feeling your best! \nVisit the UCSC Snow Wonder webpage to learn more. Register to create a new account and choose UC Santa Cruz as your location. Please note that space for this challenge is limited\, so sign up early.
URL:https://events.ucsc.edu/event/snow-wonder/
LOCATION:CA
CATEGORIES:Social Gathering
ATTACH;FMTTYPE=image/jpeg:https://events.ucsc.edu/wp-content/uploads/2025/10/Snow-Wonder.jpg
END:VEVENT
BEGIN:VEVENT
DTSTART;TZID=America/Los_Angeles:20251120T130000
DTEND;TZID=America/Los_Angeles:20251120T140000
DTSTAMP:20260419T162037
CREATED:20251121T194913Z
LAST-MODIFIED:20251121T194913Z
UID:10005181-1763643600-1763647200@events.ucsc.edu
SUMMARY:GradWiC Womxn's Lunch - Lunch & Learn
DESCRIPTION:Join Graduate Womxn in Computing (GradWiC) for our Womxn’s Luncheon this Thursday\, from 1-2 pm in E2-599. \nThis week\, we are having a Lunch & Learn session featuring Kat Kosolapova from CSE.
URL:https://events.ucsc.edu/event/gradwic-womxns-lunch-lunch-learn/
LOCATION:CA
CATEGORIES:Social Gathering
END:VEVENT
BEGIN:VEVENT
DTSTART;TZID=America/Los_Angeles:20251120T180000
DTEND;TZID=America/Los_Angeles:20251120T200000
DTSTAMP:20260419T162037
CREATED:20251114T143159Z
LAST-MODIFIED:20251114T143159Z
UID:10005147-1763661600-1763668800@events.ucsc.edu
SUMMARY:Indigethanx 2025: Honoring the Elders Dinner
DESCRIPTION:Indigethanx is an American Indian Resource Center annual event\, and our alternative to Thanksgiving dinner. We host dinner with traditional Native foods\, and invite guest speakers. This year we are hosting a dinner in conjunction with the Cowell Coffee Shop\, who will be preparing the dinner for the event. \nIndigethanx is a time honored tradition for the Native and Indigenous Students\, and offers an alternative celebration to the Thanksgiving holiday. It will include delicious Indigenous food\, Indigenous music\, expert Indigenous speakers\, and much more. \n \nDress code: Dress to express! Semi-formal attire is encouraged\, but not required. Have some fancy earrings you’ve been waiting to debut? Now is the time! \nMenu: The staff at the Cowell Coffee Shop are putting together a very special meal for us to enjoy with an indigenous guest chef joining to help prepare the food & teach about its significance. \nPlease register for Indigethanx here. \nNOTE: You must fill out the registration form\, as space is limited. Should more people sign up than we can accommodate\, there will be a waitlist. \nWe look forward to seeing you on November 20th! If you have any additional questions\,  feel free to email us at airc@ucsc.edu.
URL:https://events.ucsc.edu/event/indigethanx-2025-honoring-the-elders-dinner/
LOCATION:Hay Barn\, 94 Ranch View Road\, Santa Cruz\, CA\, 95064\, United States
CATEGORIES:Social Gathering
GEO:36.9817736;-122.0569624
X-APPLE-STRUCTURED-LOCATION;VALUE=URI;X-ADDRESS=Hay Barn 94 Ranch View Road Santa Cruz CA 95064 United States;X-APPLE-RADIUS=500;X-TITLE=94 Ranch View Road:geo:-122.0569624,36.9817736
END:VEVENT
END:VCALENDAR