BEGIN:VCALENDAR
VERSION:2.0
PRODID:-//Events - ECPv6.15.20//NONSGML v1.0//EN
CALSCALE:GREGORIAN
METHOD:PUBLISH
X-WR-CALNAME:Events
X-ORIGINAL-URL:https://events.ucsc.edu
X-WR-CALDESC:Events for Events
REFRESH-INTERVAL;VALUE=DURATION:PT1H
X-Robots-Tag:noindex
X-PUBLISHED-TTL:PT1H
BEGIN:VTIMEZONE
TZID:America/Los_Angeles
BEGIN:DAYLIGHT
TZOFFSETFROM:-0800
TZOFFSETTO:-0700
TZNAME:PDT
DTSTART:20250309T100000
END:DAYLIGHT
BEGIN:STANDARD
TZOFFSETFROM:-0700
TZOFFSETTO:-0800
TZNAME:PST
DTSTART:20251102T090000
END:STANDARD
BEGIN:DAYLIGHT
TZOFFSETFROM:-0800
TZOFFSETTO:-0700
TZNAME:PDT
DTSTART:20260308T100000
END:DAYLIGHT
BEGIN:STANDARD
TZOFFSETFROM:-0700
TZOFFSETTO:-0800
TZNAME:PST
DTSTART:20261101T090000
END:STANDARD
BEGIN:DAYLIGHT
TZOFFSETFROM:-0800
TZOFFSETTO:-0700
TZNAME:PDT
DTSTART:20270314T100000
END:DAYLIGHT
BEGIN:STANDARD
TZOFFSETFROM:-0700
TZOFFSETTO:-0800
TZNAME:PST
DTSTART:20271107T090000
END:STANDARD
END:VTIMEZONE
BEGIN:VEVENT
DTSTART;TZID=America/Los_Angeles:20260112T170000
DTEND;TZID=America/Los_Angeles:20260112T183000
DTSTAMP:20260421T214217
CREATED:20251209T200526Z
LAST-MODIFIED:20251218T001742Z
UID:10005751-1768237200-1768242600@events.ucsc.edu
SUMMARY:Be Inspired: Explore Graduate Studies in STEM
DESCRIPTION:Not sure if graduate school is right for you? \nJoin us to learn what graduate school is really about and explore whether it’s the right path for you. We’ll cover topics such as qualifying exams\, funding options\, common misconceptions\, and more! \nClick the link below to register for the event: \nhttps://ucsc.zoom.us/webinar/register/WN_31OHhwc7QPqJ7nSyiuAUNg
URL:https://events.ucsc.edu/event/be-inspired-explore-graduate-studies-in-stem/
CATEGORIES:Seminars,Workshop
ATTACH;FMTTYPE=image/jpeg:https://events.ucsc.edu/wp-content/uploads/2025/12/Graduate-Student-Workshop-Flyer.jpg
END:VEVENT
BEGIN:VEVENT
DTSTART;TZID=America/Los_Angeles:20260113T133000
DTEND;TZID=America/Los_Angeles:20260113T143000
DTSTAMP:20260421T214218
CREATED:20260105T180433Z
LAST-MODIFIED:20260105T180433Z
UID:10008153-1768311000-1768314600@events.ucsc.edu
SUMMARY:"Words That Impress: Creating a Great Résumé & Cover Letter"
DESCRIPTION:Crafting a fantastic Resume and Cover Letter are the key to getting an interview and landing a job!  Join us for this informative workshop that will cover best practices for resume and cover letter development.  You’ll gain understanding about the perfect format\, navigating AI filters\, and how to write captivating resume bullet points and engaging cover letter paragraphs.  The presentation will be 30 minutes\, followed by 30 minutes of optional worktime here in our office with coaches to give you brief input. \nWe will provide captions for the presentation. If you have disability-related needs\, please contact the Career Success office at csuccess@ucsc.edu or (831) 459-4420 as soon as possible. \nYOU BELONG HERE\nPrograms and services are open to all\, consistent with state and federal law\, as well as the University of California’s nondiscrimination policies. Every initiative—whether a student service\, faculty program\, or community event—is designed to be accessible\, inclusive\, and respectful of all identities. To learn more\, please visit UC Nondiscrimination Statement or Nondiscrimination Policy for UC Publications.
URL:https://events.ucsc.edu/event/words-that-impress-creating-a-great-resume-cover-letter-3/
LOCATION:Career Success Student Lounge (125 Hahn)\, 1156 High Street\, Santa Cruz\, CA\, 95064\, United States
CATEGORIES:Training,Workshop
GEO:36.9834948;-122.0564004
X-APPLE-STRUCTURED-LOCATION;VALUE=URI;X-ADDRESS=Career Success Student Lounge (125 Hahn) 1156 High Street Santa Cruz CA 95064 United States;X-APPLE-RADIUS=500;X-TITLE=1156 High Street:geo:-122.0564004,36.9834948
END:VEVENT
BEGIN:VEVENT
DTSTART;TZID=America/Los_Angeles:20260114T143000
DTEND;TZID=America/Los_Angeles:20260114T153000
DTSTAMP:20260421T214218
CREATED:20251212T225609Z
LAST-MODIFIED:20251212T225609Z
UID:10005836-1768401000-1768404600@events.ucsc.edu
SUMMARY:Successful Slug Workshop: Understanding & Using Your Syllabus
DESCRIPTION:Understanding & Using Your Syllabus\nWednesday\, January 14\, 2:45–3:30 p.m.\nLocation: ARCenter 203 \nBreak down\, understand\, and use your syllabus as a tool for success. \nSuccessful Slug Workshop Series\nJoin Learning Support Services (LSS) for Successful Slug Workshops on Tuesdays at 12 p.m. and Wednesdays at 2:45 p.m. \nThese 45-minute workshops are open to all UCSC students and offer tools and strategies to support your academic success. Each session highlights best practices for effective\, long-lasting learning and is led by LSS professional staff. \nTo get first priority\, sign up on TutorHub or simply drop in. You can also sign up on TutorHub to receive email reminders. \nLearn more and sign up: learningsupport.ucsc.edu/programs/workshops/ \n______________________________________________________________________________ \nYou Belong Here: The programs and services described here are open to all\, consistent with state and federal law\, as well as the University of California’s nondiscrimination policies. Every initiative—whether a student service\, faculty program\, or community event—is designed to be accessible\, inclusive\, and respectful of all identities. \nTo learn more\, please visit UC Nondiscrimination Statement or Nondiscrimination Policy for UC Publications.
URL:https://events.ucsc.edu/event/successful-slug-workshop-understanding-using-your-syllabus/
LOCATION:Academic Resources Center (ARC)\, 408 McHenry Road\, Santa Cruz\, CA\, 95064
CATEGORIES:Workshop
ATTACH;FMTTYPE=image/png:https://events.ucsc.edu/wp-content/uploads/2025/12/Winter-SSW.png
GEO:36.9944159;-122.0593762
X-APPLE-STRUCTURED-LOCATION;VALUE=URI;X-ADDRESS=Academic Resources Center (ARC) 408 McHenry Road Santa Cruz CA 95064;X-APPLE-RADIUS=500;X-TITLE=408 McHenry Road:geo:-122.0593762,36.9944159
END:VEVENT
BEGIN:VEVENT
DTSTART;TZID=America/Los_Angeles:20260116T140000
DTEND;TZID=America/Los_Angeles:20260116T144500
DTSTAMP:20260421T214218
CREATED:20260105T173943Z
LAST-MODIFIED:20260109T182122Z
UID:10008174-1768572000-1768574700@events.ucsc.edu
SUMMARY:How to Find a Job On Campus
DESCRIPTION:Do you need a job? Learn how to find jobs on campus and how Career Success can help you through the process! All students are welcome. The presentation will last 30 minutes\, followed by a 15-minute Q&A. \nWe will provide captions for the presentation. If you have disability-related needs\, please contact the Career Success office at csuccess@ucsc.edu or (831) 459-4420 as soon as possible. \nYOU BELONG HERE\nPrograms and services are open to all\, consistent with state and federal law\, as well as the University of California’s nondiscrimination policies. Every initiative—whether a student service\, faculty program\, or community event—is designed to be accessible\, inclusive\, and respectful of all identities. To learn more\, please visit UC Nondiscrimination Statement or Nondiscrimination Policy for UC Publications.
URL:https://events.ucsc.edu/event/how-to-find-a-job-on-campus-virtual-session/
CATEGORIES:Workshop
ATTACH;FMTTYPE=image/png:https://events.ucsc.edu/wp-content/uploads/2025/10/Career-Success-Banner-with-Photos.png
LOCATION:
END:VEVENT
BEGIN:VEVENT
DTSTART;TZID=America/Los_Angeles:20260117T100000
DTEND;TZID=America/Los_Angeles:20260117T123000
DTSTAMP:20260421T214218
CREATED:20251125T174215Z
LAST-MODIFIED:20251126T044902Z
UID:10005641-1768644000-1768653000@events.ucsc.edu
SUMMARY:Intro to Fruit Trees
DESCRIPTION:This workshop will focus on fruit tree care and management\, especially for those who are looking to establish and/or care for their fruit trees using organic methods. Although we will be demonstrating on a home garden scale\, the techniques and methods are applicable at multiple scales—the basics are the same.\nThis hands-on workshop will cover: \n\nThe run up to planting (site\, sun\, soil)\nAssessing and improving your soil\nSourcing quality trees for your area\nPlanting bare root trees\nPost plant care\nA Q&A session\n\nREGISTER \nPhoto by Jim Clark
URL:https://events.ucsc.edu/event/intro-to-fruit-trees/
LOCATION:Hay Barn\, 94 Ranch View Road\, Santa Cruz\, CA\, 95064\, United States
CATEGORIES:Workshop
ATTACH;FMTTYPE=image/png:https://events.ucsc.edu/wp-content/uploads/2025/11/Screenshot-2025-11-25-at-9.34.44-AM.png
GEO:36.9817736;-122.0569624
X-APPLE-STRUCTURED-LOCATION;VALUE=URI;X-ADDRESS=Hay Barn 94 Ranch View Road Santa Cruz CA 95064 United States;X-APPLE-RADIUS=500;X-TITLE=94 Ranch View Road:geo:-122.0569624,36.9817736
END:VEVENT
BEGIN:VEVENT
DTSTART;TZID=America/Los_Angeles:20260120T120000
DTEND;TZID=America/Los_Angeles:20260120T130000
DTSTAMP:20260421T214218
CREATED:20251212T230403Z
LAST-MODIFIED:20251212T230403Z
UID:10005837-1768910400-1768914000@events.ucsc.edu
SUMMARY:Successful Slug Workshop: Goal Setting (Zoom)
DESCRIPTION:Goal Setting\nTuesday\, January 20\, 12:00-12:45 p.m.\nLocation: Zoom \nSet SMART goals to help you get organized & on track for success. \nSuccessful Slug Workshop Series\nJoin Learning Support Services (LSS) for Successful Slug Workshops on Tuesdays at noon and Wednesdays at 2:45 p.m. \nThese 45-minute workshops are open to all UCSC students and offer tools and strategies to support your academic success. Each session highlights best practices for effective\, long-lasting learning and is led by LSS professional staff. \nTo get first priority\, sign up on TutorHub or simply drop in. You can also sign up on TutorHub to receive email reminders. \nLearn more and sign up: learningsupport.ucsc.edu/programs/workshops/ \n______________________________________________________________ \nYou Belong Here: The programs and services described here are open to all\, consistent with state and federal law\, as well as the University of California’s nondiscrimination policies. Every initiative—whether a student service\, faculty program\, or community event—is designed to be accessible\, inclusive\, and respectful of all identities. \nTo learn more\, please visit UC Nondiscrimination Statement or Nondiscrimination Policy for UC Publications.
URL:https://events.ucsc.edu/event/successful-slug-workshop-goal-setting-zoom/
CATEGORIES:Workshop
ATTACH;FMTTYPE=image/png:https://events.ucsc.edu/wp-content/uploads/2025/12/Winter-SSW-2.png
LOCATION:https://ucsc.zoom.us/j/7372922776?pwd=WXUag0pdlpMjibChAbciSUWsBiW3Oe.1
END:VEVENT
BEGIN:VEVENT
DTSTART;TZID=America/Los_Angeles:20260121T143000
DTEND;TZID=America/Los_Angeles:20260121T153000
DTSTAMP:20260421T214218
CREATED:20251212T230945Z
LAST-MODIFIED:20251212T230945Z
UID:10005838-1769005800-1769009400@events.ucsc.edu
SUMMARY:Successful Slug Workshop: Time Management (Zoom)
DESCRIPTION:Time Management\nWednesday\, January 21\, 2:45–3:30 p.m.\nLocation: Zoom \nLearn the ways you can manage your time and avoid procrastination/burnout. \nSuccessful Slug Workshop Series\nJoin Learning Support Services (LSS) for Successful Slug Workshops on Tuesdays at noon and Wednesdays at 2:45 p.m. \nThese 45-minute workshops are open to all UCSC students and offer tools and strategies to support your academic success. Each session highlights best practices for effective\, long-lasting learning and is led by LSS professional staff. \nTo get first priority\, sign up on TutorHub or simply drop in. You can also sign up on TutorHub to receive email reminders. \nLearn more and sign up: learningsupport.ucsc.edu/programs/workshops/ \n______________________________________________________________ \nYou Belong Here: The programs and services described here are open to all\, consistent with state and federal law\, as well as the University of California’s nondiscrimination policies. Every initiative—whether a student service\, faculty program\, or community event—is designed to be accessible\, inclusive\, and respectful of all identities. \nTo learn more\, please visit UC Nondiscrimination Statement or Nondiscrimination Policy for UC Publications.
URL:https://events.ucsc.edu/event/successful-slug-workshop-time-management-zoom/
CATEGORIES:Workshop
ATTACH;FMTTYPE=image/png:https://events.ucsc.edu/wp-content/uploads/2025/12/Winter-SSW-3.png
LOCATION:https://ucsc.zoom.us/j/7372922776?pwd=WXUag0pdlpMjibChAbciSUWsBiW3Oe.1
END:VEVENT
BEGIN:VEVENT
DTSTART;TZID=America/Los_Angeles:20260122T080000
DTEND;TZID=America/Los_Angeles:20260122T170000
DTSTAMP:20260421T214218
CREATED:20260114T211209Z
LAST-MODIFIED:20260114T211209Z
UID:10008403-1769068800-1769101200@events.ucsc.edu
SUMMARY:Wellness in Action: Better Sleep for Busy Lives
DESCRIPTION:Thursday\, January 22\, 12:00 PM – 12:30 PM\nThis new Wellness in Action workshop series is designed to help you improve your health with a short session with simple tips you can try\, and a follow-up session two weeks later to reflect on what worked\, troubleshoot what didn’t\, and learn what’s working for others. \nIn this workshop\, you’ll learn simple strategies for winding down\, improving sleep quality\, and building a routine that fits your life. \nIn the follow-up session on Thursday\, February 5 from 12:00 PM – 12:30 PM\, you will have the opportunity to share your experience and learn from others in the group. \nRegister for Better Sleep for Busy Lives to receive the Zoom link. \nVisit the Faculty & Staff Health and Well-being Workshops calendar to view more current events. \nIf you have any questions or concerns\, please reach out to Parker\, the Health and Well-being Specialist\, at aseparke@ucsc.edu.
URL:https://events.ucsc.edu/event/wellness-in-action-better-sleep-for-busy-lives/2026-01-22/1/
CATEGORIES:Workshop
ATTACH;FMTTYPE=image/jpeg:https://events.ucsc.edu/wp-content/uploads/2026/01/Sleep-Banner-JPG.jpg
END:VEVENT
BEGIN:VEVENT
DTSTART;TZID=America/Los_Angeles:20260122T120000
DTEND;TZID=America/Los_Angeles:20260122T123000
DTSTAMP:20260421T214218
CREATED:20260114T211209Z
LAST-MODIFIED:20260114T211209Z
UID:10008402-1769083200-1769085000@events.ucsc.edu
SUMMARY:Wellness in Action: Better Sleep for Busy Lives
DESCRIPTION:Thursday\, January 22\, 12:00 PM – 12:30 PM\nThis new Wellness in Action workshop series is designed to help you improve your health with a short session with simple tips you can try\, and a follow-up session two weeks later to reflect on what worked\, troubleshoot what didn’t\, and learn what’s working for others. \nIn this workshop\, you’ll learn simple strategies for winding down\, improving sleep quality\, and building a routine that fits your life. \nIn the follow-up session on Thursday\, February 5 from 12:00 PM – 12:30 PM\, you will have the opportunity to share your experience and learn from others in the group. \nRegister for Better Sleep for Busy Lives to receive the Zoom link. \nVisit the Faculty & Staff Health and Well-being Workshops calendar to view more current events. \nIf you have any questions or concerns\, please reach out to Parker\, the Health and Well-being Specialist\, at aseparke@ucsc.edu.
URL:https://events.ucsc.edu/event/wellness-in-action-better-sleep-for-busy-lives/2026-01-22/2/
CATEGORIES:Workshop
ATTACH;FMTTYPE=image/jpeg:https://events.ucsc.edu/wp-content/uploads/2026/01/Sleep-Banner-JPG.jpg
END:VEVENT
BEGIN:VEVENT
DTSTART;TZID=America/Los_Angeles:20260122T160000
DTEND;TZID=America/Los_Angeles:20260122T170000
DTSTAMP:20260421T214218
CREATED:20260109T183401Z
LAST-MODIFIED:20260109T183401Z
UID:10008338-1769097600-1769101200@events.ucsc.edu
SUMMARY:Crafting Your Personal Pitch | UCSC x COOP Careers
DESCRIPTION:Make your first impression count! Join COOP Careers for a dynamic and practical workshop designed to help you stand out at your next job fair. In Craft Your Personal Pitch\, you’ll discover how to confidently and authentically talk about your story\, your skills\, and your goals. Learn COOP’s signature 3W’s personal pitch hack to help you introduce yourself with impact in any professional setting. This session will also include key strategies to help you navigate job fairs with purpose\, clarity\, and confidence. \nDate: Thursday\, January 22nd 2026\nTime: 4:00 – 5:00pm \nCOOP Careers\, a nonprofit organization dedicated to closing the opportunity gap for first-generation and low-income college graduates through hands-on training and mentorship. COOP helps participants launch meaningful careers in fields like data analytics\, digital marketing\, and tech sales by building real-world skills and strong professional networks. \nDon’t miss this opportunity to learn how COOP can help you take your career to the next level! \nYOU BELONG HERE\nPrograms and services are open to all\, consistent with state and federal law\, as well as the University of California’s nondiscrimination policies. Every initiative—whether a student service\, faculty program\, or community event—is designed to be accessible\, inclusive\, and respectful of all identities. To learn more\, please visit UC Nondiscrimination Statement or Nondiscrimination Policy for UC Publications.
URL:https://events.ucsc.edu/event/crafting-your-personal-pitch-ucsc-x-coop-careers/
CATEGORIES:Workshop
ATTACH;FMTTYPE=image/png:https://events.ucsc.edu/wp-content/uploads/2025/10/Career-Success-Banner-with-Photos.png
LOCATION:
END:VEVENT
BEGIN:VEVENT
DTSTART;TZID=America/Los_Angeles:20260127T120000
DTEND;TZID=America/Los_Angeles:20260127T130000
DTSTAMP:20260421T214218
CREATED:20251212T231401Z
LAST-MODIFIED:20251212T231401Z
UID:10005839-1769515200-1769518800@events.ucsc.edu
SUMMARY:Successful Slug Workshop: Productive Struggle & Study Skills (Zoom)
DESCRIPTION:Productive Struggle & Study Skills\nTuesday\, January 27\, 12:00-12:45 p.m.\nLocation: Zoom \nLearn study strategies and why making it hard for yourself supports durable learning. \nSuccessful Slug Workshop Series\nJoin Learning Support Services (LSS) for Successful Slug Workshops on Tuesdays at noon and Wednesdays at 2:45 p.m. \nThese 45-minute workshops are open to all UCSC students and offer tools and strategies to support your academic success. Each session highlights best practices for effective\, long-lasting learning and is led by LSS professional staff. \nTo get first priority\, sign up on TutorHub or simply drop in. You can also sign up on TutorHub to receive email reminders. \nLearn more and sign up: learningsupport.ucsc.edu/programs/workshops/ \n______________________________________________________________ \nYou Belong Here: The programs and services described here are open to all\, consistent with state and federal law\, as well as the University of California’s nondiscrimination policies. Every initiative—whether a student service\, faculty program\, or community event—is designed to be accessible\, inclusive\, and respectful of all identities. \nTo learn more\, please visit UC Nondiscrimination Statement or Nondiscrimination Policy for UC Publications.
URL:https://events.ucsc.edu/event/successful-slug-workshop-productive-struggle-study-skills-zoom/
CATEGORIES:Workshop
ATTACH;FMTTYPE=image/png:https://events.ucsc.edu/wp-content/uploads/2025/12/Winter-SSW.png
LOCATION:https://ucsc.zoom.us/j/7372922776?pwd=WXUag0pdlpMjibChAbciSUWsBiW3Oe.1
END:VEVENT
BEGIN:VEVENT
DTSTART;TZID=America/Los_Angeles:20260127T173000
DTEND;TZID=America/Los_Angeles:20260127T183000
DTSTAMP:20260421T214218
CREATED:20260121T080234Z
LAST-MODIFIED:20260223T202444Z
UID:10009083-1769535000-1769538600@events.ucsc.edu
SUMMARY:How to Optimize Your Career Fair Experience
DESCRIPTION:Interested in attending one of our upcoming career fairs but not sure what to do once you’re there? We can help with that! \nJoin us for this webinar on Tuesday\, January 27th from 5:30-6:30 to learn about how to make the most out of the experience. You get answers to these questions \n\nWhat should you do to prepare in advance?\nHow should you engage with recruiters and other attendees?\nAre there any practices or strategies to be mindful of before\, during\, and after?\n\nPlus much more… \nCareer fairs can be a solid way to engage with recruiters to learn about job and internship opportunities as well as get an idea of what it’s like to work in a field that you might be interested in. Having a solid understanding of how to navigate your experience can help make a huge difference. \nWe will provide captions for the presentation. If you have disability-related needs\, please contact the Career Success office at csuccess@ucsc.edu or (831) 459-4420 as soon as possible. \nYOU BELONG HERE\nPrograms and services are open to all\, consistent with state and federal law\, as well as the University of California’s nondiscrimination policies. Every initiative—whether a student service\, faculty program\, or community event—is designed to be accessible\, inclusive\, and respectful of all identities. To learn more\, please visit UC Nondiscrimination Statement or Nondiscrimination Policy for UC Publications.
URL:https://events.ucsc.edu/event/how-to-optimize-your-career-fair-experience-2/
CATEGORIES:Workshop
ATTACH;FMTTYPE=image/png:https://events.ucsc.edu/wp-content/uploads/2026/01/BElogoWHITE.png
LOCATION:https://events.ucsc.edu/event/how-to-optimize-your-career-fair-experience-2/
END:VEVENT
BEGIN:VEVENT
DTSTART;TZID=America/Los_Angeles:20260128T143000
DTEND;TZID=America/Los_Angeles:20260128T153000
DTSTAMP:20260421T214218
CREATED:20251212T232238Z
LAST-MODIFIED:20251212T234834Z
UID:10005840-1769610600-1769614200@events.ucsc.edu
SUMMARY:Successful Slug Workshop: Habit Tracking as a Tool
DESCRIPTION:Habit Tracking as a Tool\nWednesday\, January 28\, 2:45–3:30 p.m.\nLocation: ARCenter 203 \nLearn how strategies like habit stacking and tracking can ensure you can stick to your academic and personal routines. \nSuccessful Slug Workshop Series\nJoin Learning Support Services (LSS) for Successful Slug Workshops on Tuesdays at noon and Wednesdays at 2:45 p.m. \nThese 45-minute workshops are open to all UCSC students and offer tools and strategies to support your academic success. Each session highlights best practices for effective\, long-lasting learning and is led by LSS professional staff. \nTo get first priority\, sign up on TutorHub or simply drop in. You can also sign up on TutorHub to receive email reminders. \nLearn more and sign up: learningsupport.ucsc.edu/programs/workshops/ \n______________________________________________________________ \nYou Belong Here: The programs and services described here are open to all\, consistent with state and federal law\, as well as the University of California’s nondiscrimination policies. Every initiative—whether a student service\, faculty program\, or community event—is designed to be accessible\, inclusive\, and respectful of all identities. \nTo learn more\, please visit UC Nondiscrimination Statement or Nondiscrimination Policy for UC Publications.
URL:https://events.ucsc.edu/event/successful-slug-workshop-habit-tracking-as-a-tool/
LOCATION:Academic Resources Center (ARC)\, 408 McHenry Road\, Santa Cruz\, CA\, 95064
CATEGORIES:Workshop
ATTACH;FMTTYPE=image/png:https://events.ucsc.edu/wp-content/uploads/2025/12/Winter-SSW-2.png
GEO:36.9944159;-122.0593762
X-APPLE-STRUCTURED-LOCATION;VALUE=URI;X-ADDRESS=Academic Resources Center (ARC) 408 McHenry Road Santa Cruz CA 95064;X-APPLE-RADIUS=500;X-TITLE=408 McHenry Road:geo:-122.0593762,36.9944159
END:VEVENT
BEGIN:VEVENT
DTSTART;TZID=America/Los_Angeles:20260130T100000
DTEND;TZID=America/Los_Angeles:20260130T160000
DTSTAMP:20260421T214218
CREATED:20260109T005335Z
LAST-MODIFIED:20260109T005335Z
UID:10008337-1769767200-1769788800@events.ucsc.edu
SUMMARY:AI Workshop Series: AI in the Semiconductor Industry
DESCRIPTION:Explore how artificial intelligence is transforming the semiconductor industry—from design to manufacturing. \nIn this AI workshop\, students will examine how AI is being applied to chip design\, Electronic Design Automation (EDA)\, and production workflows\, with a focus on real-world use cases and emerging industry trends. Through expert insights and practical examples\, this session highlights how generative AI and advanced analytics are improving efficiency\, yield\, and innovation across the semiconductor lifecycle. \n\nApply AI tools to modern semiconductor design and manufacturing\nIdentify high-impact generative AI use cases in chip development\nUnderstand how AI is reshaping Electronic Design Automation (EDA)\nLeverage AI for yield improvement\, defect detection\, and process optimization\nStay informed on key trends shaping the future of AI in semiconductors\n\nFormat:\nThis is a hybrid course\, offered both in person and via Zoom. Participants are expected to attend and actively engage during the scheduled class time. Remote attendees are encouraged to keep cameras on to support an interactive learning experience. In-person participants should bring a laptop to each class session. \nThis course is part of the Winter 2026 AI Workshop series. \nEnroll in this workshop.
URL:https://events.ucsc.edu/event/ai-workshop-series-ai-in-the-semiconductor-industry/
LOCATION:Silicon Valley Campus\, 3175 Bowers Avenue\, Santa Clara\, CA\, 95054\, United States
CATEGORIES:Lectures & Presentations,Meetings & Conferences,Training,Workshop
ATTACH;FMTTYPE=image/png:https://events.ucsc.edu/wp-content/uploads/2026/01/SM-Cal-67.png
GEO:37.3796975;-121.9765484
X-APPLE-STRUCTURED-LOCATION;VALUE=URI;X-ADDRESS=Silicon Valley Campus 3175 Bowers Avenue Santa Clara CA 95054 United States;X-APPLE-RADIUS=500;X-TITLE=3175 Bowers Avenue:geo:-121.9765484,37.3796975
END:VEVENT
BEGIN:VEVENT
DTSTART;TZID=America/Los_Angeles:20260130T153000
DTEND;TZID=America/Los_Angeles:20260130T163000
DTSTAMP:20260421T214218
CREATED:20260105T222222Z
LAST-MODIFIED:20260223T202906Z
UID:10008283-1769787000-1769790600@events.ucsc.edu
SUMMARY:Creating a LinkedIn Profile
DESCRIPTION:Join us to learn why having a LinkedIn profile is beneficial to advance your career and gain tips on how to create or update your LinkedIn profile. This session is for students who are new to LinkedIn or have not updated their profile in a while. The session will have a presentation and time for Q&A. \nWe will provide captions for the presentation. If you have disability-related needs\, please contact the Career Success office at csuccess@ucsc.edu or (831) 459-4420 as soon as possible. \nYOU BELONG HERE\nPrograms and services are open to all\, consistent with state and federal law\, as well as the University of California’s nondiscrimination policies. Every initiative—whether a student service\, faculty program\, or community event—is designed to be accessible\, inclusive\, and respectful of all identities. To learn more\, please visit UC Nondiscrimination Statement or Nondiscrimination Policy for UC Publications.
URL:https://events.ucsc.edu/event/creating-a-linkedin-profile/
CATEGORIES:Workshop
ATTACH;FMTTYPE=image/png:https://events.ucsc.edu/wp-content/uploads/2025/10/Career-Success-Banner-with-Photos.png
LOCATION:https://ucsc.joinhandshake.com/events/1881544/share_preview
END:VEVENT
END:VCALENDAR