BEGIN:VCALENDAR
VERSION:2.0
PRODID:-//Events - ECPv6.15.20//NONSGML v1.0//EN
CALSCALE:GREGORIAN
METHOD:PUBLISH
X-WR-CALNAME:Events
X-ORIGINAL-URL:https://events.ucsc.edu
X-WR-CALDESC:Events for Events
REFRESH-INTERVAL;VALUE=DURATION:PT1H
X-Robots-Tag:noindex
X-PUBLISHED-TTL:PT1H
BEGIN:VTIMEZONE
TZID:America/Los_Angeles
BEGIN:DAYLIGHT
TZOFFSETFROM:-0800
TZOFFSETTO:-0700
TZNAME:PDT
DTSTART:20250309T100000
END:DAYLIGHT
BEGIN:STANDARD
TZOFFSETFROM:-0700
TZOFFSETTO:-0800
TZNAME:PST
DTSTART:20251102T090000
END:STANDARD
BEGIN:DAYLIGHT
TZOFFSETFROM:-0800
TZOFFSETTO:-0700
TZNAME:PDT
DTSTART:20260308T100000
END:DAYLIGHT
BEGIN:STANDARD
TZOFFSETFROM:-0700
TZOFFSETTO:-0800
TZNAME:PST
DTSTART:20261101T090000
END:STANDARD
BEGIN:DAYLIGHT
TZOFFSETFROM:-0800
TZOFFSETTO:-0700
TZNAME:PDT
DTSTART:20270314T100000
END:DAYLIGHT
BEGIN:STANDARD
TZOFFSETFROM:-0700
TZOFFSETTO:-0800
TZNAME:PST
DTSTART:20271107T090000
END:STANDARD
END:VTIMEZONE
BEGIN:VEVENT
DTSTART;TZID=America/Los_Angeles:20260204T080000
DTEND;TZID=America/Los_Angeles:20260204T143000
DTSTAMP:20260423T132146
CREATED:20260114T182011Z
LAST-MODIFIED:20260114T182011Z
UID:10008392-1770192000-1770215400@events.ucsc.edu
SUMMARY:Mentors Needed: Dickens Day of Writing
DESCRIPTION:The Dickens Project is seeking volunteer writing mentors for our to support Santa Cruz-area high school juniors and seniors during a one-day writing retreat and competition at the Museum of Art and History! \nNo prior writing or teaching experience is necessary. Anyone who enjoys working in a creative environment is welcome. For more information about The Dickens Day of Writing please visit https://teachers.ucsc.edu/dickens-day-of-writing/ \nTo register as a mentor\, please fill out the following Google form by January 31st\, 2026.\nhttps://forms.gle/qPK2bMXu7vo4bXwL9
URL:https://events.ucsc.edu/event/mentors-needed-dickens-day-of-writing/
LOCATION:Museum of Art & History\, 705 Front St\, Santa Cruz\, CA\, 95060\, United States
CATEGORIES:Workshop
ATTACH;FMTTYPE=image/jpeg:https://events.ucsc.edu/wp-content/uploads/2026/01/DDOW_16-9.jpg
GEO:36.9745675;-122.0253376
X-APPLE-STRUCTURED-LOCATION;VALUE=URI;X-ADDRESS=Museum of Art & History 705 Front St Santa Cruz CA 95060 United States;X-APPLE-RADIUS=500;X-TITLE=705 Front St:geo:-122.0253376,36.9745675
END:VEVENT
BEGIN:VEVENT
DTSTART;TZID=America/Los_Angeles:20260206T121500
DTEND;TZID=America/Los_Angeles:20260206T130000
DTSTAMP:20260423T132146
CREATED:20260112T191838Z
LAST-MODIFIED:20260112T191838Z
UID:10008344-1770380100-1770382800@events.ucsc.edu
SUMMARY:GDAC Portfolio Workshop
DESCRIPTION:Workshop\n\nPart of the GDA Conference on campus – come and learn best practices for creating a portfolio to use in the gaming industry! \n  \nKNOW OUR POLICIES \nJob postings and employer announcements are made without endorsement\, direct or implied\, by Career Success or UCSC. Career Success educates students about various opportunities and ensures equity of access to campus recruiting activities for all employers who abide by our Employer Policies. Individual students are encouraged to determine which employers align with their diverse talents\, values\, and interests. \n  \nYOU BELONG HERE\nPrograms and services are open to all\, consistent with state and federal law\, as well as the University of California’s nondiscrimination policies. Every initiative—whether a student service\, faculty program\, or community event—is designed to be accessible\, inclusive\, and respectful of all identities. To learn more\, please visit UC Nondiscrimination Statement or Nondiscrimination Policy for UC Publications. \nOnline Safety Tips \nUC Santa Cruz Career Success〡Hahn 125 \nEmail Career Success: csuccess@ucsc.edu \nVisit Career Success Website: https://careers.ucsc.edu
URL:https://events.ucsc.edu/event/gdac-portfolio-workshop/
LOCATION:Cultural Center – Merrill College\, 641 Merrill Rd\, Santa Cruz\, 95064\, United States
CATEGORIES:Lectures & Presentations,Meetings & Conferences,Seminars,Workshop
ATTACH;FMTTYPE=image/png:https://events.ucsc.edu/wp-content/uploads/2025/12/Career-Success-logo-circle-1.png
GEO:37.0003908;-122.0534175
X-APPLE-STRUCTURED-LOCATION;VALUE=URI;X-ADDRESS=Cultural Center – Merrill College 641 Merrill Rd Santa Cruz 95064 United States;X-APPLE-RADIUS=500;X-TITLE=641 Merrill Rd:geo:-122.0534175,37.0003908
END:VEVENT
BEGIN:VEVENT
DTSTART;TZID=America/Los_Angeles:20260206T130000
DTEND;TZID=America/Los_Angeles:20260206T143000
DTSTAMP:20260423T132146
CREATED:20251219T000434Z
LAST-MODIFIED:20251219T000434Z
UID:10007700-1770382800-1770388200@events.ucsc.edu
SUMMARY:Interview Preparation Workshop
DESCRIPTION:Ready to sharpen your interview skills? \nJoin Career Success for an interactive workshop on Interview Best Practices\, followed by Mock Interview Practice! \nWe will provide captions for the presentation. If you have disability-related needs\, please contact the Career Success office at csuccess@ucsc.edu or (831) 459-4420 as soon as possible. \nYOU BELONG HERE\nPrograms and services are open to all\, consistent with state and federal law\, as well as the University of California’s nondiscrimination policies. Every initiative—whether a student service\, faculty program\, or community event—is designed to be accessible\, inclusive\, and respectful of all identities. To learn more\, please visit UC Nondiscrimination Statement or Nondiscrimination Policy for UC Publications.
URL:https://events.ucsc.edu/event/interview-preparation-workshop/
LOCATION:Career Success Student Lounge (125 Hahn)\, 1156 High Street\, Santa Cruz\, CA\, 95064\, United States
CATEGORIES:Workshop
ATTACH;FMTTYPE=image/png:https://events.ucsc.edu/wp-content/uploads/2025/12/Career-Success-logo-circle-1.png
GEO:36.9834948;-122.0564004
X-APPLE-STRUCTURED-LOCATION;VALUE=URI;X-ADDRESS=Career Success Student Lounge (125 Hahn) 1156 High Street Santa Cruz CA 95064 United States;X-APPLE-RADIUS=500;X-TITLE=1156 High Street:geo:-122.0564004,36.9834948
END:VEVENT
BEGIN:VEVENT
DTSTART;TZID=America/Los_Angeles:20260207T100000
DTEND;TZID=America/Los_Angeles:20260207T123000
DTSTAMP:20260423T132146
CREATED:20260108T003701Z
LAST-MODIFIED:20260108T003701Z
UID:10008330-1770458400-1770467400@events.ucsc.edu
SUMMARY:Blueberries for the Home Garden and Small Farm
DESCRIPTION:Learn about varietal selection\, site selection\, planting\, pruning and general care of blueberries in the home garden \nJoin UC Santa Cruz Farm Garden Manager Christof Bernau as he covers the fundamental information you need to know to successfully grow and harvest blueberries in the home garden. Beginning in the Hay Barn at UCSC\, Christof will discuss a brief history and origin of these crops\, their primary cultural requirements\, site selection and soil preparation\, pruning systems\, protection from bird predation\, varietal selection and sourcing. The group will then walk up to the farm and look at each of these crops in three dimensions\, using the living plants to illustrate key terminology and plant physiology and discuss seasonal care requirements and the specifics of winter pruning. Pre-registration is required for this workshop.
URL:https://events.ucsc.edu/event/blueberries-for-the-home-garden-and-small-farm/
LOCATION:Hay Barn\, 94 Ranch View Road\, Santa Cruz\, CA\, 95064\, United States
CATEGORIES:Workshop
ATTACH;FMTTYPE=image/jpeg:https://events.ucsc.edu/wp-content/uploads/2026/01/Photos-10-of-11-scaled.jpeg
GEO:36.9817736;-122.0569624
X-APPLE-STRUCTURED-LOCATION;VALUE=URI;X-ADDRESS=Hay Barn 94 Ranch View Road Santa Cruz CA 95064 United States;X-APPLE-RADIUS=500;X-TITLE=94 Ranch View Road:geo:-122.0569624,36.9817736
END:VEVENT
END:VCALENDAR