BEGIN:VCALENDAR
VERSION:2.0
PRODID:-//Events - ECPv6.15.20//NONSGML v1.0//EN
CALSCALE:GREGORIAN
METHOD:PUBLISH
X-ORIGINAL-URL:https://events.ucsc.edu
X-WR-CALDESC:Events for Events
REFRESH-INTERVAL;VALUE=DURATION:PT1H
X-Robots-Tag:noindex
X-PUBLISHED-TTL:PT1H
BEGIN:VTIMEZONE
TZID:America/Los_Angeles
BEGIN:DAYLIGHT
TZOFFSETFROM:-0800
TZOFFSETTO:-0700
TZNAME:PDT
DTSTART:20250309T100000
END:DAYLIGHT
BEGIN:STANDARD
TZOFFSETFROM:-0700
TZOFFSETTO:-0800
TZNAME:PST
DTSTART:20251102T090000
END:STANDARD
BEGIN:DAYLIGHT
TZOFFSETFROM:-0800
TZOFFSETTO:-0700
TZNAME:PDT
DTSTART:20260308T100000
END:DAYLIGHT
BEGIN:STANDARD
TZOFFSETFROM:-0700
TZOFFSETTO:-0800
TZNAME:PST
DTSTART:20261101T090000
END:STANDARD
BEGIN:DAYLIGHT
TZOFFSETFROM:-0800
TZOFFSETTO:-0700
TZNAME:PDT
DTSTART:20270314T100000
END:DAYLIGHT
BEGIN:STANDARD
TZOFFSETFROM:-0700
TZOFFSETTO:-0800
TZNAME:PST
DTSTART:20271107T090000
END:STANDARD
END:VTIMEZONE
BEGIN:VEVENT
DTSTART;TZID=America/Los_Angeles:20260217T153000
DTEND;TZID=America/Los_Angeles:20260217T153000
DTSTAMP:20260419T224334
CREATED:20260207T000644Z
LAST-MODIFIED:20260207T000644Z
UID:10009180-1771342200-1771342200@events.ucsc.edu
SUMMARY:Meet a Roomie: College Nine/John R. Lewis
DESCRIPTION:Looking for roommates for next year?\nHoping to add a roommate to a group or to join a group? Attend a Meet a Roomie event to connect with other continuing students who are interested in living in the College Nine or John R. Lewis College communities for the 2026-27 academic year. \nThis is a casual\, in-person opportunity to meet potential roommates and start forming your housing group before the application and Room Selection process begins. \nDate: Tuesday\, Feb. 17\, 2026 \nTime: 3:30 p.m. \nLocation: Namaste Lounge (map) \n  \nYou Belong Here: The programs and services described here are open to all\, consistent with state and federal law\, as well as the University of California’s nondiscrimination policies. Every initiative—whether a student service\, faculty program\, or community event—is designed to be accessible\, inclusive\, and respectful of all identities. \nTo learn more\, please visit UC Nondiscrimination Statement or Nondiscrimination Policy for UC Publications.
URL:https://events.ucsc.edu/event/meet-a-roomie-college-nine-john-r-lewis/
LOCATION:Namaste Lounge\, 615 College Nine Road\, Santa Cruz\, CA\, 95064
CATEGORIES:Undergraduate,Workshop
ATTACH;FMTTYPE=image/jpeg:https://events.ucsc.edu/wp-content/uploads/2026/02/housing-banner-05-1-1536x886-1.jpg
GEO:37.0009703;-122.0577323
X-APPLE-STRUCTURED-LOCATION;VALUE=URI;X-ADDRESS=Namaste Lounge 615 College Nine Road Santa Cruz CA 95064;X-APPLE-RADIUS=500;X-TITLE=615 College Nine Road:geo:-122.0577323,37.0009703
END:VEVENT
BEGIN:VEVENT
DTSTART;TZID=America/Los_Angeles:20260217T170000
DTEND;TZID=America/Los_Angeles:20260217T170000
DTSTAMP:20260419T224334
CREATED:20260209T170745Z
LAST-MODIFIED:20260209T170745Z
UID:10009185-1771347600-1771347600@events.ucsc.edu
SUMMARY:Meet a Roomie: Delaware Apartments
DESCRIPTION:Looking for roommates for next year?\nHoping to add a roommate to a group or to join a group? Attend a Meet a Roomie event to connect with other continuing students who are interested in living in the NEW Delaware Apartments community for the 2026-27 academic year. \nThis is a casual\, in-person opportunity to meet potential roommates and start forming your housing group before the application and Room Selection process begins. \nDate: Tuesday\, Feb. 17\, 2026 \nTime: 5 p.m. \nLocation: Porter Hitchcock Lounge (map) \n  \nYou Belong Here: The programs and services described here are open to all\, consistent with state and federal law\, as well as the University of California’s nondiscrimination policies. Every initiative—whether a student service\, faculty program\, or community event—is designed to be accessible\, inclusive\, and respectful of all identities. \nTo learn more\, please visit UC Nondiscrimination Statement or Nondiscrimination Policy for UC Publications.
URL:https://events.ucsc.edu/event/meet-a-roomie-delaware-apartments/
LOCATION:Porter Hitchcock Lounge\, 411 Porter-Kresge Rd\, Santa Cruz\, CA\, 95060-4902\, United States
CATEGORIES:Undergraduate,Workshop
ATTACH;FMTTYPE=image/jpeg:https://events.ucsc.edu/wp-content/uploads/2026/02/housing-banner-05-1-1536x886-1.jpg
GEO:36.9942863;-122.0658527
X-APPLE-STRUCTURED-LOCATION;VALUE=URI;X-ADDRESS=Porter Hitchcock Lounge 411 Porter-Kresge Rd Santa Cruz CA 95060-4902 United States;X-APPLE-RADIUS=500;X-TITLE=411 Porter-Kresge Rd:geo:-122.0658527,36.9942863
END:VEVENT
BEGIN:VEVENT
DTSTART;TZID=America/Los_Angeles:20260217T171500
DTEND;TZID=America/Los_Angeles:20260217T181500
DTSTAMP:20260419T224334
CREATED:20260127T212203Z
LAST-MODIFIED:20260127T235222Z
UID:10009121-1771348500-1771352100@events.ucsc.edu
SUMMARY:Economics Winter Quarterly Faculty and Undergraduate Colloquium
DESCRIPTION:Join us for pizza and a presentation with Kevin Jones\, associate teaching professor and accounting path director\, and Scott Anderson\, accounting lecturer\, CPA and partner at Sensiba LLP. This presentation will cover the career opportunities available with an accounting concentration\, recent updates to the Certified Public Accounting (CPA) exam\, and an open Q&A to address any questions you may have. \nThis free event is open to economics undergraduate declared and proposed majors and economics faculty and staff. \nEVENT DETAILS:  Tuesday\, February 17\, 2026\, 5:15-6:15 p.m.\, in Engineering 2\, room 499 (pizza provided afterwards on fourth floor lobby). \nSeating is limited and therefore favorable RSVP by way of this survey is needed on/before 4 p.m.\, FRIDAY\, FEBRUARY 6\, 2026 (or sooner if filled to capacity). Your replies also help us to order proper amounts of food so no one leaves hungry! \nWaitlist RSVP here.
URL:https://events.ucsc.edu/event/economics-winter-quarterly-faculty-and-undergraduate-colloquium/
LOCATION:CA
CATEGORIES:Undergraduate
ATTACH;FMTTYPE=image/jpeg:https://events.ucsc.edu/wp-content/uploads/2026/01/Pizza-3007395-scaled.jpg
END:VEVENT
BEGIN:VEVENT
DTSTART;TZID=America/Los_Angeles:20260217T190000
DTEND;TZID=America/Los_Angeles:20260217T190000
DTSTAMP:20260419T224334
CREATED:20260207T000904Z
LAST-MODIFIED:20260207T000904Z
UID:10009181-1771354800-1771354800@events.ucsc.edu
SUMMARY:Meet a Roomie: Cowell/Stevenson
DESCRIPTION:Looking for roommates for next year?\nHoping to add a roommate to a group or to join a group? Attend a Meet a Roomie event to connect with other continuing students who are interested in living in the Cowell or Stevenson communities for the 2026-27 academic year. \nThis is a casual\, in-person opportunity to meet potential roommates and start forming your housing group before the application and Room Selection process begins. \nDate: Tuesday\, Feb. 17\, 2026 \nTime: 7 p.m. \nLocation: Stevenson Event Center (map) \n  \nYou Belong Here: The programs and services described here are open to all\, consistent with state and federal law\, as well as the University of California’s nondiscrimination policies. Every initiative—whether a student service\, faculty program\, or community event—is designed to be accessible\, inclusive\, and respectful of all identities. \nTo learn more\, please visit UC Nondiscrimination Statement or Nondiscrimination Policy for UC Publications.
URL:https://events.ucsc.edu/event/meet-a-roomie-cowell-stevenson/
LOCATION:Stevenson Event Center\, Stevenson Service Road\, Santa Cruz\, CA\, 95064
CATEGORIES:Undergraduate,Workshop
ATTACH;FMTTYPE=image/jpeg:https://events.ucsc.edu/wp-content/uploads/2026/02/housing-banner-05-1-1536x886-1.jpg
GEO:36.996897;-122.0512963
X-APPLE-STRUCTURED-LOCATION;VALUE=URI;X-ADDRESS=Stevenson Event Center Stevenson Service Road Santa Cruz CA 95064;X-APPLE-RADIUS=500;X-TITLE=Stevenson Service Road:geo:-122.0512963,36.996897
END:VEVENT
BEGIN:VEVENT
DTSTART;TZID=America/Los_Angeles:20260217T193000
DTEND;TZID=America/Los_Angeles:20260217T193000
DTSTAMP:20260419T224334
CREATED:20260207T001151Z
LAST-MODIFIED:20260207T001151Z
UID:10009182-1771356600-1771356600@events.ucsc.edu
SUMMARY:Meet a Roomie: University Town Center
DESCRIPTION:Looking for roommates for next year?\nHoping to add a roommate to a group or to join a group? Attend a Meet a Roomie event to connect with other continuing students who are interested in living at University Town Center for the 2026-27 academic year. \nThis is a casual\, in-person opportunity to meet potential roommates and start forming your housing group before the application and Room Selection process begins. \nDate: Tuesday\, Feb. 17\, 2026 \nTime: 7:30 p.m. \nLocation: University Town Center (map) Community Room \n  \nYou Belong Here: The programs and services described here are open to all\, consistent with state and federal law\, as well as the University of California’s nondiscrimination policies. Every initiative—whether a student service\, faculty program\, or community event—is designed to be accessible\, inclusive\, and respectful of all identities. \nTo learn more\, please visit UC Nondiscrimination Statement or Nondiscrimination Policy for UC Publications.
URL:https://events.ucsc.edu/event/meet-a-roomie-university-town-center/
LOCATION:University Town Center\, 1101 Pacific Avenue\, Santa Cruz\, CA\, 95060
CATEGORIES:Undergraduate,Workshop
ATTACH;FMTTYPE=image/jpeg:https://events.ucsc.edu/wp-content/uploads/2026/02/housing-banner-05-1-1536x886-1.jpg
GEO:36.9719064;-122.025941
X-APPLE-STRUCTURED-LOCATION;VALUE=URI;X-ADDRESS=University Town Center 1101 Pacific Avenue Santa Cruz CA 95060;X-APPLE-RADIUS=500;X-TITLE=1101 Pacific Avenue:geo:-122.025941,36.9719064
END:VEVENT
END:VCALENDAR