BEGIN:VCALENDAR
VERSION:2.0
PRODID:-//Events - ECPv6.15.20//NONSGML v1.0//EN
CALSCALE:GREGORIAN
METHOD:PUBLISH
X-WR-CALNAME:Events
X-ORIGINAL-URL:https://events.ucsc.edu
X-WR-CALDESC:Events for Events
REFRESH-INTERVAL;VALUE=DURATION:PT1H
X-Robots-Tag:noindex
X-PUBLISHED-TTL:PT1H
BEGIN:VTIMEZONE
TZID:America/Los_Angeles
BEGIN:DAYLIGHT
TZOFFSETFROM:-0800
TZOFFSETTO:-0700
TZNAME:PDT
DTSTART:20250309T100000
END:DAYLIGHT
BEGIN:STANDARD
TZOFFSETFROM:-0700
TZOFFSETTO:-0800
TZNAME:PST
DTSTART:20251102T090000
END:STANDARD
BEGIN:DAYLIGHT
TZOFFSETFROM:-0800
TZOFFSETTO:-0700
TZNAME:PDT
DTSTART:20260308T100000
END:DAYLIGHT
BEGIN:STANDARD
TZOFFSETFROM:-0700
TZOFFSETTO:-0800
TZNAME:PST
DTSTART:20261101T090000
END:STANDARD
BEGIN:DAYLIGHT
TZOFFSETFROM:-0800
TZOFFSETTO:-0700
TZNAME:PDT
DTSTART:20270314T100000
END:DAYLIGHT
BEGIN:STANDARD
TZOFFSETFROM:-0700
TZOFFSETTO:-0800
TZNAME:PST
DTSTART:20271107T090000
END:STANDARD
END:VTIMEZONE
BEGIN:VEVENT
DTSTART;TZID=America/Los_Angeles:20260413T080000
DTEND;TZID=America/Los_Angeles:20260515T170000
DTSTAMP:20260420T002905
CREATED:20260214T011406Z
LAST-MODIFIED:20260415T142739Z
UID:10009233-1776067200-1778864400@events.ucsc.edu
SUMMARY:2026 Right Livelihood International Conference
DESCRIPTION:The Right Livelihood International Conference is a five-week global conference exploring how education can strengthen democracy\, collective intelligence\, and just futures. Bringing together Right Livelihood Laureates\, students\, faculty\, and community partners across continents\, the conference combines asynchronous learning with participatory dialogue and collaborative action. Rather than advocating specific outcomes\, the conference positions education as a democratic practice and the Right Livelihood College as a steward of dialogue\, student voice\, and long-term institutional learning. \nRegistration is free and open to the public. Sign up to receive conference updates\, session links\, and participation opportunities.
URL:https://events.ucsc.edu/event/2026-right-livelihood-international-conference/
LOCATION:
CATEGORIES:Film Screening,Lectures & Presentations,Meetings & Conferences,Ph.D. Presentations,Seminars,Social Gathering,Training,Undergraduate,Workshop
ATTACH;FMTTYPE=image/png:https://events.ucsc.edu/wp-content/uploads/2026/02/World-with-dots.png
END:VEVENT
BEGIN:VEVENT
DTSTART;TZID=America/Los_Angeles:20260422T153000
DTEND;TZID=America/Los_Angeles:20260422T170000
DTSTAMP:20260420T002905
CREATED:20260206T171155Z
LAST-MODIFIED:20260206T171155Z
UID:10009159-1776871800-1776877200@events.ucsc.edu
SUMMARY:Policing Belonging: The Politics of Immigration Enforcement
DESCRIPTION:The Legal Studies Program presents: Policing Belonging: The Politics of Immigration Enforcement. This year\, we will be hosting Professor Amada Armenta\, UCLA Director of Latino Policy and Politics Institute. In this talk\, Amada Armenta traces the policy and practice of immigration enforcement in the United States. Drawing on years of qualitative research with police officers\, bureaucrats\, and undocumented immigrants\, she examines how the politics of enforcement are enacted in everyday life—through discretionary decisions\, local collaborations\, and moral reasoning. Armenta shows how immigration enforcement generates moral tensions for those who carry it out and existential dilemmas for those forced to live within its reach\, revealing a system that exposes the uneven burdens of power and belonging. \n  \n2026 Distinguished Lecture (1) \n 
URL:https://events.ucsc.edu/event/policing-belonging-the-politics-of-immigration-enforcement/
LOCATION:Hay Barn\, 94 Ranch View Road\, Santa Cruz\, CA\, 95064\, United States
CATEGORIES:Lectures & Presentations,Undergraduate
GEO:36.9817736;-122.0569624
X-APPLE-STRUCTURED-LOCATION;VALUE=URI;X-ADDRESS=Hay Barn 94 Ranch View Road Santa Cruz CA 95064 United States;X-APPLE-RADIUS=500;X-TITLE=94 Ranch View Road:geo:-122.0569624,36.9817736
END:VEVENT
BEGIN:VEVENT
DTSTART;TZID=America/Los_Angeles:20260422T160000
DTEND;TZID=America/Los_Angeles:20260422T170000
DTSTAMP:20260420T002905
CREATED:20260410T185147Z
LAST-MODIFIED:20260410T215230Z
UID:10012101-1776873600-1776877200@events.ucsc.edu
SUMMARY:Economics Field Study Info Session
DESCRIPTION:The Economics Field Study program is back! \nAttend 1 of 2 information sessions on the Economics field study program: \nTuesday\, April 21\, 2026: 1:30-2:30pm \nWednesday\, April 22\, 2026: 4-5pm \nBoth sessions will be conducted by zoom (only). Registration is required to attend.  Please register  here. \nThe Economics field study program offers eligible economics majors an opportunity to earn academic credit while gaining valuable on-the-job experience with a local business or non-profit\, or an on-campus administrative office. These internship opportunities allow students to experience how what they’ve learned in the classroom can be applied in real-life situations. You will work with an economics faculty member on an academic project to earn academic credit.  \nThe information sessions will explain eligibility requirements and what is needed to obtain an internship and enroll in the field study program. The program is available summer term and each quarter of the academic year. Now is the time to be thinking about doing a field study in summer ‘26 or fall ‘26.  \nThe information sessions will be conducted by Professor Lori Kletzer\, economics field study program director. \nSee you on zoom on April 21 or 22!
URL:https://events.ucsc.edu/event/economics-field-study-info-session/2026-04-22/
LOCATION:https://ucsc.zoom.us/meeting/register/UXaYoB1VQzSm2M03scZ3ag#/registration
CATEGORIES:Undergraduate
ATTACH;FMTTYPE=image/jpeg:https://events.ucsc.edu/wp-content/uploads/2026/04/t-art.jpg
END:VEVENT
END:VCALENDAR