BEGIN:VCALENDAR
VERSION:2.0
PRODID:-//Events - ECPv6.15.20//NONSGML v1.0//EN
CALSCALE:GREGORIAN
METHOD:PUBLISH
X-WR-CALNAME:Events
X-ORIGINAL-URL:https://events.ucsc.edu
X-WR-CALDESC:Events for Events
REFRESH-INTERVAL;VALUE=DURATION:PT1H
X-Robots-Tag:noindex
X-PUBLISHED-TTL:PT1H
BEGIN:VTIMEZONE
TZID:America/Los_Angeles
BEGIN:DAYLIGHT
TZOFFSETFROM:-0800
TZOFFSETTO:-0700
TZNAME:PDT
DTSTART:20250309T100000
END:DAYLIGHT
BEGIN:STANDARD
TZOFFSETFROM:-0700
TZOFFSETTO:-0800
TZNAME:PST
DTSTART:20251102T090000
END:STANDARD
BEGIN:DAYLIGHT
TZOFFSETFROM:-0800
TZOFFSETTO:-0700
TZNAME:PDT
DTSTART:20260308T100000
END:DAYLIGHT
BEGIN:STANDARD
TZOFFSETFROM:-0700
TZOFFSETTO:-0800
TZNAME:PST
DTSTART:20261101T090000
END:STANDARD
BEGIN:DAYLIGHT
TZOFFSETFROM:-0800
TZOFFSETTO:-0700
TZNAME:PDT
DTSTART:20270314T100000
END:DAYLIGHT
BEGIN:STANDARD
TZOFFSETFROM:-0700
TZOFFSETTO:-0800
TZNAME:PST
DTSTART:20271107T090000
END:STANDARD
END:VTIMEZONE
BEGIN:VEVENT
DTSTART;TZID=America/Los_Angeles:20260224T103000
DTEND;TZID=America/Los_Angeles:20260224T113000
DTSTAMP:20260419T223332
CREATED:20260129T145348Z
LAST-MODIFIED:20260209T232106Z
UID:10009135-1771929000-1771932600@events.ucsc.edu
SUMMARY:Transform Your Future Pop-Up (Cookies Included!)
DESCRIPTION:Join Baskin Engineering to celebrate National Engineers Week with a sweet stop at the Transform Your Future Pop-Up (Cookies Included!) 🍪☕ \nThis year’s Engineers Week theme\, Transform Your Future\, is a powerful reminder that engineering doesn’t just shape our world—it shapes our opportunities\, our communities\, and the futures we can imagine for ourselves. \nSwing by the BE Courtyard to grab cookies\, coffee\, and BE swag (first come\, first served!) and take a moment to celebrate how you are transforming your future. \n📅 Date: Tuesday\, February 24⏰ Time: 10:30 a.m.📍 Location: BE Courtyard \nWe hope to see you there!
URL:https://events.ucsc.edu/event/transform-your-future-pop-up-cookies-included/
LOCATION:Jack Baskin Engineering\, Baskin Engineering 1156 High Street\, Santa Cruz\, CA\, 95064
CATEGORIES:Social Gathering,Undergraduate
ATTACH;FMTTYPE=image/jpeg:https://events.ucsc.edu/wp-content/uploads/2026/01/ChristineLaPhotography-CA-UCSantaCruz-StudentLife-Day1-04092025-02192-1-scaled.jpg
GEO:37.000369;-122.0632371
X-APPLE-STRUCTURED-LOCATION;VALUE=URI;X-ADDRESS=Jack Baskin Engineering Baskin Engineering 1156 High Street Santa Cruz CA 95064;X-APPLE-RADIUS=500;X-TITLE=Baskin Engineering 1156 High Street:geo:-122.0632371,37.000369
END:VEVENT
BEGIN:VEVENT
DTSTART;TZID=America/Los_Angeles:20260224T170000
DTEND;TZID=America/Los_Angeles:20260224T181500
DTSTAMP:20260419T223332
CREATED:20260130T054112Z
LAST-MODIFIED:20260209T231917Z
UID:10009138-1771952400-1771956900@events.ucsc.edu
SUMMARY:AI and Security 101
DESCRIPTION:Join us for an informative conversation with Neta Haiby\, Head of Product | AI Security at Microsoft! \nArtificial Intelligence is transforming both cyber defense and cyber offense. It creates unique risks in how we build\, deploy\, and operate AI apps and Agents. This session examines how AI can be attacked or misused – through techniques such as jailbreaks\, intent breaking\, and supply-chain compromise and discusses practical defense strategies\, including guardrails\, access controls\, monitoring\, and evaluation. \nDesigned for students interested in cybersecurity and AI\, this session emphasizes a practical understanding of AI security. \nAttendees will also receive resources to help them further explore and get started in the field! \nDon’t miss this highly informative event! \nYOU BELONG HERE\nPrograms and services are open to all\, consistent with state and federal law\, as well as the University of California’s nondiscrimination policies. Every initiative—whether a student service\, faculty program\, or community event—is designed to be accessible\, inclusive\, and respectful of all identities. To learn more\, please visit UC Nondiscrimination Statement or Nondiscrimination Policy for UC Publications.
URL:https://events.ucsc.edu/event/ai-and-security-101/
LOCATION:Engineering 2\, Engineering 2 1156 High Street\, Santa Cruz\, CA\, 95064
CATEGORIES:Undergraduate,Workshop
ATTACH;FMTTYPE=image/jpeg:https://events.ucsc.edu/wp-content/uploads/2026/01/Neta-Haiby.jpeg
GEO:37.0009723;-122.0632371
X-APPLE-STRUCTURED-LOCATION;VALUE=URI;X-ADDRESS=Engineering 2 Engineering 2 1156 High Street Santa Cruz CA 95064;X-APPLE-RADIUS=500;X-TITLE=Engineering 2 1156 High Street:geo:-122.0632371,37.0009723
END:VEVENT
BEGIN:VEVENT
DTSTART;TZID=America/Los_Angeles:20260226T120000
DTEND;TZID=America/Los_Angeles:20260226T140000
DTSTAMP:20260419T223332
CREATED:20260129T143555Z
LAST-MODIFIED:20260223T200828Z
UID:10009134-1772107200-1772114400@events.ucsc.edu
SUMMARY:BE Club Bash - Engineers Week
DESCRIPTION:Discover innovation at the Baskin Engineering Club Bash\, an event celebrating National Engineers Week! \nMark your calendars for Thursday\, February 26\, 12–2 PM in the BE Courtyard! The BE Club Bash brings together student organizations across all engineering disciplines to showcase their projects\, demos\, and interactive activities. \nStop by to: \n\nExplore hands-on booths and demonstrations from student organizations\nLearn about engineering opportunities on campus and how to get involved\nChat with student leaders and hear about their experiences\nEnter our 3D printer raffle (must be present to win!)\nGrab snacks and BE swag while you explore\n\nThis is a great way to connect with the engineering community\, discover new ideas\, and have fun. We hope to see you there! RSVP here.
URL:https://events.ucsc.edu/event/be-club-bash-engineers-week/
LOCATION:Jack Baskin Engineering\, Baskin Engineering 1156 High Street\, Santa Cruz\, CA\, 95064
CATEGORIES:Social Gathering,Undergraduate
ATTACH;FMTTYPE=image/jpeg:https://events.ucsc.edu/wp-content/uploads/2026/01/5-22-25-Slugworks-CL-049-3-scaled.jpg
GEO:37.000369;-122.0632371
X-APPLE-STRUCTURED-LOCATION;VALUE=URI;X-ADDRESS=Jack Baskin Engineering Baskin Engineering 1156 High Street Santa Cruz CA 95064;X-APPLE-RADIUS=500;X-TITLE=Baskin Engineering 1156 High Street:geo:-122.0632371,37.000369
END:VEVENT
END:VCALENDAR