BEGIN:VCALENDAR
VERSION:2.0
PRODID:-//Events - ECPv6.15.20//NONSGML v1.0//EN
CALSCALE:GREGORIAN
METHOD:PUBLISH
X-WR-CALNAME:Events
X-ORIGINAL-URL:https://events.ucsc.edu
X-WR-CALDESC:Events for Events
REFRESH-INTERVAL;VALUE=DURATION:PT1H
X-Robots-Tag:noindex
X-PUBLISHED-TTL:PT1H
BEGIN:VTIMEZONE
TZID:America/Los_Angeles
BEGIN:DAYLIGHT
TZOFFSETFROM:-0800
TZOFFSETTO:-0700
TZNAME:PDT
DTSTART:20250309T100000
END:DAYLIGHT
BEGIN:STANDARD
TZOFFSETFROM:-0700
TZOFFSETTO:-0800
TZNAME:PST
DTSTART:20251102T090000
END:STANDARD
BEGIN:DAYLIGHT
TZOFFSETFROM:-0800
TZOFFSETTO:-0700
TZNAME:PDT
DTSTART:20260308T100000
END:DAYLIGHT
BEGIN:STANDARD
TZOFFSETFROM:-0700
TZOFFSETTO:-0800
TZNAME:PST
DTSTART:20261101T090000
END:STANDARD
BEGIN:DAYLIGHT
TZOFFSETFROM:-0800
TZOFFSETTO:-0700
TZNAME:PDT
DTSTART:20270314T100000
END:DAYLIGHT
BEGIN:STANDARD
TZOFFSETFROM:-0700
TZOFFSETTO:-0800
TZNAME:PST
DTSTART:20271107T090000
END:STANDARD
END:VTIMEZONE
BEGIN:VEVENT
DTSTART;TZID=America/Los_Angeles:20260413T080000
DTEND;TZID=America/Los_Angeles:20260515T170000
DTSTAMP:20260423T021243
CREATED:20260214T011406Z
LAST-MODIFIED:20260415T142739Z
UID:10009233-1776067200-1778864400@events.ucsc.edu
SUMMARY:2026 Right Livelihood International Conference
DESCRIPTION:The Right Livelihood International Conference is a five-week global conference exploring how education can strengthen democracy\, collective intelligence\, and just futures. Bringing together Right Livelihood Laureates\, students\, faculty\, and community partners across continents\, the conference combines asynchronous learning with participatory dialogue and collaborative action. Rather than advocating specific outcomes\, the conference positions education as a democratic practice and the Right Livelihood College as a steward of dialogue\, student voice\, and long-term institutional learning. \nRegistration is free and open to the public. Sign up to receive conference updates\, session links\, and participation opportunities.
URL:https://events.ucsc.edu/event/2026-right-livelihood-international-conference/
LOCATION:
CATEGORIES:Film Screening,Lectures & Presentations,Meetings & Conferences,Ph.D. Presentations,Seminars,Social Gathering,Training,Undergraduate,Workshop
ATTACH;FMTTYPE=image/png:https://events.ucsc.edu/wp-content/uploads/2026/02/World-with-dots.png
END:VEVENT
BEGIN:VEVENT
DTSTART;TZID=America/Los_Angeles:20260512T180000
DTEND;TZID=America/Los_Angeles:20260512T193000
DTSTAMP:20260423T021243
CREATED:20260325T202436Z
LAST-MODIFIED:20260327T001715Z
UID:10011387-1778608800-1778614200@events.ucsc.edu
SUMMARY:Yoga as Healing Series
DESCRIPTION:Yoga as Healing is a 7-session trauma-informed yoga and mindfulness program hosted by UCSC’s CARE office. Spring Quarter classes will be held Tuesdays\, 6:00–7:30 p.m. from March 31–May 12. Classes are free for students. \nEach class facilitated by CARE Advocate Abbey Wise (she/ella)\, includes gentle\, trauma-informed movement\, breathwork\, meditation and reflective journaling to support survivors in reconnecting with their bodies\, building confidence and being present. Mats\, blocks\, blankets and journals are provided. Participants are encouraged to wear comfortable clothing and bring a water bottle. \nCARE aims to build a consistent group of 8-10 survivors who can attend all 7 classes to foster the community\, predictability and safety core to the trauma-informed structure of the program. \nIf you are interested in participating submit an application and a CARE Advocate will get back to you with further information. Location will be provided upon approval to participate. \nCheck out our schedule for the series: \n3/31   — Orientation and Intention\n4/7 — Safety & Grounding\n4/14   —Self-Care as Daily Practice\n4/21   — Embodied Boundaries\n4/28  — Self-Compassion\n5/5    — Inner Strength & Trust\n5/12  — Cultivating Community \nIf you have previously attended Yoga as Healing\, we would love to hear from you. Please complete our short\, anonymous survey —your feedback helps us grow and improve our programming.  \nYou Belong Here: The programs and services described here are open to all\, consistent with state and federal law\, as well as the University of California’s nondiscrimination policies. Every initiative—whether a student service\, faculty program\, or community event—is designed to be accessible\, inclusive\, and respectful of all identities. \nTo learn more\, please visit UC Nondiscrimination Statement or Nondiscrimination Policy for UC Publications. 
URL:https://events.ucsc.edu/event/yoga-as-healing/2026-05-12/
LOCATION:CA
CATEGORIES:Social Gathering,Undergraduate,Workshop
ATTACH;FMTTYPE=image/png:https://events.ucsc.edu/wp-content/uploads/2026/03/YAH-Calendar-image.png
END:VEVENT
BEGIN:VEVENT
DTSTART;TZID=America/Los_Angeles:20260513T120000
DTEND;TZID=America/Los_Angeles:20260513T190000
DTSTAMP:20260423T021243
CREATED:20260312T162246Z
LAST-MODIFIED:20260312T162246Z
UID:10011309-1778673600-1778698800@events.ucsc.edu
SUMMARY:Santa Cruz Launchpad Student Startup Competition & Job Fair
DESCRIPTION:The 10th annual Santa Cruz Launchpad event combines a student startup competition with a community career fair\, all under one roof! This year’s event takes place at the The Grove at the Santa Cruz Beach Boardwalk (400 Beach St\, Santa Cruz\, CA 95060) on Wednesday\, May 13\, 2026. \nThe first half of the day spotlights emerging startups in a live startup competition\, with cash prizes. The second half shifts into a job fair featuring 25+ local companies and 300+ opportunities\, including part-time roles\, full-time positions\, and internships. \nTHIS EVENT IS FREE AND OPEN TO THE PUBLIC TO ATTEND. ADVANCED REGISTRATION IS REQUIRED. \n\n\n\n\n\n\n\n\n2026 Schedule\n12-4pm: Student business plan pitches (open to the public) \n4-4:45pm: Employer Table Setup \n5-7pm: Job Fair + Networking (open to the public) \nStudent Startup Competition | 12-4pm \nFrom 1-4pm\, students will compete in a startup competition for cash prizes. The pitch competition portion of the event typically includes 12 student teams who each have five minutes each to deliver their pitches to a judge panel. Check out 2025 winners here. This year’s competition is open to both college and high school students in Santa Cruz County. If you are a student at UC Santa Cruz\, Cabrillo College or a high school student in Santa Cruz County or Pajaro Valley Unified School District and would like to compete\, click the button below. \nApplications are due Wednesday\, April 8\, 2026 at 5pm: https://bit.ly/4d9MaqW \nPitch Prize Categories for 2026  \n\n\n• Biotech/Health (QB3) = $5\,000\n• Social Impact = $5\,000\n• Technology = $5\,000\n• Main Street = $2\,000\n• Runners Up =  $500 each\n• People’s Choice Award = $2\,000\n• High School Award = $2\,000\n\n\n\n\n\n\n– Top winners eligible to participate in the SC Accelerates program.\n– All teams will receive Santa Cruz Works Perks Package by OneValley (Value $1M)\n\n– Every team that qualifies for the final round will receive a cash prize!\n\n\n\n\n\n\n\n\n\n\n\nJob Fair | 5-7pm \nFrom 5-7pm\, job seekers will have the opportunity to interact with 20+ local companies offering 200+ jobs and internships ranging from engineering to marketing\, healthcare\, project management\, sales\, customer support\, tech\, and more. \nThis event allows students\, job seekers\, and professionals of all experience levels and backgrounds the opportunity to show off their resumes\, find career opportunities\, and make new connections. There is no charge for job seekers to attend the job fair. The job fair is open to the public (you do not need to be a student or pitch contest participant to participate). But all attendees must register in advance! https://www.eventbrite.com/e/santa-cruz-launchpad-2026-tickets-1976673979082 \nPrevious employers included Joby Aviation\, Capstan Medica\, Paystand\, Santa Cruz Bicycles\, Cruz Foam\, Digital NEST\, Bay Federal Credit Union\, Mynt\, Central California Alliance for Health\, Unnatural Products\, Santa Cruz Seaside Company\, California Highway Patrol\, BMO\, PVUSD\, and more. \nA list of participating employers will be shared at the beginning of May. \n\n\n\n\nThis year’s event is proudly hosted by UCSC Center for Innovation and Development (CIED)\, UC Santa Cruz Innovation & Business Engagement Hub\, UCSC Career Success\, and UCSC QB3 Santa Cruz Works\, Cabrillo College\, \, Pajaro Valley Unified School District (PVUSD)\, and Santa Cruz County Office of Education (SCCOE)\, \n\n\n\n\n\n\n\nFree Attendee Registration\n\n\n\n\n\n\nEmployer Registration
URL:https://events.ucsc.edu/event/santa-cruz-launchpad-student-startup-competition-job-fair/
LOCATION:the Grove\, 400 Beach Street\, Santa Cruz\, CA\, 95060\, United States
CATEGORIES:Social Gathering,Undergraduate
ATTACH;FMTTYPE=image/png:https://events.ucsc.edu/wp-content/uploads/2026/03/LP26EventBrite.png
END:VEVENT
BEGIN:VEVENT
DTSTART;TZID=America/Los_Angeles:20260514T120000
DTEND;TZID=America/Los_Angeles:20260514T124500
DTSTAMP:20260423T021243
CREATED:20260325T185639Z
LAST-MODIFIED:20260325T185639Z
UID:10011379-1778760000-1778762700@events.ucsc.edu
SUMMARY:Time Management
DESCRIPTION:In this workshop\, you will: Learn the ways you can manage your time and avoid procrastination/burnout. \nThe Successful Slug Workshop series\, hosted by Learning Support Services Peer Coaches\, are open to all UCSC undergraduate students and focus on academic skills and tools to support your success as a student. At each workshop\, you will be introduced to a topic\, engage in active learning\, be given resources to begin implementing the same day\, and have an opportunity to learn more if you are interested. \nYou Belong Here: The programs and services described here are open to all\, consistent with state and federal law\, as well as the University of California’s nondiscrimination policies. Every initiative—whether a student service\, faculty program\, or community event—is designed to be accessible\, inclusive\, and respectful of all identities. \nTo learn more\, please visit UC Nondiscrimination Statement or Nondiscrimination Policy for UC Publications.
URL:https://events.ucsc.edu/event/time-management-2/
LOCATION:https://ucsc.zoom.us/j/7372922776?pwd=WXUag0pdlpMjibChAbciSUWsBiW3Oe.1
CATEGORIES:Undergraduate,Workshop
ATTACH;FMTTYPE=image/png:https://events.ucsc.edu/wp-content/uploads/2026/03/Successful-Slug-Workshop-Logo-1.png
END:VEVENT
BEGIN:VEVENT
DTSTART;TZID=America/Los_Angeles:20260515T130000
DTEND;TZID=America/Los_Angeles:20260515T134500
DTSTAMP:20260423T021243
CREATED:20260413T154431Z
LAST-MODIFIED:20260413T154431Z
UID:10012104-1778850000-1778852700@events.ucsc.edu
SUMMARY:Demystifying Failure: The Necessity of Mistakes
DESCRIPTION:In this workshop\, you will: In this workshop\, you will: Move from “failing” to “flourishing” by learning to reframe setbacks and build resilience in academia. \nThe Successful Slug Workshop series\, hosted by Learning Support Services Peer Coaches\, are open to all UCSC undergraduate students and focus on academic skills and tools to support your success as a student. At each workshop\, you will be introduced to a topic\, engage in active learning\, be given resources to begin implementing the same day\, and have an opportunity to learn more if you are interested. \nYou Belong Here: The programs and services described here are open to all\, consistent with state and federal law\, as well as the University of California’s nondiscrimination policies. Every initiative—whether a student service\, faculty program\, or community event—is designed to be accessible\, inclusive\, and respectful of all identities. \nTo learn more\, please visit UC Nondiscrimination Statement or Nondiscrimination Policy for UC Publications.
URL:https://events.ucsc.edu/event/demystifying-failure-the-necessity-of-mistakes/
LOCATION:Academic Resources Center (ARC)\, 408 McHenry Road\, Santa Cruz\, CA\, 95064
CATEGORIES:Undergraduate,Workshop
ATTACH;FMTTYPE=image/png:https://events.ucsc.edu/wp-content/uploads/2026/03/Successful-Slug-Workshop-Logo-1.png
GEO:36.9944159;-122.0593762
X-APPLE-STRUCTURED-LOCATION;VALUE=URI;X-ADDRESS=Academic Resources Center (ARC) 408 McHenry Road Santa Cruz CA 95064;X-APPLE-RADIUS=500;X-TITLE=408 McHenry Road:geo:-122.0593762,36.9944159
END:VEVENT
BEGIN:VEVENT
DTSTART;TZID=America/Los_Angeles:20260515T130000
DTEND;TZID=America/Los_Angeles:20260515T160000
DTSTAMP:20260423T021243
CREATED:20260306T005653Z
LAST-MODIFIED:20260310T233744Z
UID:10009405-1778850000-1778860800@events.ucsc.edu
SUMMARY:STEM Culture Festival
DESCRIPTION:Join us for a celebration of UCSC’s vibrant\, innovative\, and diverse STEM community featuring: \n\nMusical performances\nDance lessons\nSTEM-themed drag shows\nInspirational talks\nStudent organization tabling\nStudent-led games & activities\nFREE tacos\n\nThis is a rare opportunity for UCSC to come together at Baskin Engineering for an exuberant and colorful celebration – don’t miss out! \nThis event will be sponsored by Baskin Engineering\, the Women’s Center\, the Cantu Queer Center\, and the UC Santa Cruz Genomics Institute.
URL:https://events.ucsc.edu/event/stem-culture-festival-2026/
LOCATION:Jack Baskin Engineering\, Baskin Engineering 1156 High Street\, Santa Cruz\, CA\, 95064
CATEGORIES:Concerts,Performances,Social Gathering,Undergraduate
ATTACH;FMTTYPE=image/png:https://events.ucsc.edu/wp-content/uploads/2026/03/BE-STEM-Culture-Festival_Events-Calendar-scaled.png
GEO:37.000369;-122.0632371
X-APPLE-STRUCTURED-LOCATION;VALUE=URI;X-ADDRESS=Jack Baskin Engineering Baskin Engineering 1156 High Street Santa Cruz CA 95064;X-APPLE-RADIUS=500;X-TITLE=Baskin Engineering 1156 High Street:geo:-122.0632371,37.000369
END:VEVENT
END:VCALENDAR