BEGIN:VCALENDAR
VERSION:2.0
PRODID:-//Events - ECPv6.15.20//NONSGML v1.0//EN
CALSCALE:GREGORIAN
METHOD:PUBLISH
X-WR-CALNAME:Events
X-ORIGINAL-URL:https://events.ucsc.edu
X-WR-CALDESC:Events for Events
REFRESH-INTERVAL;VALUE=DURATION:PT1H
X-Robots-Tag:noindex
X-PUBLISHED-TTL:PT1H
BEGIN:VTIMEZONE
TZID:America/Los_Angeles
BEGIN:DAYLIGHT
TZOFFSETFROM:-0800
TZOFFSETTO:-0700
TZNAME:PDT
DTSTART:20240310T100000
END:DAYLIGHT
BEGIN:STANDARD
TZOFFSETFROM:-0700
TZOFFSETTO:-0800
TZNAME:PST
DTSTART:20241103T090000
END:STANDARD
BEGIN:DAYLIGHT
TZOFFSETFROM:-0800
TZOFFSETTO:-0700
TZNAME:PDT
DTSTART:20250309T100000
END:DAYLIGHT
BEGIN:STANDARD
TZOFFSETFROM:-0700
TZOFFSETTO:-0800
TZNAME:PST
DTSTART:20251102T090000
END:STANDARD
BEGIN:DAYLIGHT
TZOFFSETFROM:-0800
TZOFFSETTO:-0700
TZNAME:PDT
DTSTART:20260308T100000
END:DAYLIGHT
BEGIN:STANDARD
TZOFFSETFROM:-0700
TZOFFSETTO:-0800
TZNAME:PST
DTSTART:20261101T090000
END:STANDARD
END:VTIMEZONE
BEGIN:VEVENT
DTSTART;TZID=America/Los_Angeles:20251112T120000
DTEND;TZID=America/Los_Angeles:20251112T130000
DTSTAMP:20260422T234938
CREATED:20250923T070000Z
LAST-MODIFIED:20251001T224502Z
UID:10000270-1762948800-1762952400@events.ucsc.edu
SUMMARY:Engineering Teaching Community (Faculty)
DESCRIPTION:During the chaos of a quarter\, is it hard to find time to reflect and improve as an instructor? Would you like to be a part of an inclusive\, supportive group of engineering instructors who do this in community? ETC is for sharing teaching experiences\, classroom ideas\, research on learning\, and methods that support instructors and students. All are welcome\, and lunch is provided. Please reach out to Jenny Quynn with questions.
URL:https://events.ucsc.edu/event/engineering-teaching-community-faculty/2025-11-12/
LOCATION:Jack Baskin Engineering\, Baskin Engineering 1156 High Street\, Santa Cruz\, CA\, 95064
CATEGORIES:Meetings & Conferences,Training
ATTACH;FMTTYPE=image/jpeg:https://events.ucsc.edu/wp-content/uploads/2025/09/b19cd317e2122064e85e5d3d896b4e3426736249.jpg
GEO:37.000369;-122.0632371
X-APPLE-STRUCTURED-LOCATION;VALUE=URI;X-ADDRESS=Jack Baskin Engineering Baskin Engineering 1156 High Street Santa Cruz CA 95064;X-APPLE-RADIUS=500;X-TITLE=Baskin Engineering 1156 High Street:geo:-122.0632371,37.000369
END:VEVENT
BEGIN:VEVENT
DTSTART;TZID=America/Los_Angeles:20251112T120000
DTEND;TZID=America/Los_Angeles:20251112T170000
DTSTAMP:20260422T234938
CREATED:20251003T174320Z
LAST-MODIFIED:20251003T192055Z
UID:10000753-1762948800-1762966800@events.ucsc.edu
SUMMARY:Road Trip! Light in the American West\, from Baja to the Yukon
DESCRIPTION:The photographs in this exhibition\, made between 2004 and 2025\, span across the American West from the Baja California Peninsula in Mexico to The Yukon territory in Canada. Paul Schoellhamer’s (Cowell ‘69) color photographs invite us to travel with him and reflect on our relationship to land\, the light that shapes it\, and the freedom – contested but essential – to move across it. \nThe exhibition draws on voices across time and perspective that frame the American landscape as more than a stage for beauty and awe. For Chief Satanta of the Kiowa Nation\, to roam the land freely was life itself. For N. Scott Momaday\, land must be “believed to be seen.” For Eliot Porter\, light and reflection imparted magic to Glen Canyon’s waters. For Wallace Stegner\, saving natural places meant saving fragments of our collective sanity. For Brook M. Thompson\, the Klamath River is recognized with personhood. Alongside these perspectives\, Paul’s images press us to see public land not as scenery to extract or aestheticize\, but as sustenance and history. Land is alive and contested. To see closely is not to linger on a romanticized vision of the American landscape\, but to reckon with responsibility: how we safeguard access\, how we imagine “wildness\,” and how we hold space for futures beyond our own. For Paul\, this exhibition is a call for students to encounter land and light firsthand and let those encounters be their teachers. \nOpening Reception\nOctober 4\, 2025\n1-4pm \n—– \nJoin us every Friday for Art Fridays.\nNo experience necessary. Supplies and snacks provided. \n\nSep 26 Snail Mail/Postcards\nOct 3 Souvenir Keychains\nOct 10 Stamp Magnets\nOct 17 Cyanotype Totebags/Pouches/Pencil cases\nOct 24 Candy Around The World Linocuts\nOct 31 Abstract Felt Collages\nNov 7 Phone Photos/Buttons\nNov 14 Travel Related Patches With Upcycled Materials\nNov 21 Thanksgiving Break! No Art Friday\nNov 28 Unexpected Landscape Surrealist Collage\n\nPlease note that the date and the project is subject to change.
URL:https://events.ucsc.edu/event/road-trip-light-in-the-american-west-from-baja-to-the-yukon/2025-11-12/
LOCATION:Eloise Pickard Smith Gallery\, 11 Cowell Service Rd\, Santa Cruz\, CA\, 95064
CATEGORIES:Exhibits
ATTACH;FMTTYPE=image/png:https://events.ucsc.edu/wp-content/uploads/2025/10/IMG_4150sm.png
GEO:36.996399;-122.0527221
X-APPLE-STRUCTURED-LOCATION;VALUE=URI;X-ADDRESS=Eloise Pickard Smith Gallery 11 Cowell Service Rd Santa Cruz CA 95064;X-APPLE-RADIUS=500;X-TITLE=11 Cowell Service Rd:geo:-122.0527221,36.996399
END:VEVENT
BEGIN:VEVENT
DTSTART;TZID=America/Los_Angeles:20251112T121500
DTEND;TZID=America/Los_Angeles:20251112T131500
DTSTAMP:20260422T234938
CREATED:20251104T214537Z
LAST-MODIFIED:20251104T214537Z
UID:10005094-1762949700-1762953300@events.ucsc.edu
SUMMARY:Words That Impress: Creating a Great Résumé & Cover Letter
DESCRIPTION:Crafting a fantastic Resume and Cover Letter are the key to getting an interview and landing a job!  Join us for this informative workshop that will cover best practices for resume and cover letter development.  You’ll gain understanding about the perfect format\, navigating AI filters\, and how to write captivating resume bullet points and engaging cover letter paragraphs.  The presentation will be 30 minutes\, followed by 30 minutes of optional worktime here in our office with coaches to give you brief input. \nWe will provide captions for the presentation. If you have disability-related needs\, please contact the Career Success office at csuccess@ucsc.edu or (831) 459-4420 as soon as possible. \nYOU BELONG HERE\nPrograms and services are open to all\, consistent with state and federal law\, as well as the University of California’s nondiscrimination policies. Every initiative—whether a student service\, faculty program\, or community event—is designed to be accessible\, inclusive\, and respectful of all identities. To learn more\, please visit UC Nondiscrimination Statement or Nondiscrimination Policy for UC Publications.
URL:https://events.ucsc.edu/event/words-that-impress-creating-a-great-resume-cover-letter/
LOCATION:Career Success Student Lounge (125 Hahn)\, 1156 High Street\, Santa Cruz\, CA\, 95064\, United States
CATEGORIES:Workshop
ATTACH;FMTTYPE=image/png:https://events.ucsc.edu/wp-content/uploads/2025/10/Career-Success-Banner-with-Photos.png
GEO:36.9834948;-122.0564004
X-APPLE-STRUCTURED-LOCATION;VALUE=URI;X-ADDRESS=Career Success Student Lounge (125 Hahn) 1156 High Street Santa Cruz CA 95064 United States;X-APPLE-RADIUS=500;X-TITLE=1156 High Street:geo:-122.0564004,36.9834948
END:VEVENT
BEGIN:VEVENT
DTSTART;TZID=America/Los_Angeles:20251112T150000
DTEND;TZID=America/Los_Angeles:20251112T163000
DTSTAMP:20260422T234938
CREATED:20251016T200620Z
LAST-MODIFIED:20251117T233723Z
UID:10005001-1762959600-1762965000@events.ucsc.edu
SUMMARY:Visiting Theater Artists 2-Day Residency with Torange Yeghiazarian and Evren Odcikin from MENA
DESCRIPTION:Visiting theater artists from MENA Theater Makers Alliance—Torange Yeghiazarian and Evren Odcikin—and the Department of Performance\, Play & Design’s IRIS LAB invite attendees to participate in the 2-day residency\, including a conversation with the artists and a workshop. MENA’s mission is to amplify the voices of Middle Eastern and North African theater makers and expand how stories from and about these communities are told on U.S. stages. \nWed. Nov. 12\, 3:00 p.m.–4:30 p.m.\nDARC 108 (Digital Arts Research Center at UC Santa Cruz)\n“MENA Theater Makers Modeling Possibility and Resistance”\n– An Intergenerational conversation with Playwright\, Director\, Arts Leader Torange Yeghiazarian and Director\, Playwright\, and Arts Leader Evren Odcikin\n– Moderated by Lisa Marie Rollins\, Assistant Professor of Playwriting & Black Drama\, Department of Performance Play and Design and Artistic Director of The Iris Lab\n– This event will be live streamed for those who would prefer to attend online. \nThur. Nov 13\,  1:30–3:30 p.m.\nDARC 108 (Digital Arts Research Center at UC Santa Cruz)\n“Master Class: Theatrical Play\, Staging Language and Poetry Creative workshop”\n– for theater makers and interdisciplinary performance researchers with Torange Yeghiazarian and Evren Odcikin . \nADMISSION\n– FREE and open to the public\n– Donations to the IRIS LAB are welcomed and appreciated\n– Registration required\n– Wed. Nov 12: live streamed on Howlround Theater Commons; use THIS LINK to stream and join online.\n– Thu. Nov 13: registration is required for the Master Class/Workshop; Register online here \nPARKING\n– Parking by permit or ParkMobile\n– Arts Lot #126 is the closest parking lot to the event\n– Visitors with DMV placards or plates may park for free in DMV spaces\, Medical spaces\, or ParkMobile spaces without additional payment\, or in timed zones for longer than the posted time.\n– More information provided by UCSC Transportation & Parking Services (TAPS)\n—\nThis program is open to all members of the public consistent with state and federal law.
URL:https://events.ucsc.edu/event/torange-yeghiazarian-and-evren-odcikin-visiting-artist-residency/2025-11-12/
LOCATION:Digital Arts Research Center\, 407 McHenry Rd\, Santa Cruz\, CA\, 95064
CATEGORIES:Lectures & Presentations
ATTACH;FMTTYPE=image/png:https://events.ucsc.edu/wp-content/uploads/2025/10/PPD-artists-in-residency-e1761588571865.png
GEO:36.9939758;-122.0603902
X-APPLE-STRUCTURED-LOCATION;VALUE=URI;X-ADDRESS=Digital Arts Research Center 407 McHenry Rd Santa Cruz CA 95064;X-APPLE-RADIUS=500;X-TITLE=407 McHenry Rd:geo:-122.0603902,36.9939758
END:VEVENT
BEGIN:VEVENT
DTSTART;TZID=America/Los_Angeles:20251112T160000
DTEND;TZID=America/Los_Angeles:20251112T173000
DTSTAMP:20260422T234938
CREATED:20250913T070000Z
LAST-MODIFIED:20251004T015128Z
UID:10000166-1762963200-1762968600@events.ucsc.edu
SUMMARY:Book Talk with Winnie Wong—VMCC Series
DESCRIPTION:In this public talk\, Winnie Wong presents and discusses her most recent book\, The Many Names of Anonymity: Portraitists of the Canton Trade. She explores two countervailing urgencies in contemporary cultural politics: the drive to recognize all individuals as artists so that they may be granted the rights and privileges of authorship; and\, at the same time\, the inadequacy of the modern figure of “the artist” to contain the ingenuity\, imagination\, and originality of anonymous workers. It does so by focusing on a long marginalized but ubiquitous genre of painting: portraits produced by Chinese artisans in the port of Guangzhou for European merchants at the height of the Qing dynasty. In this relationship\, makers are anonymized\, while merchants’ lives are preserved in vivid detail\, but portraiture occasions the empirical scene of their encounter. This book charts a framework for understanding visual production and trade across overlapping imperial spaces\, and demonstrates how contemporary art historical inquiry can yet decouple authorial names from authorial works\, a step necessary to looking anew at anonymity\, multiplicity\, and the ingenuity of nameless artisans. \nWinnie Wong is a professor of rhetoric at the University of California\, Berkeley. She is an art historian with a special interest in fakes\, forgeries and counterfeits. \nThis event is presented as part of the Visual & Media Cultures Colloquium (VMCC) series.\n—\nADMISSION\n– Open seating/admission (no ticket or registration required)\n– FREE and open to the public.\n– Located at Porter College D245\n—\nFULL SCHEDULE OF EVENTS\n– Wed.\, Nov 12: Book Talk with Winnie Wong\n– Additional dates to be announced\n—\nPARKING\n– Lot 124 & 125 are the closest parking lots to the event\n– Parking by permit or ParkMobile\n– TAPS provides additional parking information\n—\nABOUT THE SERIES\nThis event is presented as part of the Visual & Media Cultures Colloquium (VMCC)\, an annual lecture series that brings cutting-edge scholars to speak on a broad range of subjects related to visual and media culture. The series is co-sponsored with the graduate programs in the History of Art & Visual Culture (HAVC) and the Film & Digital Media departments. Each year\, the students and a faculty coordinator are responsible for selecting\, inviting and hosting speakers from a list of suggested names submitted by their peers and HAVC faculty. Together they share the unique challenge and opportunity of creating a program that brings to campus an array of cutting-edge scholars to speak on a broad spectrum of subjects.\n—\nImage Credit: Peabody Essex Museum\n—\nThis program is open to all members of the public consistent with state and federal law.
URL:https://events.ucsc.edu/event/vmcc-winnie-wong/
LOCATION:Porter College\, D-Building\, Santa Cruz\, CA\, 95064
CATEGORIES:Lectures & Presentations
ATTACH;FMTTYPE=image/jpeg:https://events.ucsc.edu/wp-content/uploads/2025/09/337b884f972e3527e9c86e5e29c226701c418fa7.jpg
GEO:36.9923139;-122.0581762
X-APPLE-STRUCTURED-LOCATION;VALUE=URI;X-ADDRESS=Porter College D-Building Santa Cruz CA 95064;X-APPLE-RADIUS=500;X-TITLE=D-Building:geo:-122.0581762,36.9923139
END:VEVENT
BEGIN:VEVENT
DTSTART;TZID=America/Los_Angeles:20251112T160000
DTEND;TZID=America/Los_Angeles:20251112T180000
DTSTAMP:20260422T234938
CREATED:20251107T174906Z
LAST-MODIFIED:20251107T174906Z
UID:10005114-1762963200-1762970400@events.ucsc.edu
SUMMARY:Women In Academia
DESCRIPTION:Join the UCSC Women’s Center for Women in Academia featuring Dr. Cindy Wong (Global & Community Health\, Merrill College). This event highlights Dr. Wong’s journey as a woman of color into academia\, her path to becoming a lecturer\, and her ongoing research in planetary health\, sustainability\, and community-based public health. Through her story\, students will gain insight into nontraditional academic pathways and the impact of women scholars shaping inclusive and applied research. \nRSVP By: November 10th \nPlease email: srostami@ucsc.edu for accommodations and questions.
URL:https://events.ucsc.edu/event/women-in-academia/
LOCATION:Rachel Carson College Red Room
ATTACH;FMTTYPE=image/png:https://events.ucsc.edu/wp-content/uploads/2025/11/Women-in-academia-Cindy-Wong-invitation.png
END:VEVENT
BEGIN:VEVENT
DTSTART;TZID=America/Los_Angeles:20251112T191500
DTEND;TZID=America/Los_Angeles:20251112T204500
DTSTAMP:20260422T234938
CREATED:20251124T181650Z
LAST-MODIFIED:20251124T181650Z
UID:10005122-1762974900-1762980300@events.ucsc.edu
SUMMARY:Plenary Session for Crown Students: Chatbots on the Couch: AI\, Mental Health\, and the Ethics of Digital Empathy
DESCRIPTION:Location: Merrill/Crown Auditorium\nEvent Type: Panel Discussion / Plenary Session\nSponsor: Crown College\nOpen to: UCSC Students\, Faculty\, and Staff \n\nEvent Description: \nAs artificial intelligence increasingly shapes mental healthcare—from chatbots offering therapeutic support to algorithms detecting early signs of distress—we face urgent ethical questions about trust\, privacy\, bias\, and the future of human connection in care. \nJoin us for a compelling panel discussion featuring three distinguished experts who will explore the promises and perils of AI in mental health: \nPanelists: \nDr. Lisa A. Berkley – Director of Crown Resiliency Program and Founder Executive Director of the Center for Applied Values & Ethics in Advancing Technology (CAVEAT) at UCSC; Founder and President of the Institute for Inner Economy \nAlka Roy – Technology and product leader with deep expertise in Machine Learning/AI\, privacy\, and trust frameworks. Ms. Roy founded the Responsible Innovation Project\, serves on multiple open-source Responsible and Trusted AI committees\, and holds multiple patents for policy and security frameworks. She has received national recognition as a Rising Star and National Women of Color in Technology honoree. With degrees in both Electrical Engineering/Computer Science and an MFA in Creative Writing\, Ms. Roy brings a unique interdisciplinary perspective to questions of technology ethics and innovation. \nLinda MacDonald Glenn\, JD\, LLM\, Faculty at Crown College and co-founder of the Center for Applied Values and Ethics in Advancing Technologies (CAVEAT.UCSC.EDU) \nWhat We’ll Explore: \n\nWhen does AI complement human care\, and when does it replace it dangerously?\nHow do we address algorithmic bias in mental health interventions?\nWhat ethical guardrails are needed when bots mimic empathy?\nWho is accountable when AI-driven mental health tools cause harm?\n\nThis panel brings together perspectives from bioethics\, clinical practice\, student well-being\, and technology leadership to examine the real-world ethical challenges of AI deployment in mental healthcare—a topic of profound relevance given recent concerns about chatbot safety\, algorithmic bias\, and the commercialization of mental health technologies. \nThis event connects directly to critical questions about responsibility\, justice\, and the sociopolitical implications of emerging technologies. Come prepared to think critically about innovation that claims to heal—and to question whose interests are truly being served. \nAdmission: Free and open to the UCSC community \n 
URL:https://events.ucsc.edu/event/plenary-session-for-crown-students-chatbots-on-the-couch-ai-mental-health-and-the-ethics-of-digital-empathy/
LOCATION:Merrill Cultural Center\, 200 McLaughlin Dr\, Santa Cruz\, CA\, 95064
CATEGORIES:Social Gathering
ATTACH;FMTTYPE=image/png:https://events.ucsc.edu/wp-content/uploads/2025/11/Center-image-enhanced.png
GEO:36.999885;-122.0532636
X-APPLE-STRUCTURED-LOCATION;VALUE=URI;X-ADDRESS=Merrill Cultural Center 200 McLaughlin Dr Santa Cruz CA 95064;X-APPLE-RADIUS=500;X-TITLE=200 McLaughlin Dr:geo:-122.0532636,36.999885
END:VEVENT
END:VCALENDAR