BEGIN:VCALENDAR
VERSION:2.0
PRODID:-//Events - ECPv6.15.20//NONSGML v1.0//EN
CALSCALE:GREGORIAN
METHOD:PUBLISH
X-WR-CALNAME:Events
X-ORIGINAL-URL:https://events.ucsc.edu
X-WR-CALDESC:Events for Events
REFRESH-INTERVAL;VALUE=DURATION:PT1H
X-Robots-Tag:noindex
X-PUBLISHED-TTL:PT1H
BEGIN:VTIMEZONE
TZID:America/Los_Angeles
BEGIN:DAYLIGHT
TZOFFSETFROM:-0800
TZOFFSETTO:-0700
TZNAME:PDT
DTSTART:20260308T100000
END:DAYLIGHT
BEGIN:STANDARD
TZOFFSETFROM:-0700
TZOFFSETTO:-0800
TZNAME:PST
DTSTART:20261101T090000
END:STANDARD
BEGIN:DAYLIGHT
TZOFFSETFROM:-0800
TZOFFSETTO:-0700
TZNAME:PDT
DTSTART:20270314T100000
END:DAYLIGHT
BEGIN:STANDARD
TZOFFSETFROM:-0700
TZOFFSETTO:-0800
TZNAME:PST
DTSTART:20271107T090000
END:STANDARD
BEGIN:DAYLIGHT
TZOFFSETFROM:-0800
TZOFFSETTO:-0700
TZNAME:PDT
DTSTART:20280312T100000
END:DAYLIGHT
BEGIN:STANDARD
TZOFFSETFROM:-0700
TZOFFSETTO:-0800
TZNAME:PST
DTSTART:20281105T090000
END:STANDARD
END:VTIMEZONE
BEGIN:VEVENT
DTSTART;TZID=America/Los_Angeles:20270501T090000
DTEND;TZID=America/Los_Angeles:20270501T170000
DTSTAMP:20260421T124906
CREATED:20251009T203759Z
LAST-MODIFIED:20251014T225625Z
UID:10004473-1809162000-1809190800@events.ucsc.edu
SUMMARY:Summer Session Enrollment Open
DESCRIPTION:  \nSummer Session enrollment is now open! All continuing students can add classes in MyUCSC. Incoming students must register to enroll. Get ahead on your degree\, explore new subjects\, or catch up on requirements. Financial aid is available. Learn more and enroll at summer.ucsc.edu
URL:https://events.ucsc.edu/event/summer-session-enrollment-open/2027-05-01/
LOCATION:https://events.ucsc.edu/event/summer-session-enrollment-open/2027-05-01/
CATEGORIES:Lectures & Presentations
ATTACH;FMTTYPE=image/png:https://events.ucsc.edu/wp-content/uploads/2025/10/Events-Calendar-Enrollment-Open.png
END:VEVENT
END:VCALENDAR