BEGIN:VCALENDAR
VERSION:2.0
PRODID:-//Events - ECPv6.15.20//NONSGML v1.0//EN
CALSCALE:GREGORIAN
METHOD:PUBLISH
X-WR-CALNAME:Events
X-ORIGINAL-URL:https://events.ucsc.edu
X-WR-CALDESC:Events for Events
REFRESH-INTERVAL;VALUE=DURATION:PT1H
X-Robots-Tag:noindex
X-PUBLISHED-TTL:PT1H
BEGIN:VTIMEZONE
TZID:America/Los_Angeles
BEGIN:DAYLIGHT
TZOFFSETFROM:-0800
TZOFFSETTO:-0700
TZNAME:PDT
DTSTART:20240310T100000
END:DAYLIGHT
BEGIN:STANDARD
TZOFFSETFROM:-0700
TZOFFSETTO:-0800
TZNAME:PST
DTSTART:20241103T090000
END:STANDARD
BEGIN:DAYLIGHT
TZOFFSETFROM:-0800
TZOFFSETTO:-0700
TZNAME:PDT
DTSTART:20250309T100000
END:DAYLIGHT
BEGIN:STANDARD
TZOFFSETFROM:-0700
TZOFFSETTO:-0800
TZNAME:PST
DTSTART:20251102T090000
END:STANDARD
BEGIN:DAYLIGHT
TZOFFSETFROM:-0800
TZOFFSETTO:-0700
TZNAME:PDT
DTSTART:20260308T100000
END:DAYLIGHT
BEGIN:STANDARD
TZOFFSETFROM:-0700
TZOFFSETTO:-0800
TZNAME:PST
DTSTART:20261101T090000
END:STANDARD
BEGIN:DAYLIGHT
TZOFFSETFROM:-0800
TZOFFSETTO:-0700
TZNAME:PDT
DTSTART:20270314T100000
END:DAYLIGHT
BEGIN:STANDARD
TZOFFSETFROM:-0700
TZOFFSETTO:-0800
TZNAME:PST
DTSTART:20271107T090000
END:STANDARD
END:VTIMEZONE
BEGIN:VEVENT
DTSTART;TZID=America/Los_Angeles:20251216T180000
DTEND;TZID=America/Los_Angeles:20251216T190000
DTSTAMP:20260422T103057
CREATED:20251115T000146Z
LAST-MODIFIED:20251115T000146Z
UID:10005158-1765908000-1765911600@events.ucsc.edu
SUMMARY:Marketing Management Info Session
DESCRIPTION:Shape the future of marketing in the age of AI. \nAs digital transformation accelerates\, organizations need marketers who can blend creativity with data-driven insight. Learn how professionals in Silicon Valley use analytics\, automation\, and AI-powered tools to design integrated campaigns\, engage customers\, and measure real results. \nJoin Ly-Huong Pham\, Ph.D.\, M.B.A.\, chair of the UCSC Silicon Valley Extension Marketing Management program\, for an inside look at how our updated courses can help you strengthen your skills in marketing strategy\, digital media\, and performance analytics—equipping you to lead in today’s rapidly evolving marketplace. \nThis winter info session series is sponsored by the UCSC Silicon Valley Extension Marketing Management program. \nRegister today.
URL:https://events.ucsc.edu/event/marketing-management-info-session/
LOCATION:Silicon Valley Campus\, 3175 Bowers Avenue\, Santa Clara\, CA\, 95054\, United States
CATEGORIES:Lectures & Presentations,Meetings & Conferences,Training
ATTACH;FMTTYPE=image/png:https://events.ucsc.edu/wp-content/uploads/2025/11/SM-Cal-26-3.png
GEO:37.3796975;-121.9765484
X-APPLE-STRUCTURED-LOCATION;VALUE=URI;X-ADDRESS=Silicon Valley Campus 3175 Bowers Avenue Santa Clara CA 95054 United States;X-APPLE-RADIUS=500;X-TITLE=3175 Bowers Avenue:geo:-121.9765484,37.3796975
END:VEVENT
BEGIN:VEVENT
DTSTART;TZID=America/Los_Angeles:20251217T180000
DTEND;TZID=America/Los_Angeles:20251217T190000
DTSTAMP:20260422T103057
CREATED:20251125T231007Z
LAST-MODIFIED:20251125T231007Z
UID:10005647-1765994400-1765998000@events.ucsc.edu
SUMMARY:Pre-College Program Info Session
DESCRIPTION:Learn more about UCSC Pre-College Programs\nDiscover what’s possible in Summer 2026! Join us for a one-hour online info session to learn about our Pre-College Programs\, including courses\, eligibility\, and how students can get a head start on college and career pathways. \nRegister today.
URL:https://events.ucsc.edu/event/pre-college-program-info-session/
LOCATION:Silicon Valley Campus\, 3175 Bowers Avenue\, Santa Clara\, CA\, 95054\, United States
CATEGORIES:Lectures & Presentations,Meetings & Conferences,Training
ATTACH;FMTTYPE=image/png:https://events.ucsc.edu/wp-content/uploads/2025/11/SM-Cal-43.png
GEO:37.3796975;-121.9765484
X-APPLE-STRUCTURED-LOCATION;VALUE=URI;X-ADDRESS=Silicon Valley Campus 3175 Bowers Avenue Santa Clara CA 95054 United States;X-APPLE-RADIUS=500;X-TITLE=3175 Bowers Avenue:geo:-121.9765484,37.3796975
END:VEVENT
BEGIN:VEVENT
DTSTART;TZID=America/Los_Angeles:20251218T193000
DTEND;TZID=America/Los_Angeles:20251218T213000
DTSTAMP:20260422T103057
CREATED:20251031T224346Z
LAST-MODIFIED:20251107T205714Z
UID:10005021-1766086200-1766093400@events.ucsc.edu
SUMMARY:A Celtic Christmas
DESCRIPTION:A winter holiday celebration of Irish music\, dance\, song\, and storytelling. A Celtic Christmas is now in its 30th year touring nationally. Rekindle the flame in the hearth ​with stories\, music\, song and dance from the rich treasury of Ireland’s cultural heritage. Spend an evening with native Irish storyteller Tomáseen Foley and some of the most gifted Celtic musicians\, dancers and singers performing anywhere today\, both sides of the Atlantic. Thanks to the Celtic Society of the Monterey for their support.\n—\nADMISSION\n– General admission $55.20; Celtic Society Member Discount $49.87.\n– Tickets available HERE online through Eventbrite only.\n– Doors are scheduled to open 30 minutes prior to event start time.\n—\nPARKING\n– Parking by permit\, ParkMobile\, or $5 cash/check/credit via the onsite parking attendant in Lot 126\n– Arts Lot #126 is the closest parking lot to the event\n– Visitors with DMV placards or plates may park for free in DMV spaces\, Medical spaces\, or ParkMobile spaces without additional payment\, or in timed zones for longer than the posted time.\n– More information provided by UCSC Transportation & Parking Services (TAPS)\n—\nThis program is open to all members of the public consistent with state and federal law. \n  \n  \n 
URL:https://events.ucsc.edu/event/celtic-christmas-2025/
LOCATION:Music Center Recital Hall\, 400 McHenry Road\, Santa Cruz\, CA\, 95064
CATEGORIES:Concerts,Performances
ATTACH;FMTTYPE=image/jpeg:https://events.ucsc.edu/wp-content/uploads/2025/10/Alyssa-cetner-stage-e1762201103901.jpeg
GEO:36.9924036;-122.0619475
X-APPLE-STRUCTURED-LOCATION;VALUE=URI;X-ADDRESS=Music Center Recital Hall 400 McHenry Road Santa Cruz CA 95064;X-APPLE-RADIUS=500;X-TITLE=400 McHenry Road:geo:-122.0619475,36.9924036
END:VEVENT
BEGIN:VEVENT
DTSTART;TZID=America/Los_Angeles:20251224T120000
DTEND;TZID=America/Los_Angeles:20251224T130000
DTSTAMP:20260422T103057
CREATED:20250923T070000Z
LAST-MODIFIED:20251001T224502Z
UID:10000273-1766577600-1766581200@events.ucsc.edu
SUMMARY:Engineering Teaching Community (Faculty)
DESCRIPTION:During the chaos of a quarter\, is it hard to find time to reflect and improve as an instructor? Would you like to be a part of an inclusive\, supportive group of engineering instructors who do this in community? ETC is for sharing teaching experiences\, classroom ideas\, research on learning\, and methods that support instructors and students. All are welcome\, and lunch is provided. Please reach out to Jenny Quynn with questions.
URL:https://events.ucsc.edu/event/engineering-teaching-community-faculty/2025-12-24/
LOCATION:Jack Baskin Engineering\, Baskin Engineering 1156 High Street\, Santa Cruz\, CA\, 95064
CATEGORIES:Meetings & Conferences,Training
ATTACH;FMTTYPE=image/jpeg:https://events.ucsc.edu/wp-content/uploads/2025/09/b19cd317e2122064e85e5d3d896b4e3426736249.jpg
GEO:37.000369;-122.0632371
X-APPLE-STRUCTURED-LOCATION;VALUE=URI;X-ADDRESS=Jack Baskin Engineering Baskin Engineering 1156 High Street Santa Cruz CA 95064;X-APPLE-RADIUS=500;X-TITLE=Baskin Engineering 1156 High Street:geo:-122.0632371,37.000369
END:VEVENT
BEGIN:VEVENT
DTSTART;TZID=America/Los_Angeles:20251230T120000
DTEND;TZID=America/Los_Angeles:20251230T130000
DTSTAMP:20260422T103057
CREATED:20251020T153301Z
LAST-MODIFIED:20251020T153514Z
UID:10004922-1767096000-1767099600@events.ucsc.edu
SUMMARY:Western Regional Hub: Undergraduate Success Group Meeting
DESCRIPTION:Members of the hub’s working group focused on Undergraduate student success will meet to share ideas and strategize. \nIf you would like to be involved in the hub’s work\, please contact Richard Raygoza at riraygoz@ucsc.edu
URL:https://events.ucsc.edu/event/western-regional-hub-undergraduate-success-group-meeting-2/2025-12-30/
LOCATION:CA
CATEGORIES:Meetings & Conferences
ATTACH;FMTTYPE=image/jpeg:https://events.ucsc.edu/wp-content/uploads/2025/09/53bc59bdf9fc021d6d67b4480aa04ebf277eb2f5.jpg
END:VEVENT
BEGIN:VEVENT
DTSTART;TZID=America/Los_Angeles:20260103T110000
DTEND;TZID=America/Los_Angeles:20260103T120000
DTSTAMP:20260422T103057
CREATED:20251211T171734Z
LAST-MODIFIED:20251211T171734Z
UID:10005654-1767438000-1767441600@events.ucsc.edu
SUMMARY:First Saturday Tour at the Arboretum
DESCRIPTION:First Saturday Tours are a wonderful way to introduce yourself to the Arboretum or to deepen your knowledge of the Arboretum’s plant collections. Each tour is a little different depending on the time of year\, the interests of the tour guide\, and the people who join in. For example\, you might learn about the birds and mammals that make this land their home or about the amazing physical adaptations that plants have evolved to better deal with our extreme weather and climate conditions. Tours are free with paid admission.
URL:https://events.ucsc.edu/event/first-saturday-tour-at-the-arboretum/2026-01-03/
LOCATION:Arboretum\, 122 Arboretum Road\, Santa Cruz\, CA\, 95064
CATEGORIES:Lectures & Presentations
GEO:36.9838652;-122.0609079
X-APPLE-STRUCTURED-LOCATION;VALUE=URI;X-ADDRESS=Arboretum 122 Arboretum Road Santa Cruz CA 95064;X-APPLE-RADIUS=500;X-TITLE=122 Arboretum Road:geo:-122.0609079,36.9838652
END:VEVENT
END:VCALENDAR