BEGIN:VCALENDAR
VERSION:2.0
PRODID:-//Events - ECPv6.15.20//NONSGML v1.0//EN
CALSCALE:GREGORIAN
METHOD:PUBLISH
X-WR-CALNAME:Events
X-ORIGINAL-URL:https://events.ucsc.edu
X-WR-CALDESC:Events for Events
REFRESH-INTERVAL;VALUE=DURATION:PT1H
X-Robots-Tag:noindex
X-PUBLISHED-TTL:PT1H
BEGIN:VTIMEZONE
TZID:America/Los_Angeles
BEGIN:DAYLIGHT
TZOFFSETFROM:-0800
TZOFFSETTO:-0700
TZNAME:PDT
DTSTART:20250309T100000
END:DAYLIGHT
BEGIN:STANDARD
TZOFFSETFROM:-0700
TZOFFSETTO:-0800
TZNAME:PST
DTSTART:20251102T090000
END:STANDARD
BEGIN:DAYLIGHT
TZOFFSETFROM:-0800
TZOFFSETTO:-0700
TZNAME:PDT
DTSTART:20260308T100000
END:DAYLIGHT
BEGIN:STANDARD
TZOFFSETFROM:-0700
TZOFFSETTO:-0800
TZNAME:PST
DTSTART:20261101T090000
END:STANDARD
BEGIN:DAYLIGHT
TZOFFSETFROM:-0800
TZOFFSETTO:-0700
TZNAME:PDT
DTSTART:20270314T100000
END:DAYLIGHT
BEGIN:STANDARD
TZOFFSETFROM:-0700
TZOFFSETTO:-0800
TZNAME:PST
DTSTART:20271107T090000
END:STANDARD
END:VTIMEZONE
BEGIN:VEVENT
DTSTART;TZID=America/Los_Angeles:20260213T180000
DTEND;TZID=America/Los_Angeles:20260213T200000
DTSTAMP:20260424T002032
CREATED:20251216T231948Z
LAST-MODIFIED:20251216T231948Z
UID:10005857-1771005600-1771012800@events.ucsc.edu
SUMMARY:Honoring Our Relatives: Amah Mutsun Botanical Illustrations
DESCRIPTION:Join us Friday February 13th at the Santa Cruz Museum of Art and History from 6:00-8:00pm for the opening reception of Honoring Our Relatives\, Amah Mutsun Botanical Illustrations\, an exhibition celebrating kinship with plants and people\, with plant artwork from an intergenerational cohort of Amah Mutsun tribal members and UCSC student artists.
URL:https://events.ucsc.edu/event/honoring-our-relatives-amah-mutsun-botanical-illustrations/
LOCATION:Museum of Art & History\, 705 Front St\, Santa Cruz\, CA\, 95060\, United States
GEO:36.9745675;-122.0253376
X-APPLE-STRUCTURED-LOCATION;VALUE=URI;X-ADDRESS=Museum of Art & History 705 Front St Santa Cruz CA 95060 United States;X-APPLE-RADIUS=500;X-TITLE=705 Front St:geo:-122.0253376,36.9745675
END:VEVENT
BEGIN:VEVENT
DTSTART;TZID=America/Los_Angeles:20260213T190000
DTEND;TZID=America/Los_Angeles:20260213T200000
DTSTAMP:20260424T002032
CREATED:20260203T212119Z
LAST-MODIFIED:20260203T212119Z
UID:10009152-1771009200-1771012800@events.ucsc.edu
SUMMARY:Info Session: Global Seminar Travel Writing and Podcasting in Ireland
DESCRIPTION:Learn more at our upcoming Information Session: Friday\, February 13\, 2026\, from 7:00-8:00 p.m. via Zoom. \nRegister Here.  \nEarn 11 units on a summer program on the Global Seminar Travel Writing and Podcasting in Dingle\, Ireland this summer. This program is taught by Steve Coulter\, Writing Program Continuing Lecturer\, and Rachel Anne Goodman\, Community Studies Lecturer.  \nQuick Facts: \n\nLocation: Dingle\, Ireland\nCourses:\nWriting 2 GS: Rhetoric and Inquiry: Research and Travel Writing in Ireland (6 units)- satisfies GE composition requirement\nCrown 98B: Podcasting: Digital Storytelling (5 units) – satisfies the Interpreting Arts and Media (IM) requirement\nLed by: Steve Coulter and Rachel Goodman\nEligibility: Open to students from any major who have completed 45 units by the time of departure\, have a minimum of a 2.3 GPA\, and have completed College 1 or Entry Level Writing Requirement\nDates: Summer Session 1 (Exact dates to be announced)\nFinances: Financial aid applies\, and scholarships are available! Budget will be posted on the website when it is available.\nHow to apply: Visit here for instructions. Applications open on December 1 and close on March 2.\nGet in touch: Email your questions to globallearning@ucsc.edu.\n\nProgram Description: \nComplete two of your GE requirements this summer in the lively town of Dingle\, County Kerry! \nWriting 2 satisfies your Composition requirement\, and Podcasting: Digital Storytelling satisfies your Interpreting Arts and Media (IM) requirement. Located in the far southwest corner of Ireland\, Dingle retains its traditional\, rural culture and offers a glimpse into life from another time. Here\, prehistoric stone circles stand beside state-of-the-art tech centers\, and there’s always something going on. Whether you’re fascinated by prehistoric megaliths\, love the sound of fiddles and bagpipes\, or are eager to climb the highest mountains in Ireland\, Dingle has it all! \nCheck out this student-produced video from 2022 alum Amanda Knox\, and Click Here to hear more about the experiences of other UCSC students who have completed this incredible program in the last couple of years.
URL:https://events.ucsc.edu/event/info-session-global-seminar-travel-writing-and-podcasting-in-ireland-2/
LOCATION:CA
ATTACH;FMTTYPE=image/png:https://events.ucsc.edu/wp-content/uploads/2026/02/Screenshot-2025-11-07-at-11.48.43-AM.png
END:VEVENT
END:VCALENDAR