BEGIN:VCALENDAR
VERSION:2.0
PRODID:-//Events - ECPv6.15.20//NONSGML v1.0//EN
CALSCALE:GREGORIAN
METHOD:PUBLISH
X-WR-CALNAME:Events
X-ORIGINAL-URL:https://events.ucsc.edu
X-WR-CALDESC:Events for Events
REFRESH-INTERVAL;VALUE=DURATION:PT1H
X-Robots-Tag:noindex
X-PUBLISHED-TTL:PT1H
BEGIN:VTIMEZONE
TZID:America/Los_Angeles
BEGIN:DAYLIGHT
TZOFFSETFROM:-0800
TZOFFSETTO:-0700
TZNAME:PDT
DTSTART:20240310T100000
END:DAYLIGHT
BEGIN:STANDARD
TZOFFSETFROM:-0700
TZOFFSETTO:-0800
TZNAME:PST
DTSTART:20241103T090000
END:STANDARD
BEGIN:DAYLIGHT
TZOFFSETFROM:-0800
TZOFFSETTO:-0700
TZNAME:PDT
DTSTART:20250309T100000
END:DAYLIGHT
BEGIN:STANDARD
TZOFFSETFROM:-0700
TZOFFSETTO:-0800
TZNAME:PST
DTSTART:20251102T090000
END:STANDARD
BEGIN:DAYLIGHT
TZOFFSETFROM:-0800
TZOFFSETTO:-0700
TZNAME:PDT
DTSTART:20260308T100000
END:DAYLIGHT
BEGIN:STANDARD
TZOFFSETFROM:-0700
TZOFFSETTO:-0800
TZNAME:PST
DTSTART:20261101T090000
END:STANDARD
END:VTIMEZONE
BEGIN:VEVENT
DTSTART;TZID=America/Los_Angeles:20250924T100000
DTEND;TZID=America/Los_Angeles:20250924T100000
DTSTAMP:20260419T183032
CREATED:20250924T213036Z
LAST-MODIFIED:20250924T213036Z
UID:10000136-1758708000-1758708000@events.ucsc.edu
SUMMARY:2025 Student Employment & Work-Study Fair
DESCRIPTION:Here is a chance to meet on-campus recruiters in person! \nLooking for an on-campus and/or work-study role? Network with on-campus departments actively searching for new student employees\, including a key focus on employers offering work-study positions. Students from all class levels and disciplines are encouraged to attend. \nPLEASE NOTE: You are encouraged to check in at the student registration table in order to participate in the career fair. Bring your student ID. \nWant more support? \n\nVisit a peer coach during drop-in hours\nSchedule a career coaching appointment with a Career Engagement Specialist\nStay in the loop by following Career Success on Instagram\n\nYou will receive registration and additional information in your email from Career Success via Handshake. Please make sure to check your junk/spam folder if you are not receiving any communication. \nYou Belong Here: The programs and services described here are open to all\, consistent with state and federal law\, as well as the University of California’s nondiscrimination policies. Every initiative—whether a student service\, faculty program\, or community event—is designed to be accessible\, inclusive\, and respectful of all identities. \nTo learn more\, please visit UC Nondiscrimination Statement or Nondiscrimination Policy for UC Publications. \nQuestions? Send to csuccess@ucsc.edu or visit Career Success at Hahn 125 East Entrance.\nNeed accessibility support? Let us know at slugtalent@ucsc.edu at least two weeks prior to the fair date.
URL:https://events.ucsc.edu/event/2025-student-employment-work-study-fair/
LOCATION:Quarry Plaza\, Student Union\, Santa Cruz\, CA\, 95064
CATEGORIES:Exhibits,Meetings & Conferences
GEO:36.997868;-122.0559724
X-APPLE-STRUCTURED-LOCATION;VALUE=URI;X-ADDRESS=Quarry Plaza Student Union Santa Cruz CA 95064;X-APPLE-RADIUS=500;X-TITLE=Student Union:geo:-122.0559724,36.997868
END:VEVENT
BEGIN:VEVENT
DTSTART;TZID=America/Los_Angeles:20250924T100000
DTEND;TZID=America/Los_Angeles:20250924T100000
DTSTAMP:20260419T183032
CREATED:20250915T070000Z
LAST-MODIFIED:20250925T231653Z
UID:10000179-1758708000-1758708000@events.ucsc.edu
SUMMARY:Get Experience: Student Employment and Work-Study Fair
DESCRIPTION:Looking for an on-campus and/or work-study role? Network with on-campus departments actively searching for new student employees\, including a key focus on employers offering work-study positions. Students from all class levels and disciplines are encouraged to attend. \nPlease contact slugtalent@ucsc.edu if you need accessibility support at least two weeks prior to the fair date. \nYou Belong Here: The programs and services described here are open to all\, consistent with state and federal law\, as well as the University of California’s nondiscrimination policies. Every initiative—whether a student service\, faculty program\, or community event—is designed to be accessible\, inclusive\, and respectful of all identities.
URL:https://events.ucsc.edu/event/get-experience-student-employment-and-work-study-fair/
LOCATION:Quarry Plaza\, Student Union\, Santa Cruz\, CA\, 95064
GEO:36.997868;-122.0559724
X-APPLE-STRUCTURED-LOCATION;VALUE=URI;X-ADDRESS=Quarry Plaza Student Union Santa Cruz CA 95064;X-APPLE-RADIUS=500;X-TITLE=Student Union:geo:-122.0559724,36.997868
END:VEVENT
BEGIN:VEVENT
DTSTART;TZID=America/Los_Angeles:20250924T200000
DTEND;TZID=America/Los_Angeles:20250924T200000
DTSTAMP:20260419T183032
CREATED:20250915T070000Z
LAST-MODIFIED:20250925T231436Z
UID:10000169-1758744000-1758744000@events.ucsc.edu
SUMMARY:International Fall Welcome
DESCRIPTION:Celebrate the start of the year with our international community! All students\, scholars\, staff\, and faculty are welcome to join us for an evening of activities and refreshments. Student organizations will also be present to connect with new students. \nNo RSVP needed.
URL:https://events.ucsc.edu/event/international-fall-welcome-3413/
LOCATION:Colleges Nine and John R. Lewis College Multi-purpose Room\, 615 College Nine Road\, Santa Cruz\, CA\, 95064
CATEGORIES:Meetings & Conferences
GEO:37.0009703;-122.0577323
X-APPLE-STRUCTURED-LOCATION;VALUE=URI;X-ADDRESS=Colleges Nine and John R. Lewis College Multi-purpose Room 615 College Nine Road Santa Cruz CA 95064;X-APPLE-RADIUS=500;X-TITLE=615 College Nine Road:geo:-122.0577323,37.0009703
END:VEVENT
BEGIN:VEVENT
DTSTART;TZID=America/Los_Angeles:20250925T090000
DTEND;TZID=America/Los_Angeles:20250925T090000
DTSTAMP:20260419T183033
CREATED:20250915T070000Z
LAST-MODIFIED:20250925T231654Z
UID:10000181-1758790800-1758790800@events.ucsc.edu
SUMMARY:First Day of School Photos
DESCRIPTION:Staff from the Division of Student Affairs and Success will be out on campus to celebrate the first day of classes with treats and photo opportunities. Stop by one of the locations below to grab a sweet treat and take your First Day of School photo! \n\nScience & Engineering Library and general Science Hill area\nHumanities/Cowell/ Stevenson Area\nQuarry Plaza/Classroom Unit 2\nMcHenry Library\nKresge Academic Building
URL:https://events.ucsc.edu/event/first-day-of-school-photos/
ATTACH;FMTTYPE=image/jpeg:https://events.ucsc.edu/wp-content/uploads/2025/09/dabff88e5fc83a29b65f4665762345ff81fb0413.jpg
END:VEVENT
BEGIN:VEVENT
DTSTART;TZID=America/Los_Angeles:20250925T100000
DTEND;TZID=America/Los_Angeles:20250925T100000
DTSTAMP:20260419T183033
CREATED:20250827T070000Z
LAST-MODIFIED:20250925T231638Z
UID:10000135-1758794400-1758794400@events.ucsc.edu
SUMMARY:Tailor Your Resume for Success (Drop-in Session)
DESCRIPTION:Join us to receive feedback on your resume and gain tips on tailoring it for success. You will get 1-on-1 feedback from our Career Success team. If you don't already have a resume\, join us to learn how to get started. \nWhile you're here\, you can enjoy snacks in our open house to learn more about programs and services that support your career journey from day one. It’s never too early to start planning for your future. \nYou Belong Here: The programs and services described here are open to all\, consistent with state and federal law\, as well as the University of California’s nondiscrimination policies. Every initiative—whether a student service\, faculty program\, or community event—is designed to be accessible\, inclusive\, and respectful of all identities. \nTo learn more\, please visit UC Nondiscrimination Statement or Nondiscrimination Policy for UC Publications.
URL:https://events.ucsc.edu/event/tailor-your-resume-for-success-drop-in-session/
CATEGORIES:Training
ATTACH;FMTTYPE=image/jpeg:https://events.ucsc.edu/wp-content/uploads/2025/09/9e73b5bf30ed803362fce6913c651f32384a766c.jpg
END:VEVENT
BEGIN:VEVENT
DTSTART;TZID=America/Los_Angeles:20250925T114000
DTEND;TZID=America/Los_Angeles:20250925T114000
DTSTAMP:20260419T183033
CREATED:20250919T070000Z
LAST-MODIFIED:20250925T231705Z
UID:10000209-1758800400-1758800400@events.ucsc.edu
SUMMARY:BME 280B Seminar: Applying a translational research framework to understand PFAS exposures and health risks
DESCRIPTION:Presenter: Dr. Max Aung\, Assistant Professor of Environmental Health\, USC Keck School of Medicine \nDescription: Per and poly-fluoroalkyl substances (PFAS) are a group of industrial chemicals that are ubiquitous in the environment and in humans. The National Academies of Science\, Engineering\, and Medicine\, have identified PFAS as an important environmental risk factor for various chronic health conditions\, including cancer and metabolic disorders. Contaminated drinking water is one source of human PFAS exposure\, specifically for communities within East and South Los Angeles (LA) that have multiple point sources of PFAS (e.g. metal plating facilities and textile industries). Importantly\, the CalEnviroScreen 4.0 indicates that many neighborhoods in East and South LA have high pollution burden overlapping with high PFAS contamination in public water systems. \nThis presentation will highlight key translational environmental health projects in our USC ShARP Superfund Research Center that have been instrumental for increasing knowledge of PFAS exposures and health risks and strengthening community engagement for science and policy translation. I will outline how our team has utilized basic experimental models to complement epidemiologic studies\, leveraging multi-omics data integration to uncover biological mechanisms. Building on this\, I will illustrate how we have developed community and multi-sector partnerships to inform exposure assessment and science translation to address local PFAS contamination. \nBio: Max Aung is an Assistant Professor of Environmental Health at the USC Keck School of Medicine. He holds leadership roles as Director of the Translational Research Core in the USC Southern California Environmental Health Sciences Center and as Director of Community Engagement in the USC ShARP Superfund Research Center and the USC Center for Translational Exposomics Research. He is also a current Harvard JPB Environmental Health Fellow. Max’s research program focuses on investigating biological mechanisms linking environmental exposures to maternal and child health outcomes. He uses translational approaches to advance environmental health research\, including experimental models\, epidemiological studies\, community-engagement\, and science communication and policy translation. \nHosted by: Marina Ramon\, Director of Genomics Training Programs for the Genomics Institute
URL:https://events.ucsc.edu/event/bme-280b-seminar-applying-a-translational-research-framework-to-understand-pfas-exposures-and-health-risks/
LOCATION:Physical Sciences Building\, Physical Sciences Building\, Santa Cruz\, CA\, 95064
CATEGORIES:Lectures & Presentations
GEO:36.9996638;-122.0618552
X-APPLE-STRUCTURED-LOCATION;VALUE=URI;X-ADDRESS=Physical Sciences Building Physical Sciences Building Santa Cruz CA 95064;X-APPLE-RADIUS=500;X-TITLE=Physical Sciences Building:geo:-122.0618552,36.9996638
END:VEVENT
BEGIN:VEVENT
DTSTART;TZID=America/Los_Angeles:20250925T120000
DTEND;TZID=America/Los_Angeles:20250925T120000
DTSTAMP:20260419T183033
CREATED:20250905T070000Z
LAST-MODIFIED:20250925T231507Z
UID:10000146-1758801600-1758801600@events.ucsc.edu
SUMMARY:3 Intention-Setting Strategies to Unlock Greater Career Fulfillment and Success
DESCRIPTION:Join this energizing and interactive webinar designed to help you reconnect with your professional purpose and take the next step—whatever that looks like for you. Whether you’re exploring new paths\, navigating burnout\, or seeking more fulfillment\, this session offers tools and insights to spark clarity and confidence. \nHosted by UC Davis\, and open to UC alumni at all career stages.
URL:https://events.ucsc.edu/event/3-intention-setting-strategies-to-unlock-greater-career-fulfillment-and-success/
CATEGORIES:Lectures & Presentations
ATTACH;FMTTYPE=image/jpeg:https://events.ucsc.edu/wp-content/uploads/2025/09/1c1078e70581f843ced03932439a52767641d137.jpg
END:VEVENT
BEGIN:VEVENT
DTSTART;TZID=America/Los_Angeles:20250925T143000
DTEND;TZID=America/Los_Angeles:20250925T143000
DTSTAMP:20260419T183033
CREATED:20250924T213006Z
LAST-MODIFIED:20250924T213006Z
UID:10000125-1758810600-1758810600@events.ucsc.edu
SUMMARY:UCSC Politics Ph.D Program Info Session with Q&A
DESCRIPTION:Join us for an engaging information session about the UCSC Politics Ph.D. Program! \nThis is your chance to discover what makes our program unique\, hear from the Graduate Director and Coordinator\, and get answers to your burning questions. \nWhat to Expect: -Interactive Q&A session with the Graduate Director and Program Coordinator -Insights into our curriculum\, research opportunities\, and community -A chance to learn more about our admission FAQ \n https://ucsc.zoom.us/webinar/register/WN_BSb3WnesTaSB5-fYGT61vQ
URL:https://events.ucsc.edu/event/ucsc-politics-ph-d-program-info-session-with-qa/
END:VEVENT
BEGIN:VEVENT
DTSTART;TZID=America/Los_Angeles:20250926T180000
DTEND;TZID=America/Los_Angeles:20250926T180000
DTSTAMP:20260419T183033
CREATED:20250915T070000Z
LAST-MODIFIED:20250929T190711Z
UID:10000180-1758909600-1758909600@events.ucsc.edu
SUMMARY:Boardwalk Frolic 2025
DESCRIPTION:A beloved UCSC tradition\, Boardwalk Frolic gives students exclusive access to the Santa Cruz Beach Boardwalk. Tickets are $20 for new students (last 5 digits of your student ID required at checkout) and $30 for returning students. Admission includes unlimited rides (with 18 rides open)\, free arcade play in Casino Arcade\, Neptune’s Kingdom\, and Funland Arcade (excluding redemption games)\, as well as free mini golf\, laser tag\, Fright Walk\, and the laser maze. Each ticket also comes with a $10 MyBoardwalk Card valid for food\, games\, and retail\, plus free parking and bike valet.
URL:https://events.ucsc.edu/event/boardwalk-frolic-2025/
LOCATION:Santa Cruz Beach Boardwalk
ATTACH;FMTTYPE=image/jpeg:https://events.ucsc.edu/wp-content/uploads/2025/09/5029df6b24ce98614cbe38fb4a2b6f6fc794c5fd.jpg
GEO:36.9645218;-122.0192475
END:VEVENT
END:VCALENDAR