BEGIN:VCALENDAR
VERSION:2.0
PRODID:-//Events - ECPv6.15.20//NONSGML v1.0//EN
CALSCALE:GREGORIAN
METHOD:PUBLISH
X-WR-CALNAME:Events
X-ORIGINAL-URL:https://events.ucsc.edu
X-WR-CALDESC:Events for Events
REFRESH-INTERVAL;VALUE=DURATION:PT1H
X-Robots-Tag:noindex
X-PUBLISHED-TTL:PT1H
BEGIN:VTIMEZONE
TZID:America/Los_Angeles
BEGIN:DAYLIGHT
TZOFFSETFROM:-0800
TZOFFSETTO:-0700
TZNAME:PDT
DTSTART:20240310T100000
END:DAYLIGHT
BEGIN:STANDARD
TZOFFSETFROM:-0700
TZOFFSETTO:-0800
TZNAME:PST
DTSTART:20241103T090000
END:STANDARD
BEGIN:DAYLIGHT
TZOFFSETFROM:-0800
TZOFFSETTO:-0700
TZNAME:PDT
DTSTART:20250309T100000
END:DAYLIGHT
BEGIN:STANDARD
TZOFFSETFROM:-0700
TZOFFSETTO:-0800
TZNAME:PST
DTSTART:20251102T090000
END:STANDARD
BEGIN:DAYLIGHT
TZOFFSETFROM:-0800
TZOFFSETTO:-0700
TZNAME:PDT
DTSTART:20260308T100000
END:DAYLIGHT
BEGIN:STANDARD
TZOFFSETFROM:-0700
TZOFFSETTO:-0800
TZNAME:PST
DTSTART:20261101T090000
END:STANDARD
END:VTIMEZONE
BEGIN:VEVENT
DTSTART;TZID=America/Los_Angeles:20251002T110000
DTEND;TZID=America/Los_Angeles:20251002T110000
DTSTAMP:20260423T134502
CREATED:20250922T070000Z
LAST-MODIFIED:20250925T231708Z
UID:10000216-1759402800-1759402800@events.ucsc.edu
SUMMARY:CSE Colloquium: Enabling scalable GPU computing via efficient virtual memory systems
DESCRIPTION:Presenter: Hyeran Jeon\, UC Merced \nTitle: Enabling scalable GPU computing via efficient virtual memory systems \nAbstract: GPUs have become one of the most important accelerators of various emerging workloads. While the massive parallelism makes the GPUs one of the most favorable compute engines\, the limited on-device memory capacity hinders their wider adoption. Virtual memory systems have been helpful in transparently expanding memory space to host CPU memory and peer GPU memories\, as GPUs can access data through simple pointer sharing regardless of the physical location of that data. However\, as GPU architecture evolves and the volume of data increases significantly\, the virtual memory systems themselves become one of the critical performance bottlenecks. This talk will explore the perils and opportunities of virtual memory systems under emerging GPU architectures.\nThe first part of the talk will show that the limited IOMMU bandwidth is one of the primary performance limiters in multi-chip-module GPUs (MCM-GPUs) due to the increasing concurrency of multiple GPU chiplets. To fundamentally reduce the translation demands\, the talk will introduce a new way of page mapping that effectively replaces page-table-based virtual memory translations with simple calculation-based translations. The second part of the talk will focus on GPUs that have internal GMMUs. The talk will first show that naive GMMU translation bandwidth increase will incur significant area overhead. Then\, we show that one of the existing but highly underutilized accelerators integrated in the GPU die\, the ray tracing cores\, can be repurposed for virtual memory translation. \nBio: Hyeran Jeon is an associate professor at the University of California\, Merced. Hyeran's main research interests lie in high-performance\, energy-efficient\, and robust computer architecture and systems. Her research lab (MoCA Lab) has been sponsored by the government and industry\, including National Science Foundation\, California Energy Commission\, Xilinx\, NVIDIA\, and Ampere Computing. She earned her Ph.D. at the University of Southern California. She has industry experience as an intern at IBM T.J. Watson Research Center and AMD Research\, and as a systems software engineer at Samsung Electronics. She is a recipient of the NSF CAREER award and the USC Viterbi dean’s doctoral fellowship.  \nHosted by: Professor Mohsen Lesani \nLocation: Engineering 2\, E2-180\n*Refreshments such as coffee and pastries will be provided.
URL:https://events.ucsc.edu/event/cse-colloquium-enabling-scalable-gpu-computing-via-efficient-virtual-memory-systems/
LOCATION:Engineering 2\, Engineering 2 1156 High Street\, Santa Cruz\, CA\, 95064
CATEGORIES:Lectures & Presentations
ATTACH;FMTTYPE=image/jpeg:https://events.ucsc.edu/wp-content/uploads/2025/09/b56062924b51a96e16bab380e11a731acbcdae43.jpg
GEO:37.0009723;-122.0632371
X-APPLE-STRUCTURED-LOCATION;VALUE=URI;X-ADDRESS=Engineering 2 Engineering 2 1156 High Street Santa Cruz CA 95064;X-APPLE-RADIUS=500;X-TITLE=Engineering 2 1156 High Street:geo:-122.0632371,37.0009723
END:VEVENT
BEGIN:VEVENT
DTSTART;TZID=America/Los_Angeles:20251002T114000
DTEND;TZID=America/Los_Angeles:20251002T131500
DTSTAMP:20260423T134502
CREATED:20251001T230805Z
LAST-MODIFIED:20251001T230805Z
UID:10000419-1759405200-1759410900@events.ucsc.edu
SUMMARY:BME 280B Seminar: Computational Precision Health & Genomic Diversity
DESCRIPTION:Presenter: Dr. Alex Ioannidis\, BME Assistant Professor\, UCSC \nDescription: N/A \nBio: Alex Ioannidis graduated summa cum laude in Chemistry and Physics from Harvard and completed an M.Phil in Computational Biology in the Dept. of Applied Math & Theoretical Physics at Cambridge. He earned his Ph.D. in Computational & Mathematical Engineering at Stanford and M.S. in Mgt. Science & Engineering (Numerical Optimization concentration). Prior to this\, he worked on novel superconducting computing logic and quantum computing at Northrop Grumman (Advanced Technology Lab).\n\nAlex’s teachings has included machine learning algorithms and data science courses in the Institute for Computational & Mathematical Engineering (ICME) at Stanford\, AI in healthcare at Stanford Medical School\, and computational biology in the Dept. of Biomolecular Engineering (BME) at the University of California\, Santa Cruz. His research group focuses on computational techniques and deep learning methods for genomics & precision health with a particular focus on populations in Oceania and Latin America (spotlight article). \nHosted by: Professor Josh Stuart\, BME Department\n\nLocation: PSB-240
URL:https://events.ucsc.edu/event/bme-280b-seminar-computational-precision-health-genomic-diversity/
LOCATION:Physical Sciences Building\, Physical Sciences Building\, Santa Cruz\, CA\, 95064
CATEGORIES:Lectures & Presentations
ATTACH;FMTTYPE=image/png:https://events.ucsc.edu/wp-content/uploads/2025/10/Screenshot-2025-10-01-at-3.58.00-PM.png
GEO:36.9996638;-122.0618552
X-APPLE-STRUCTURED-LOCATION;VALUE=URI;X-ADDRESS=Physical Sciences Building Physical Sciences Building Santa Cruz CA 95064;X-APPLE-RADIUS=500;X-TITLE=Physical Sciences Building:geo:-122.0618552,36.9996638
END:VEVENT
BEGIN:VEVENT
DTSTART;TZID=America/Los_Angeles:20251002T133000
DTEND;TZID=America/Los_Angeles:20251002T133000
DTSTAMP:20260423T134502
CREATED:20251003T195522Z
LAST-MODIFIED:20251003T195522Z
UID:10003136-1759411800-1759411800@events.ucsc.edu
SUMMARY:How to Validate AI Product Ideas and Build a Defensible MVP
DESCRIPTION:93% of US companies plan to increase their AI investments; but 80% of AI projects fail. Countless “cool” demos crash and burn; not because the technology failed\, but because they solved the wrong problem. In this lesson\, we lay out a proven playbook with 5 tactical steps\, each a mindset shift or critical decision point\, to validate AI product ideas and build towards defensible MVP. In this invited talk\, you will learn: \nThe "AI Product Opportunity Canvas" \nA proprietary framework to assess AI product ideas\, inspired by proven processes from Google and successful AI labs \n5-Step Playbook to Land an AI-Native MVP \nHow to evaluate user problems\, craft a compelling AI-native value proposition\, design for data and defensibility \nReal AI-Native Product Success Cases \nHow AI product leaders and founders are finding the market niche in industries such as healthcare\, legal and finance \nHow to Build Fast Feedback Loops with User and Human Evals \nHow to set up tight user feedback loops and leverage Human-in-the-Loop (HITL) as your secret validation weapon \nInvited Speaker: Roger Jin \nex-Product Lead @Google DeepMind\, 2x Founder\, AI Strategy Coach \nRoger is an ICF-certified coach and a seasoned product leader who has operated at the frontier of AI development and in the trenches of building venture-backed companies. \nAs Head of Product at Google DeepMind\, Roger was a founding member of the product team that launched Gemini\, Google's flagship generative AI product. Before that\, Roger led product teams at Amazon Alexa\, pushing the boundaries of customer experience for millions of users.  \nRoger has also co-founded two AI startups\, raising over $20M in venture capital and scaling them to a combined $80M+ in annual revenue. He is a graduate of Carnegie Mellon University.
URL:https://events.ucsc.edu/event/how-to-validate-ai-product-ideas-and-build-a-defensible-mvp-2/
LOCATION:Social Sciences 1\, Social Sciences 1\, Santa Cruz\, CA\, 95064
CATEGORIES:Lectures & Presentations
GEO:37.0023717;-122.0580874
X-APPLE-STRUCTURED-LOCATION;VALUE=URI;X-ADDRESS=Social Sciences 1 Social Sciences 1 Santa Cruz CA 95064;X-APPLE-RADIUS=500;X-TITLE=Social Sciences 1:geo:-122.0580874,37.0023717
END:VEVENT
BEGIN:VEVENT
DTSTART;TZID=America/Los_Angeles:20251002T133000
DTEND;TZID=America/Los_Angeles:20251002T143000
DTSTAMP:20260423T134502
CREATED:20250923T070000Z
LAST-MODIFIED:20251002T182432Z
UID:10000219-1759411800-1759415400@events.ucsc.edu
SUMMARY:How to Validate AI Product Ideas and Build a Defensible MVP
DESCRIPTION:93% of US companies plan to increase their AI investments; but 80% of AI projects fail. Countless “cool” demos crash and burn; not because the technology failed\, but because they solved the wrong problem. In this lesson\, we lay out a proven playbook with 5 tactical steps\, each a mindset shift or critical decision point\, to validate AI product ideas and build towards defensible MVP. In this invited talk\, you will learn: \nThe “AI Product Opportunity Canvas” \nA proprietary framework to assess AI product ideas\, inspired by proven processes from Google and successful AI labs \n5-Step Playbook to Land an AI-Native MVP \nHow to evaluate user problems\, craft a compelling AI-native value proposition\, design for data and defensibility \nReal AI-Native Product Success Cases \nHow AI product leaders and founders are finding the market niche in industries such as healthcare\, legal and finance \nHow to Build Fast Feedback Loops with User and Human Evals \nHow to set up tight user feedback loops and leverage Human-in-the-Loop (HITL) as your secret validation weapon \nInvited Speaker: Roger Jin \nex-Product Lead @Google DeepMind\, 2x Founder\, AI Strategy Coach \nRoger is an ICF-certified coach and a seasoned product leader who has operated at the frontier of AI development and in the trenches of building venture-backed companies. \nAs Head of Product at Google DeepMind\, Roger was a founding member of the product team that launched Gemini\, Google’s flagship generative AI product. Before that\, Roger led product teams at Amazon Alexa\, pushing the boundaries of customer experience for millions of users. \nRoger has also co-founded two AI startups\, raising over $20M in venture capital and scaling them to a combined $80M+ in annual revenue. He is a graduate of Carnegie Mellon University. \nLocation: Social Science\, Room 110
URL:https://events.ucsc.edu/event/how-to-validate-ai-product-ideas-and-build-a-defensible-mvp/
LOCATION:Social Sciences 1\, Social Sciences 1\, Santa Cruz\, CA\, 95064
CATEGORIES:Lectures & Presentations
ATTACH;FMTTYPE=image/jpeg:https://events.ucsc.edu/wp-content/uploads/2025/09/9e73b5bf30ed803362fce6913c651f32384a766c.jpg
GEO:37.0023717;-122.0580874
X-APPLE-STRUCTURED-LOCATION;VALUE=URI;X-ADDRESS=Social Sciences 1 Social Sciences 1 Santa Cruz CA 95064;X-APPLE-RADIUS=500;X-TITLE=Social Sciences 1:geo:-122.0580874,37.0023717
END:VEVENT
BEGIN:VEVENT
DTSTART;TZID=America/Los_Angeles:20251002T173000
DTEND;TZID=America/Los_Angeles:20251002T190000
DTSTAMP:20260423T134502
CREATED:20250917T070000Z
LAST-MODIFIED:20251002T202915Z
UID:10000192-1759426200-1759431600@events.ucsc.edu
SUMMARY:Dismantling the Deportation Machine...
DESCRIPTION:Dismantling the Deportation Machine: A Conversation on Migration\, Expulsion\, and Xenophobia \nJoin Carlos Martinez as he moderates a powerful discussion with Megan Carney\, Heide Castañeda\, and Gilberto Rosas on the urgent U.S. and global trends shaping the politics of migration\, deportation\, and xenophobia.  \nAs authoritarianism and xenophobia intensify globally\, this distinguished panel will offer critical insights into the shifting terrain of border enforcement\, deportation policies\, and immigrant solidarity. Bringing together diverse expertise\, the speakers will help us make sense of how these dynamics are unfolding both at home and across the world. In conversation\, they will not only examine the harms of exclusionary policies and hateful rhetoric but also highlight strategies and practices of resistance\, care\, and collective organizing.  \nThese scholars are coming together to support the development of Carlos Martinez’s in-progress manuscript\, Captive States: Migration and Expulsion on the Carceral Frontier. This event and subsequent workshop are sponsored by the Institute for Social Transformation’s Emerging Scholar Manuscript Workshops. \n\nDr. Megan Carney\, Associate Professor of Anthropology at University of Arizona\, Invited Scholar\nDr. Heide Castañeda\, Professor of Anthropology at the University of South Florida\, Invited Scholar\nDr. Gilberto Rosas\, Chair & Professor\, Latina/Latino Studies\, Professor of Anthropology\, Professor of Unit for Criticism and Interpretive Theory at the University of Illinois Urbana-Champaign\n\nDon’t miss this chance to engage with leading voices at the forefront of one of the most urgent conversations of our time. \n 
URL:https://events.ucsc.edu/event/dismantling-the-deportation-machine-a-conversation-on-migration-expulsion-and-xenophobia/
LOCATION:Bay Tree Building\, Student Union\, Santa Cruz\, CA\, 95064\, United States
CATEGORIES:Lectures & Presentations
ATTACH;FMTTYPE=image/jpeg:https://events.ucsc.edu/wp-content/uploads/2025/09/6b1fc00cc4417c2550c9069cc5dbebdfd64c539f.jpg
GEO:36.997868;-122.0559724
X-APPLE-STRUCTURED-LOCATION;VALUE=URI;X-ADDRESS=Bay Tree Building Student Union Santa Cruz CA 95064 United States;X-APPLE-RADIUS=500;X-TITLE=Student Union:geo:-122.0559724,36.997868
END:VEVENT
BEGIN:VEVENT
DTSTART;TZID=America/Los_Angeles:20251003T120000
DTEND;TZID=America/Los_Angeles:20251003T170000
DTSTAMP:20260423T134502
CREATED:20251003T174320Z
LAST-MODIFIED:20251003T192055Z
UID:10000719-1759492800-1759510800@events.ucsc.edu
SUMMARY:Road Trip! Light in the American West\, from Baja to the Yukon
DESCRIPTION:The photographs in this exhibition\, made between 2004 and 2025\, span across the American West from the Baja California Peninsula in Mexico to The Yukon territory in Canada. Paul Schoellhamer’s (Cowell ‘69) color photographs invite us to travel with him and reflect on our relationship to land\, the light that shapes it\, and the freedom – contested but essential – to move across it. \nThe exhibition draws on voices across time and perspective that frame the American landscape as more than a stage for beauty and awe. For Chief Satanta of the Kiowa Nation\, to roam the land freely was life itself. For N. Scott Momaday\, land must be “believed to be seen.” For Eliot Porter\, light and reflection imparted magic to Glen Canyon’s waters. For Wallace Stegner\, saving natural places meant saving fragments of our collective sanity. For Brook M. Thompson\, the Klamath River is recognized with personhood. Alongside these perspectives\, Paul’s images press us to see public land not as scenery to extract or aestheticize\, but as sustenance and history. Land is alive and contested. To see closely is not to linger on a romanticized vision of the American landscape\, but to reckon with responsibility: how we safeguard access\, how we imagine “wildness\,” and how we hold space for futures beyond our own. For Paul\, this exhibition is a call for students to encounter land and light firsthand and let those encounters be their teachers. \nOpening Reception\nOctober 4\, 2025\n1-4pm \n—– \nJoin us every Friday for Art Fridays.\nNo experience necessary. Supplies and snacks provided. \n\nSep 26 Snail Mail/Postcards\nOct 3 Souvenir Keychains\nOct 10 Stamp Magnets\nOct 17 Cyanotype Totebags/Pouches/Pencil cases\nOct 24 Candy Around The World Linocuts\nOct 31 Abstract Felt Collages\nNov 7 Phone Photos/Buttons\nNov 14 Travel Related Patches With Upcycled Materials\nNov 21 Thanksgiving Break! No Art Friday\nNov 28 Unexpected Landscape Surrealist Collage\n\nPlease note that the date and the project is subject to change.
URL:https://events.ucsc.edu/event/road-trip-light-in-the-american-west-from-baja-to-the-yukon/2025-10-03/
LOCATION:Eloise Pickard Smith Gallery\, 11 Cowell Service Rd\, Santa Cruz\, CA\, 95064
CATEGORIES:Exhibits
ATTACH;FMTTYPE=image/png:https://events.ucsc.edu/wp-content/uploads/2025/10/IMG_4150sm.png
GEO:36.996399;-122.0527221
X-APPLE-STRUCTURED-LOCATION;VALUE=URI;X-ADDRESS=Eloise Pickard Smith Gallery 11 Cowell Service Rd Santa Cruz CA 95064;X-APPLE-RADIUS=500;X-TITLE=11 Cowell Service Rd:geo:-122.0527221,36.996399
END:VEVENT
BEGIN:VEVENT
DTSTART;TZID=America/Los_Angeles:20251003T123000
DTEND;TZID=America/Los_Angeles:20251003T123000
DTSTAMP:20260423T134502
CREATED:20250905T070000Z
LAST-MODIFIED:20250925T231639Z
UID:10000147-1759494600-1759494600@events.ucsc.edu
SUMMARY:Environmental Health and Justice: Successes and Future Challenges
DESCRIPTION:Join UCSC's Microbiology & Environmental Toxicology Department and the Global and Community Health Program for this special symposium!   \nSee agenda here.  \nPlease join us for this collaborative\, interdisciplinary symposium to highlight and celebrate the important work being done in Global and Community Health at UC Santa Cruz. The symposium will feature talks on environmental determinants of health by faculty\, graduate students\, and undergraduates. Community speaker\, Brian Roeder of the Never Again Moss Landing community group that formed in response to the Vistra Moss Landing Battery Fire will speak as well as environmental health luminary keynote speaker\, Brenda Eskenazi from UC Berkeley. \nPlease join us for a reception at 6:00 – 7:30 PM. \nCo-sponsored by the METX Department and Global and Community Health Program
URL:https://events.ucsc.edu/event/environmental-health-and-justice-successes-and-future-challenges/
LOCATION:Stevenson Event Center\, Stevenson Service Road\, Santa Cruz\, CA\, 95064
CATEGORIES:Lectures & Presentations,Meetings & Conferences
ATTACH;FMTTYPE=image/jpeg:https://events.ucsc.edu/wp-content/uploads/2025/09/a683aa3f273fb9e7b11b015532eebe74f8b31469.jpg
GEO:36.996897;-122.0512963
X-APPLE-STRUCTURED-LOCATION;VALUE=URI;X-ADDRESS=Stevenson Event Center Stevenson Service Road Santa Cruz CA 95064;X-APPLE-RADIUS=500;X-TITLE=Stevenson Service Road:geo:-122.0512963,36.996897
END:VEVENT
BEGIN:VEVENT
DTSTART;TZID=America/Los_Angeles:20251003T130000
DTEND;TZID=America/Los_Angeles:20251003T130000
DTSTAMP:20260423T134502
CREATED:20250829T070000Z
LAST-MODIFIED:20250930T202339Z
UID:10000138-1759496400-1759496400@events.ucsc.edu
SUMMARY:Envisioning HSI: Nurturing Sustainable Institutional Change
DESCRIPTION:Join the HSI Initiatives Team for an afternoon of reflection\, collaboration\, and community at UC Santa Cruz’s Fall 2025 Envisioning HSI Session. As a Hispanic-Serving Research Institution\, UCSC is committed to creating sustainable systems and structures that strengthen our mission in research\, teaching\, and service. \n\n\nThis session will bring together changemakers from across campus to nurture shared strengths\, explore opportunities\, and co-create pathways for collective action. \n\n\nDate: Friday\, Oct. 3\, 2025 (RSVP by Sept. 26) \n\nTime: 1:00–4:30 PM (doors open at 12:45 PM with a special performance by Mariachi Eterno de UCSC) \n\nLocation: Nine/Lewis College Multi-Purpose Room \n\n\nThe event will conclude with a brief reception featuring performances by Grupo Folklórico Los Mejicas.
URL:https://events.ucsc.edu/event/fall-2025-envisioning-hsi-session-nurturing-sustainable-institutional-change/
LOCATION:Colleges Nine and John R. Lewis College Multi-purpose Room\, 615 College Nine Road\, Santa Cruz\, CA\, 95064
CATEGORIES:Meetings & Conferences
ATTACH;FMTTYPE=image/jpeg:https://events.ucsc.edu/wp-content/uploads/2025/09/4ef8783c0fb7032b79d809e649ccdddf355e6c6f.jpg
GEO:37.0009703;-122.0577323
X-APPLE-STRUCTURED-LOCATION;VALUE=URI;X-ADDRESS=Colleges Nine and John R. Lewis College Multi-purpose Room 615 College Nine Road Santa Cruz CA 95064;X-APPLE-RADIUS=500;X-TITLE=615 College Nine Road:geo:-122.0577323,37.0009703
END:VEVENT
BEGIN:VEVENT
DTSTART;TZID=America/Los_Angeles:20251003T173000
DTEND;TZID=America/Los_Angeles:20251003T173000
DTSTAMP:20260423T134502
CREATED:20250924T212202Z
LAST-MODIFIED:20250924T212202Z
UID:10000078-1759512600-1759512600@events.ucsc.edu
SUMMARY:The NEXTies: Earth & Sea
DESCRIPTION:Get ready for an unforgettable evening at our NEXTies spin off event: The NEXTies Earth: & Sea! Join us for a night of celebration\, featuring delicious drinks\, captivating performances\, and the presentation of awards to the environmental pioneers who’ve made Santa Cruz a leader in climate resilience. From innovative waste reduction solutions to groundbreaking scientific achievements\, it’s time to recognize the progress we’ve made. \nEnjoy food and drinks available for purchase\, live music\, and awards that highlight the incredible work of our local community. This is a dressy event\, so wear that outfit you’ve been waiting to debut and bring a jacket to enjoy the stunning ocean views from our terrace. We can’t wait to see you on the red carpet!
URL:https://events.ucsc.edu/event/the-nexties-earth-sea/
LOCATION:Seymour Marine Discovery Center\, 100 McAllister Way\, Santa Cruz\, CA\, 95060
CATEGORIES:Exhibits,Fundraisers,Performances
GEO:36.9495746;-122.0645023
X-APPLE-STRUCTURED-LOCATION;VALUE=URI;X-ADDRESS=Seymour Marine Discovery Center 100 McAllister Way Santa Cruz CA 95060;X-APPLE-RADIUS=500;X-TITLE=100 McAllister Way:geo:-122.0645023,36.9495746
END:VEVENT
BEGIN:VEVENT
DTSTART;TZID=America/Los_Angeles:20251003T200000
DTEND;TZID=America/Los_Angeles:20251003T220000
DTSTAMP:20260423T134502
CREATED:20251001T231221Z
LAST-MODIFIED:20251003T163103Z
UID:10000420-1759521600-1759528800@events.ucsc.edu
SUMMARY:Movie on the Lawn
DESCRIPTION:As Slug Start continues\, join us for a cozy evening under the stars on Oakes Lawn at 8 PM with a screening of Us. Kick back with free popcorn\, candy\, and plenty of other snacks while you enjoy the film. It’s a fun\, laid-back way to relax\, connect\, and meet your fellow Slugs. \n  \nYou Belong Here: The programs and services described here are open to all\, consistent with state and federal law\, as well as the University of California’s nondiscrimination policies. Every initiative—whether a student service\, faculty program\, or community event—is designed to be accessible\, inclusive\, and respectful of all identities. \nTo learn more\, please visit UC Nondiscrimination Statement or Nondiscrimination Policy for UC Publications.
URL:https://events.ucsc.edu/event/movie-on-the-lawn/
LOCATION:Oakes Lower Lawn\, Oakes College\, Santa Cruz\, CA\, 95064
ATTACH;FMTTYPE=image/jpeg:https://events.ucsc.edu/wp-content/uploads/2025/10/Slug-Start-Post-7-e1759425897852.jpg
GEO:36.988357;-122.062877
X-APPLE-STRUCTURED-LOCATION;VALUE=URI;X-ADDRESS=Oakes Lower Lawn Oakes College Santa Cruz CA 95064;X-APPLE-RADIUS=500;X-TITLE=Oakes College:geo:-122.062877,36.988357
END:VEVENT
END:VCALENDAR