BEGIN:VCALENDAR
VERSION:2.0
PRODID:-//Events - ECPv6.15.20//NONSGML v1.0//EN
CALSCALE:GREGORIAN
METHOD:PUBLISH
X-WR-CALNAME:Events
X-ORIGINAL-URL:https://events.ucsc.edu
X-WR-CALDESC:Events for Events
REFRESH-INTERVAL;VALUE=DURATION:PT1H
X-Robots-Tag:noindex
X-PUBLISHED-TTL:PT1H
BEGIN:VTIMEZONE
TZID:America/Los_Angeles
BEGIN:DAYLIGHT
TZOFFSETFROM:-0800
TZOFFSETTO:-0700
TZNAME:PDT
DTSTART:20250309T100000
END:DAYLIGHT
BEGIN:STANDARD
TZOFFSETFROM:-0700
TZOFFSETTO:-0800
TZNAME:PST
DTSTART:20251102T090000
END:STANDARD
BEGIN:DAYLIGHT
TZOFFSETFROM:-0800
TZOFFSETTO:-0700
TZNAME:PDT
DTSTART:20260308T100000
END:DAYLIGHT
BEGIN:STANDARD
TZOFFSETFROM:-0700
TZOFFSETTO:-0800
TZNAME:PST
DTSTART:20261101T090000
END:STANDARD
BEGIN:DAYLIGHT
TZOFFSETFROM:-0800
TZOFFSETTO:-0700
TZNAME:PDT
DTSTART:20270314T100000
END:DAYLIGHT
BEGIN:STANDARD
TZOFFSETFROM:-0700
TZOFFSETTO:-0800
TZNAME:PST
DTSTART:20271107T090000
END:STANDARD
END:VTIMEZONE
BEGIN:VEVENT
DTSTART;TZID=America/Los_Angeles:20260427T153000
DTEND;TZID=America/Los_Angeles:20260427T170000
DTSTAMP:20260421T133606
CREATED:20260420T181243Z
LAST-MODIFIED:20260420T181243Z
UID:10013623-1777303800-1777309200@events.ucsc.edu
SUMMARY:This has a name: Witchcraft\, suspicion\, and circumlocution in Central Angola
DESCRIPTION:Anthropology Colloquium with Iracema Dulley \nAbout the talk:  The literature on witchcraft has focused predominantly on the accusation of witches\, the procedures for establishing guilt\, and the effects thereof. However\, during my fieldwork in Central Angola\, I did not encounter processes of accusation but rather a prevailing mood of unresolved suspicion. Drawing on ethnographic research conducted between 2014 and 2019\, this paper theorizes the relationship between witchcraft and suspicion by examining the micro level of social interactions in which witchcraft narratives emerge. It explores how suspicion operates through circumlocution and tautology\, arguing that it thrives on indeterminacy\, doubt\, and suspended indication—elements that structure the dialectic between the general and the particular in witchcraft. This tension allows the relationship between witchcraft and witches to remain open\, conditioned not only by social conventions of plausibility and hierarchical relations that position witches and sorcerers but also by the contingencies of how these conventions are enacted in specific interactions \nAbout the speaker: Iracema Dulley is an anthropologist\, psychoanalyst\, and creative writer whose work explores how subjects are formed through the entanglement between language\, power\, and the body. She is the author of monographs On the Emic Gesture (Routledge\, 2019)\, Os nomes dos outros (Humanitas\, 2015)\, and Deus é feiticeiro (Annablume\, 2010)\, and her essays have appeared in HAU: Journal of Ethnographic Theory\, Social Analysis\, Comparative Studies in Society and History\, European Journal of Psychoanalysis\, and Africa. She is currently based at the Institute of Social Sciences of the University of Lisbon.
URL:https://events.ucsc.edu/event/this-has-a-name-witchcraft-suspicion-and-circumlocution-in-central-angola/
LOCATION:Social Sciences 1\, Social Sciences 1\, Santa Cruz\, CA\, 95064
CATEGORIES:Lectures & Presentations
ATTACH;FMTTYPE=image/jpeg:https://events.ucsc.edu/wp-content/uploads/2026/04/a-caminho-do-katchiungo-2-scaled.jpg
GEO:37.0023717;-122.0580874
X-APPLE-STRUCTURED-LOCATION;VALUE=URI;X-ADDRESS=Social Sciences 1 Social Sciences 1 Santa Cruz CA 95064;X-APPLE-RADIUS=500;X-TITLE=Social Sciences 1:geo:-122.0580874,37.0023717
END:VEVENT
END:VCALENDAR