BEGIN:VCALENDAR
VERSION:2.0
PRODID:-//Events - ECPv6.15.20//NONSGML v1.0//EN
CALSCALE:GREGORIAN
METHOD:PUBLISH
X-WR-CALNAME:Events
X-ORIGINAL-URL:https://events.ucsc.edu
X-WR-CALDESC:Events for Events
REFRESH-INTERVAL;VALUE=DURATION:PT1H
X-Robots-Tag:noindex
X-PUBLISHED-TTL:PT1H
BEGIN:VTIMEZONE
TZID:America/Los_Angeles
BEGIN:DAYLIGHT
TZOFFSETFROM:-0800
TZOFFSETTO:-0700
TZNAME:PDT
DTSTART:20250309T100000
END:DAYLIGHT
BEGIN:STANDARD
TZOFFSETFROM:-0700
TZOFFSETTO:-0800
TZNAME:PST
DTSTART:20251102T090000
END:STANDARD
BEGIN:DAYLIGHT
TZOFFSETFROM:-0800
TZOFFSETTO:-0700
TZNAME:PDT
DTSTART:20260308T100000
END:DAYLIGHT
BEGIN:STANDARD
TZOFFSETFROM:-0700
TZOFFSETTO:-0800
TZNAME:PST
DTSTART:20261101T090000
END:STANDARD
BEGIN:DAYLIGHT
TZOFFSETFROM:-0800
TZOFFSETTO:-0700
TZNAME:PDT
DTSTART:20270314T100000
END:DAYLIGHT
BEGIN:STANDARD
TZOFFSETFROM:-0700
TZOFFSETTO:-0800
TZNAME:PST
DTSTART:20271107T090000
END:STANDARD
END:VTIMEZONE
BEGIN:VEVENT
DTSTART;TZID=America/Los_Angeles:20260430T170000
DTEND;TZID=America/Los_Angeles:20260430T183000
DTSTAMP:20260425T041413
CREATED:20260408T220558Z
LAST-MODIFIED:20260408T221505Z
UID:10012084-1777568400-1777573800@events.ucsc.edu
SUMMARY:Your Next Degree: Business School
DESCRIPTION:Is business school the right next step for you? This webinar will feature admissions representatives from UCLA Anderson School of Management and other UC programs\, offering an inside look at the application process\, admissions requirements\, and the range of business degrees available. \nDesigned for alumni at any stage of exploration\, this session will help you assess whether business school aligns with your goals\, understand the value it can bring to your career\, and determine the right timing to apply. The session will conclude with a live Q&A\, giving you the opportunity to ask questions directly to admissions professionals. \nThis program\, hosted by UCLA\, is open to alumni from all UC campuses. \nWebsite for additional information \nRegistration link 
URL:https://events.ucsc.edu/event/your-next-degree-business-school/
ATTACH;FMTTYPE=image/jpeg:https://events.ucsc.edu/wp-content/uploads/2026/04/cropped-image-11.jpg
END:VEVENT
BEGIN:VEVENT
DTSTART;TZID=America/Los_Angeles:20260430T173000
DTEND;TZID=America/Los_Angeles:20260430T193000
DTSTAMP:20260425T041413
CREATED:20260323T234049Z
LAST-MODIFIED:20260323T234540Z
UID:10011363-1777570200-1777577400@events.ucsc.edu
SUMMARY:Slugs at Sundown: CEO of Your Own Career
DESCRIPTION:Tired of the dreaded question\, “So\, what do you do?” Join us for a high-impact session designed to help you ditch the “humble brag” and start speaking like the CEO of your career. Our alumna career coach will guide you through a “Marketing Mindset” workshop\, using timed journaling and a proven three-part formula to help you craft a powerful statement of your professional impact. You won’t just leave with a draft—you’ll have the chance to test-drive your new narrative immediately during our networking portion. Whether you’re leveling up or pivoting\, come gain the confidence to own your value in a supportive\, low-pressure environment. \nThursday\, April 30 \n5:30 – 5:45 p.m. | Check-in\n5:45 – 6:45 p.m. | Welcome\, Presentation\, Q&A\n6:45 – 7:30 p.m. | Networking \nThis workshop will be presented by Megan Rees (Porter ’99). Megan is a therapist\, coach\, and workplace consultant with nearly 20 years of experience helping people communicate more clearly and work better together. After studying theater at UC Santa Cruz\, she earned a master’s degree in drama therapy at NYU\, combining psychology\, storytelling\, and performance to help people better understand themselves and each other. Megan works with individuals\, leaders\, and teams to clarify their narrative\, strengthen their professional presence\, and build the trust and communication that sup11port collaboration and innovation. \nPlease register to confirm your attendance.
URL:https://events.ucsc.edu/event/slugs-at-sundown-ceo-of-your-own-career/
LOCATION:Silicon Valley Campus\, 3175 Bowers Avenue\, Santa Clara\, CA\, 95054\, United States
CATEGORIES:Lectures & Presentations,Workshop
ATTACH;FMTTYPE=image/jpeg:https://events.ucsc.edu/wp-content/uploads/2026/01/SAMMY-SLUGS-SUNDOWN_BANNER_1600x600-copy.jpg
GEO:37.3796975;-121.9765484
X-APPLE-STRUCTURED-LOCATION;VALUE=URI;X-ADDRESS=Silicon Valley Campus 3175 Bowers Avenue Santa Clara CA 95054 United States;X-APPLE-RADIUS=500;X-TITLE=3175 Bowers Avenue:geo:-121.9765484,37.3796975
END:VEVENT
BEGIN:VEVENT
DTSTART;TZID=America/Los_Angeles:20260513T130000
DTEND;TZID=America/Los_Angeles:20260513T140000
DTSTAMP:20260425T041413
CREATED:20260421T230152Z
LAST-MODIFIED:20260421T230152Z
UID:10013964-1778677200-1778680800@events.ucsc.edu
SUMMARY:Thriving in Transition: A Mental Fitness Toolkit for What's Next
DESCRIPTION:Life After Graduation Series \nHosted by UC Davis\, open to recent alumni and rising seniors of all UC campuses. \nThe Cal Aggie Alumni Association is kicking off its Life After Graduation Series with an engaging virtual session\, “Thriving in Transition\,” on Wednesday\, May 13 at 1 p.m. (Pacific Time). \nThe transition from college to post-graduate life can bring both opportunity and uncertainty. Without the structure of academic life\, many graduates face new pressures related to job searching\, career decisions\, and navigating change. \nThis session introduces the concept of mental fitness – the capacity to respond to challenges with clarity\, resilience\, and intention. Through practical\, accessible techniques\, participants will learn how to manage stress\, regulate emotions\, and strengthen focus during this period of transition. Attendees will leave with tools they can apply immediately to support their wellbeing and sustain momentum as they move into their next chapter. \nLearning Objectives \n\nDefine mental fitness and its role in personal and professional success\nRecognize common stressors and emotional patterns during post-graduate transitions\nPractice techniques to manage stress and increase emotional regulation\nStrengthen focus\, motivation\, and adaptability during periods of uncertainty\nDevelop habits that support long-term resilience and wellbeing\n\nLEARN MORE & REGISTER
URL:https://events.ucsc.edu/event/thriving-in-transition-a-mental-fitness-toolkit-for-whats-next/
CATEGORIES:Lectures & Presentations
ATTACH;FMTTYPE=image/png:https://events.ucsc.edu/wp-content/uploads/2026/04/LAGS-2026_Thriving-in-Transition.png
END:VEVENT
BEGIN:VEVENT
DTSTART;TZID=America/Los_Angeles:20260630T120000
DTEND;TZID=America/Los_Angeles:20260630T130000
DTSTAMP:20260425T041413
CREATED:20260421T230439Z
LAST-MODIFIED:20260421T230439Z
UID:10013963-1782820800-1782824400@events.ucsc.edu
SUMMARY:From Diploma to Dollars: Money Matters for New Alumni
DESCRIPTION:Life After Graduation Series \nHosted by UC Davis\, open to recent alumni and rising seniors of all UC campuses. \nJoin the Cal Aggie Alumni Association for another session in the Life After Graduation Series\, “From Diploma to Dollars: Money Matters for New Alumni\,” on Tuesday\, June 30 at 12:00 p.m. (Pacific Time). \nGraduation is behind you—now it’s time to take charge of your finances. From new careers and paychecks to bills and major financial decisions\, this transition can feel overwhelming. This session will help you build confidence navigating budgeting\, debt\, benefits\, and financial priorities. Walk away with practical tools and smart habits to support long-term stability and success. \nLEARN MORE & REGISTER \n 
URL:https://events.ucsc.edu/event/from-diploma-to-dollars-money-matters-for-new-alumni/
CATEGORIES:Lectures & Presentations
ATTACH;FMTTYPE=image/png:https://events.ucsc.edu/wp-content/uploads/2026/04/LIFE-AFTER-GRAD-Diploma-to-Dollars.png
END:VEVENT
BEGIN:VEVENT
DTSTART;TZID=America/Los_Angeles:20260714T130000
DTEND;TZID=America/Los_Angeles:20260714T140000
DTSTAMP:20260425T041413
CREATED:20260421T205533Z
LAST-MODIFIED:20260421T230400Z
UID:10013959-1784034000-1784037600@events.ucsc.edu
SUMMARY:Post Grad Job Search: Build a Standout Resume with AI
DESCRIPTION:Life After Graduation Series \nHosted by UC Davis and COOP Careers\, open to recent alumni and rising seniors of all UC campuses. \nJoin the Cal Aggie Alumni Association for another session in the Life After Graduation Series\, “Post-Grad Job Search: Build a Standout Resume with AI\,” presented by COOP Careers\, on Tuesday\, July 14 at 1:00 p.m. (Pacific Time). \nThis hands-on session is designed specifically for recent graduates navigating the post-college job search. \nLearn how to combine the efficiency of AI with the authenticity of your personal story to create a resume that feels both polished and personal. Whether you’re applying for your first full-time role or actively exploring early career opportunities\, you’ll leave with practical tools you can use immediately. \nIn this session\, you will learn how to: \n\nLeverage AI tools strategically to generate\, refine\, and tailor resume content for entry-level roles\nTranslate academic and professional experiences into compelling\, results-oriented resume bullet points\nApply best practices in resume formatting and storytelling to create a polished\, industry-ready resume\nUse AI to customize resumes for specific job descriptions\nBonus (if time permits): Use AI as a support tool for interview preparation\, including generating practice questions and crafting strong responses\n\nREGISTER HERE
URL:https://events.ucsc.edu/event/life-after-graduation-series-post-grad-job-search-build-a-standout-resume-with-ai/
CATEGORIES:Workshop
ATTACH;FMTTYPE=image/png:https://events.ucsc.edu/wp-content/uploads/2026/04/Life-after-Grad-resume.png
END:VEVENT
BEGIN:VEVENT
DTSTART;TZID=America/Los_Angeles:20260715T120000
DTEND;TZID=America/Los_Angeles:20260715T130000
DTSTAMP:20260425T041413
CREATED:20260421T224609Z
LAST-MODIFIED:20260421T230537Z
UID:10013961-1784116800-1784120400@events.ucsc.edu
SUMMARY:A New Graduate's Guide to Investing
DESCRIPTION:Life After Graduation Series \nHosted by UC Davis\, open to recent alumni and rising seniors of all UC campuses. \nJoin the Cal Aggie Alumni Association for another session in the Life After Graduation Series\, “A New Graduate’s Guide to Investing\,” on Wednesday\, July 15 at 12:00 p.m. (Pacific Time). \nThis practical workshop is designed to help new alumni understand how investing can support their short- and long-term financial goals. Participants will learn the fundamentals of investing—including risk\, diversification\, and how to get started—so they can build confidence and make informed decisions early in their post-graduation journey. \nLEARN MORE & REGISTER \n  \n 
URL:https://events.ucsc.edu/event/life-after-graduation-series-a-new-graduates-guide-to-investing/
CATEGORIES:Workshop
ATTACH;FMTTYPE=image/png:https://events.ucsc.edu/wp-content/uploads/2026/04/LIFE-AFTER-GRAD-Investing.png
END:VEVENT
BEGIN:VEVENT
DTSTART;TZID=America/Los_Angeles:20260814T000000
DTEND;TZID=America/Los_Angeles:20260816T235959
DTSTAMP:20260425T041413
CREATED:20251007T185854Z
LAST-MODIFIED:20251007T191723Z
UID:10004383-1786665600-1786924799@events.ucsc.edu
SUMMARY:Return to the Redwoods 2026
DESCRIPTION:Get ready to Return to the Redwoods! Reconnect with friends\, family\, and fellow alumni as you explore the beauty of UC Santa Cruz. From the kick-off party and Stars & S’mores to hikes\, workshops\, and family-friendly fun\, this weekend offers something for everyone. \nTicket\, housing\, and registration details will be shared in early 2026—stay tuned! \nYou won’t want to miss it.
URL:https://events.ucsc.edu/event/return-to-the-redwoods-2026/
LOCATION:John R. Lewis College\, College Ten Road\, Santa Cruz\, CA\, 95064
ATTACH;FMTTYPE=image/png:https://events.ucsc.edu/wp-content/uploads/2025/10/RTR-Featured-Event-Image.png
GEO:37.0010882;-122.0590383
X-APPLE-STRUCTURED-LOCATION;VALUE=URI;X-ADDRESS=John R. Lewis College College Ten Road Santa Cruz CA 95064;X-APPLE-RADIUS=500;X-TITLE=College Ten Road:geo:-122.0590383,37.0010882
END:VEVENT
END:VCALENDAR